Workbook
Name __xlfn_SUMIFS: #N/A
Name _1_2_d_NMP_lim: #REF!
Name _1_2_d_NMP_lim: #REF!
Name _1_2_d_NMP_lim: #REF!
Name _1_2_d_NMP_lim: #REF!
Name _1_2_d_NMP_lim: #REF!
Name _ftn1: KOPSAVILKUMS!$A$185
Name _ftnref1: KOPSAVILKUMS!$C$25
Name _Hlk188604623: KOPSAVILKUMS!#REF!
Name aa: #REF!
Name aa: #REF!
Name aa: #REF!
Name aa: #REF!
Name aa: #REF!
Name an: #REF!
Name an: #REF!
Name an: #REF!
Name b: #REF!
Name b: #REF!
Name b: #REF!
Name bt: #REF!
Name bt: #REF!
Name bt: #REF!
Name bt: #REF!
Name bt: #REF!
Name BX: #REF!
Name BX: #REF!
Name BX: #REF!
Name BX: #REF!
Name BX: #REF!
Name CalendarYear: #REF!
Name CalendarYear: #REF!
Name CalendarYear: #REF!
Name ccc: #REF!
Name ccc: #REF!
Name ccc: #REF!
Name d: #REF!
Name d: #REF!
Name d: #REF!
Name D_Evija3: #REF!
Name D_Evija3: #REF!
Name D_Evija3: #REF!
Name DaysAndWeeks: {0,1,2,3,4,5,6} + {0;1;2;3;4;5}*7
Name DaysAndWeeks: {0,1,2,3,4,5,6} + {0;1;2;3;4;5}*7
Name DaysAndWeeks: {0,1,2,3,4,5,6} + {0;1;2;3;4;5}*7
Name DaysAndWeeks: {0,1,2,3,4,5,6} + {0;1;2;3;4;5}*7
Name DaysAndWeeks: {0,1,2,3,4,5,6} + {0;1;2;3;4;5}*7
Name DaysAndWeeks: {0,1,2,3,4,5,6} + {0;1;2;3;4;5}*7
Name DaysAndWeeks: {0,1,2,3,4,5,6} + {0;1;2;3;4;5}*7
Name DaysAndWeeks: {0,1,2,3,4,5,6} + {0;1;2;3;4;5}*7
Name DaysAndWeeks: {0,1,2,3,4,5,6} + {0;1;2;3;4;5}*7
Name DaysAndWeeks: {0,1,2,3,4,5,6} + {0;1;2;3;4;5}*7
Name DaysAndWeeks: {0,1,2,3,4,5,6} + {0;1;2;3;4;5}*7
Name DaysAndWeeks: {0,1,2,3,4,5,6} + {0;1;2;3;4;5}*7
Name DaysAndWeeks: {0,1,2,3,4,5,6} + {0;1;2;3;4;5}*7
Name DaysAndWeeks: {0,1,2,3,4,5,6} + {0;1;2;3;4;5}*7
Name DaysAndWeeks: {0,1,2,3,4,5,6} + {0;1;2;3;4;5}*7
Name DaysAndWeeks: {0,1,2,3,4,5,6} + {0;1;2;3;4;5}*7
Name DaysAndWeeks: {0,1,2,3,4,5,6} + {0;1;2;3;4;5}*7
Name DaysAndWeeks: {0,1,2,3,4,5,6} + {0;1;2;3;4;5}*7

Sheet KOPSAVILKUMS
K1: =K22+K65+K80+K143 -> 13825031 | P1: Pielikums Mātes un bērna veselības uzlabošanas plānam 2025.-2027.gadam
A2: Nr. p.k. | B2: Pasākums | C2: Darbības rezultāts | D2: Rezultatīvais rādītājs | E2: Budžeta programmas (apakšprogrammas kods un nosaukums) | G2: Uzdevumu īstenošanai plānotais finansējums atbilstoši likumam "Par valsts budžetu 2025.gadam un budžeta ietvaru 2025., 2026. un 2027.gadam" | J2: Nepieciešamais papildu finansējums | P2: Atbildīgā institūcija | Q2: Līdzatbildīgās institūcijas | R2: Finansējuma avots | S2: Izpildes termiņš
G3: 2025.gads | H3: 2026.gads | I3: 2027.gads | J3: 2025.gads | K3: 2026.gads | L3: 2027.gads | M3: 2028.gads | N3: Turpmākajā laikposmā līdz pasākuma pabeigšanai (ja pasākuma īstenošana ir terminēta) | O3: Turpmāk ik gadu (ja pasākuma izpilde nav terminēta)
A4: KOPĒJAIS NEPIECIEŠAMAIS FINANSĒJUMS PLĀNA REALIZĀCIJAI: | G4: =G5+G6 -> 1.0665518e+08 | H4: =H5+H6 -> 1.078635e+08 | I4: =I5+I6 -> 1.076124e+08 | J4: =J5+J6 -> 0 | K4: =K5+K6 -> 13825031 | L4: =L5+L6 -> 35886468 | M4: =M5+M6 -> 34675393 | N4: =N5+N6 -> #REF! | O4: =O5+O6 -> 33181425
B5: Finansējums valsts pamatfunkciju īstenošanai | G5: =G8 -> 1.0665518e+08 | H5: =H8 -> 1.0676073e+08 | I5: =I8 -> 1.0665483e+08 | J5: =J8 -> 0 | K5: =K8 -> 13825031 | L5: =L8 -> 35886468 | M5: =M8 -> 34675393 | N5: =N8 -> #REF! | O5: =O8 -> 33181425
B6: Finansējums ES politiku instrumentu un pārējās ĀFP līdzfinansēto un finansēto projektu un pasākumu īstenošanai | G6: =G9 -> 0 | H6: =H9 -> 1102772 | I6: =I9 -> 957572 | J6: =J9 -> 0 | K6: =K9 -> 0 | L6: =L9 -> 0 | M6: =M9 -> 0 | N6: =N9 -> 0 | O6: =O9 -> 0
B7: Veselības ministrija | G7: =G8+G9 -> 1.0665518e+08 | H7: =H8+H9 -> 1.078635e+08 | I7: =I8+I9 -> 1.076124e+08 | J7: =J8+J9 -> 0 | K7: =K8+K9 -> 13825031 | L7: =L8+L9 -> 35886468 | M7: =M8+M9 -> 34675393 | N7: =N8+N9 -> #REF! | O7: =O8+O9 -> 33181425
B8: VBF | G8: =G10+G11+G17+G12+G13+G14+G15+G16+G18+G19 -> 1.0665518e+08 | H8: =H10+H11+H17+H12+H13+H14+H15+H16+H18+H19 -> 1.0676073e+08 | I8: =I10+I11+I17+I12+I13+I14+I15+I16+I18+I19 -> 1.0665483e+08 | J8: =J10+J11+J17+J12+J13+J14+J15+J16+J18+J19 -> 0 | K8: =K10+K11+K17+K12+K13+K14+K15+K16+K18+K19 -> 13825031 | L8: =L10+L11+L17+L12+L13+L14+L15+L16+L18+L19 -> 35886468 | M8: =M10+M11+M17+M12+M13+M14+M15+M16+M18+M19 -> 34675393 | N8: =N10+N11+N17+N12+N13+N14+N15+N16+N18+N19 -> #REF! | O8: =O10+O11+O17+O12+O13+O14+O15+O16+O18+O19 -> 33181425
B9: ES fondi | G9: =G21+G20 -> 0 | H9: =H21+H20 -> 1102772 | I9: =I21+I20 -> 957572 | J9: =J21+J20 -> 0 | K9: =K21+K20 -> 0 | L9: =L21+L20 -> 0 | M9: =M21+M20 -> 0 | N9: =N21+N20 -> 0 | O9: =O21+O20 -> 0
E10: 33.03.00 "Kompensējamo medikamentu un materiālu apmaksāšana" | G10: =G164+G139+G100 -> 0 | H10: =H164+H139+H100 -> 0 | I10: =I164+I139+I100 -> 0 | J10: =J164+J139+J100 -> 0 | K10: =K164+K139+K100 -> 2519705.5 | L10: =L164+L139+L100 -> 2373945.5 | M10: =M164+M139+M100 -> 2228186 | N10: =N164+N139+N100 -> 847872 | O10: =O164+O139+O100 -> 2228186
E11: 33.04.00 "Centralizēta medikamentu un materiālu iegāde" | G11: =G56+G58+G61+G63+G86 -> 2193328 | H11: =H56+H58+H61+H63+H86 -> 2193328 | I11: =I56+I58+I61+I63+I86 -> 2193328 | J11: =J56+J58+J61+J63+J86 -> 0 | K11: =K56+K58+K61+K63+K86 -> 75156 | L11: =L56+L58+L61+L63+L86 -> 8641534.8 | M11: =M56+M58+M61+M63+M86 -> 5587003.4 | N11: =N56+N58+N61+N63+N86 -> 3843173.8 | O11: =O56+O58+O61+O63+O86 -> 4011368
E12: 33.14.00 "Primārās ambulatorās veselības aprūpes nodrošināšana" | G12: =G57+G59+G62+G64+G109+G112+G113 -> 10451280 | H12: =H57+H59+H62+H64+H109+H112+H113 -> 10451280 | I12: =I57+I59+I62+I64+I109+I112+I113 -> 10451280 | J12: =J57+J59+J62+J64+J109+J112+J113 -> 0 | K12: =K57+K59+K62+K64+K109+K112+K113 -> 0 | L12: =L57+L59+L62+L64+L109+L112+L113 -> 11081236 | M12: =M57+M59+M62+M64+M109+M112+M113 -> 12364242 | N12: =N57+N59+N62+N64+N109+N112+N113 -> 11869563 | O12: =O57+O59+O62+O64+O109+O112+O113 -> 11941938
E13: 33.15.00 "Laboratorisko izmeklējumu nodrošināšana ambulatorajā aprūpē" | G13: =G30+G70+G101+G105+G153+G155 -> 2805933 | H13: =H30+H70+H101+H105+H153+H155 -> 2805933 | I13: =I30+I70+I101+I105+I153+I155 -> 2805933 | J13: =J30+J70+J101+J105+J153+J155 -> 0 | K13: =K30+K70+K101+K105+K153+K155 -> 85998 | L13: =L30+L70+L101+L105+L153+L155 -> 324368.71 | M13: =M30+M70+M101+M105+M153+M155 -> 377038.18 | N13: =N30+N70+N101+N105+N153+N155 -> 232716.04 | O13: =O30+O70+O101+O105+O153+O155 -> 419612.22
E14: 33.16.00 "Pārējo ambulatoro veselības aprūpes pakalpojumu nodrošināšana" | G14: =G31+G38+G79+G88+G98+G85+G106+G115+G127+G131+G136+G137+G138+G146+G159+G83+G27+G84+G87+G142+G94+G157+G156 -> 5518542.1 | H14: =H31+H38+H79+H88+H98+H85+H106+H115+H127+H131+H136+H137+H138+H146+H159+H83+H27+H84+H87+H142+H94+H157+H156 -> 5618542.1 | I14: =I31+I38+I79+I88+I98+I85+I106+I115+I127+I131+I136+I137+I138+I146+I159+I83+I27+I84+I87+I142+I94+I157+I156 -> 5518542.1 | J14: =J31+J38+J79+J88+J98+J85+J106+J115+J127+J131+J136+J137+J138+J146+J159+J83+J27+J84+J87+J142+J94+J157+J156 -> 0 | K14: =K31+K38+K79+K88+K98+K85+K106+K115+K127+K131+K136+K137+K138+K146+K159+K83+K27+K84+K87+K142+K94+K157+K156 -> 6043463 | L14: =L31+L38+L79+L88+L98+L85+L106+L115+L127+L131+L136+L137+L138+L146+L159+L83+L27+L84+L87+L142+L94+L157+L156 -> 7894442 | M14: =M31+M38+M79+M88+M98+M85+M106+M115+M127+M131+M136+M137+M138+M146+M159+M83+M27+M84+M87+M142+M94+M157+M156 -> 8479733.2 | N14: =N31+N38+N79+N88+N98+N85+N106+N115+N127+N131+N136+N137+N138+N146+N159+N83+N27+N84+N87+N142+N94+N157+N156 -> 7354420.3 | O14: =O31+O38+O79+O88+O98+O85+O106+O115+O127+O131+O136+O137+O138+O146+O159+O83+O27+O84+O87+O142+O94+O157+O156 -> 8896359.3
E15: 33.17.00 Neatliekamās medicīniskās palīdzības nodrošināšana stacionārās ārstniecības iestādēs | G15: =G91+G103+G160 -> 51042640 | H15: =H91+H103+H160 -> 51042640 | I15: =I91+I103+I160 -> 51042640 | J15: =J91+J103+J160 -> 0 | K15: =K91+K103+K160 -> 0 | L15: =L91+L103+L160 -> 0 | M15: =M91+M103+M160 -> 0 | N15: =N91+N103+N160 -> 168984.45 | O15: =O91+O103+O160 -> 0
E16: 33.18.00 "Plānveida stacionāro veselības aprūpes pakalpojumu nodrošināšana" | G16: =G32+G77+G89+G92+G102+G129+G151+G161+G168+G178+G96 -> 34632205 | H16: =H32+H77+H89+H92+H102+H129+H151+H161+H168+H178+H96 -> 34632205 | I16: =I32+I77+I89+I92+I102+I129+I151+I161+I168+I178+I96 -> 34632205 | J16: =J32+J77+J89+J92+J102+J129+J151+J161+J168+J178+J96 -> 0 | K16: =K32+K77+K89+K92+K102+K129+K151+K161+K168+K178+K96 -> 0 | L16: =L32+L77+L89+L92+L102+L129+L151+L161+L168+L178+L96 -> 0 | M16: =M32+M77+M89+M92+M102+M129+M151+M161+M168+M178+M96 -> 0 | N16: =N32+N77+N89+N92+N102+N129+N151+N161+N168+N178+N96 -> #REF! | O16: =O32+O77+O89+O92+O102+O129+O151+O161+O168+O178+O96 -> 0
E17: 33.21.00 "Stacionāro veselības aprūpes pakalpojumu nodrošināšana" * | G17: =G33+G78+G93+G95+G97+G104+G130+G152+G162+G169+G179+G90 -> 0 | H17: =H33+H78+H93+H95+H97+H104+H130+H152+H162+H169+H179+H90 -> 0 | I17: =I33+I78+I93+I95+I97+I104+I130+I152+I162+I169+I179+I90 -> 0 | J17: =J33+J78+J93+J95+J97+J104+J130+J152+J162+J169+J179+J90 -> 0 | K17: =K33+K78+K93+K95+K97+K104+K130+K152+K162+K169+K179+K90 -> 4897010.2 | L17: =L33+L78+L93+L95+L97+L104+L130+L152+L162+L169+L179+L90 -> 5367243.4 | M17: =M33+M78+M93+M95+M97+M104+M130+M152+M162+M169+M179+M90 -> 5435492.1 | N17: =N33+N78+N93+N95+N97+N104+N130+N152+N162+N169+N179+N90 -> 4995965.7 | O17: =O33+O78+O93+O95+O97+O104+O130+O152+O162+O169+O179+O90 -> 5480263.2
E18: 46.03.00 "Slimību profilakses nodrošināšana" | G18: =G25+G34+G36+G39+G41+G43+G44+G46+G48 -> 11250 | H18: =H25+H34+H36+H39+H41+H43+H44+H46+H48 -> 16800 | I18: =I25+I34+I36+I39+I41+I43+I44+I46+I48 -> 10900 | J18: =J25+J34+J36+J39+J41+J43+J44+J46+J48 -> 0 | K18: =K25+K34+K36+K39+K41+K43+K44+K46+K48 -> 0 | L18: =L25+L34+L36+L39+L41+L43+L44+L46+L48 -> 0 | M18: =M25+M34+M36+M39+M41+M43+M44+M46+M48 -> 0 | N18: =N25+N34+N36+N39+N41+N43+N44+N46+N48 -> 0 | O18: =O25+O34+O36+O39+O41+O43+O44+O46+O48 -> 0
E19: 39.03.00"Asins un asins komponentu nodrošināšana" | G19: =G99 -> 0 | H19: =H99 -> 0 | I19: =I99 -> 0 | J19: =J99 -> 0 | K19: =K99 -> 203698 | L19: =L99 -> 203698 | M19: =M99 -> 203698 | N19: =N99 -> 203698 | O19: =O99 -> 203698
E20: Valsts kanceleja "Eiropas Sociālā fonda Plus (ESF+) projektu īstenošana (2021-2027)" | G20: =G118+G119 -> 0 | H20: =H118+H119 -> 957572 | I20: =I118+I119 -> 957572 | J20: =J118+J119 -> 0 | K20: =K118+K119 -> 0 | L20: =L118+L119 -> 0 | M20: =M118+M119 -> 0 | N20: =N118+N119 -> 0 | O20: =O118+O119 -> 0
E21: 63.08.00 "Eiropas Sociālā fonda Plus (ESF+) projektu īstenošana (2021-2027)" | G21: =G47+G108+G158 -> 0 | H21: =H47+H108+H158 -> 145200 | I21: =I47+I108+I158 -> 0 | J21: =J47+J108+J158 -> 0 | K21: =K47+K108+K158 -> 0 | L21: =L47+L108+L158 -> 0 | M21: =M47+M108+M158 -> 0 | N21: =N47+N108+N158 -> 0 | O21: =O47+O108+O158 -> 0
A22: 1. Rīcības virziens | C22: Primārā slimību profilakse (riska faktoru un slimību attīstības novēršana, imunizācija) | G22: =G23+G35+G49+G55 -> 2805637 | H22: =H23+H35+H49+H55 -> 2859587 | I22: =I23+I35+I49+I55 -> 2805287 | J22: =J23+J35+J49+J55 -> 0 | K22: =K23+K35+K49+K55 -> 3168 | L22: =L23+L35+L49+L55 -> 11294470 | M22: =M23+M35+M49+M55 -> 7944900.5 | N22: =N23+N35+N49+N55 -> 6040066.4 | O22: =O23+O35+O49+O55 -> 6450932.1
A23: 1.1. Sabiedrības izglītošana seksuālās un reproduktīvās veselības jautājumos, kontracepcijas pakalpojuma nodrošināšana, grūtniecības plānošana. | G23: =G24+G25+G26+G28+G29+G34+G27 -> 27476 | H23: =H24+H25+H26+H28+H29+H34+H27 -> 33536 | I23: =I24+I25+I26+I28+I29+I34+I27 -> 33536 | J23: =J24+J25+J26+J28+J29+J34+J27 -> 0 | K23: =K24+K25+K26+K28+K29+K34+K27 -> 3168 | L23: =L24+L25+L26+L28+L29+L34+L27 -> 1011110.5 | M23: =M24+M25+M26+M28+M29+M34+M27 -> 1515081.8 | N23: =N24+N25+N26+N28+N29+N34+N27 -> 1848756.8 | O23: =O24+O25+O26+O28+O29+O34+O27 -> 2019053
A24: 1.1.1. | B24: Izglītot bērnus, pusaudžus un jauniešus seksuālās un reproduktīvās veselības jautājumos. | C24: Palielinās bērnu, jauniešu un pusaudžu zināšanas un izpratne seksuālās un reproduktīvās veselības jautājumos, rūpes par savu reproduktīvo veselību, kā arī tiek veicinātas atbildīgas, cieņpilnas un drošas seksuālās attiecības. | D24: Īstenoti izglītojoši pasākumi bērniem, pusaudžiem, jauniešiem, kas palielina izpratni par seksuālās un reproduktīvās veselības jautājumiem, izmantojot pierādījumos balstītus un jau izstrādātus, ieviestus materiālus un programmas seksuālās un reproduktīvās veselības jomā. Nodrošināta izglītojošo materiālu, tai skaitā informācijas izplatīšana ģimenes ārstu praksēs digitālā formātā. | G24: 0 | H24: 0 | I24: 0 | J24: 0 | K24: 0 | L24: 0 | M24: 0 | N24: 0 | O24: 0 | P24: VM, SPKC | Q24: BKUS, NVO, pašvaldības | R24: Esošā budžeta ietvaros | S24: Visu periodu
D25: Regulāri atjaunoti, mūsdienīgi un pusaudžus un jauniešus uzrunājoši elektroniski pieejami un izplatīti informatīvie materiāli par seksuālās un reproduktīvās veselības jautājumiem, tai skaitā par STI profilaksi un kontracepcijas iespējām. | E25: 46.03.00 "Slimību profilakses nodrošināšana" (Veselības ministrija) | G25: 0 | H25: 1720 | I25: 1720 | J25: 0 | K25: 0 | L25: 0 | M25: 0 | O25: 0 | P25: VM, SPKC | Q25: NVO, pašvaldības | R25: Esošā budžeta ietvaros | S25: Visu periodu
C26: Palielināta vecmāšu iesaiste jauniešu izglītošanā, kontracepcijas līdzekļu nozīmēšanā un STI noteikšanā jauniešiem bez hroniskām blakusslimībām; samazināts nevēlamu grūtniecību un mākslīgo abortu gadījumu skaits jauniešu vidū. | D26: Nodrošinātas apmācības 70% vecmāšu, kuras strādā ar jauniešiem, tai skaitā reģionālajās ārstniecības iestādēs | G26: 0 | H26: 0 | I26: 0 | J26: 0 | K26: 0 | L26: 0 | M26: 0 | O26: 0 | P26: VM | Q26: NVO, BKUS MVC, pašvaldības | R26: Esošā budžeta ietvaros | S26: 2026.gada 2. pusgads
C27: Nodrošināta vecmātes konsultācijas sniegšana jauniešiem jautājumos par kontracepciju, STI profilaksi un citiem seksuālās un reproduktīvās veselības jautājumiem. ** | E27: 33.16.00"Pārējo ambulatoro veselības aprūpes pakalpojumu nodrošināšana“ | G27: 0 | H27: 0 | I27: 0 | J27: 0 | K27: ='1.1.1.'!B5 -> 3168 | L27: ='1.1.1.'!C5 -> 3168 | M27: ='1.1.1.'!D5 -> 3168 | N27: ='1.1.1.'!E5 -> 3168 | O27: ='1.1.1.'!E5 -> 3168 | P27: VM | Q27: LVA | R27: VBF | S27: 2026.gads
A28: 1.1.2. | B28: Uzlabot iedzīvotāju, tai skaitā, bērnu vecāku, aizbildņus, audžu ģimenes un citu bērnu aprūpē iesaistīto personu zināšanas jautājumos par seksuālo un reproduktīvo veselību, kā arī komunikācijas prasmes ar bērnu vai pusaudzi par seksuālo un reproduktīvo veselību. | C28: Sniegtas papildu zināšanas un prasmes vecākiem, aizbildņiem un veicināta izpratne par seksuālās un reproduktīvās veselības jautājumiem, par sarunu vadīšanu un komunikāciju ar bērnu vai pusaudzi par seksuālās un reproduktīvās veselības jautājumiem, seksualitāti, drošu un cieņpilnu attiecību veidošanu. | D28: Īstenoti izglītojoši pasākumi vecākiem, aizbildņiem, audžu ģimenēm un citām bērnu aprūpē iesaistītām personām, lai uzlabotu komunikācijas un sarunu vadīšanas prasmes ar pusaudžiem par seksuālo un reproduktīvo veselību, t.sk. izmantojot jau izstrādātus, ieviestus materiālus un programmas seksuālās un reproduktīvās veselības jomā. | G28: 0 | H28: 0 | I28: 0 | J28: 0 | K28: 0 | L28: 0 | M28: 0 | O28: 0 | P28: VM, SPKC | Q28: NVO, pašvaldības | R28: Esošā budžeta ietvaros | S28: 2027.gada 4.ceturksnis
A29: 1.1.3. | B29: Paplašināt valsts apmaksātu kontracepcijas pakalpojumu saņemšanas iespējas sievietēm, kuras ir pakļautas sociālās atstumtības riskam, un jauniešiem. | C29: Samazinās nevēlamas grūtniecības gadījumu skaits sociālās atstumtības riskam pakļautām sievietēm un jaunietēm. | D29: Paplašināts to sociālajam riskam pakļauto sieviešu un jauniešu līdz 25 gadu vecumam loks, kuram tiek nodrošināta valsts apmaksāta kontracepcija, tai skaitā, sievietēm reproduktīvajā vecumā ar invaliditāti vai trūcīgās vai maznodrošinātās mājsaimniecības statusu un sievietēm, kurām pārtrauktas aizgādības tiesības, kā arī jaunietēm no ārpusģimenes aprūpes un pilngadību sasniegušām jaunietēm pēc ārpusģimenes aprūpes līdz 21 gada vecuma sasniegšanai vai, ja mācās vispārējās izglītības vai profesionālās izglītības iestādē vai studē augstākajā izglītības iestādē, tostarp koledžā, — līdz 24 gadu vecuma sasniegšanai. Pakalpojums nodrošināts: 2027.gadā - 6 137 pacientēm. | G29: =G30+G31+G32+G33 -> 27476 | H29: =H30+H31+H32+H33 -> 27476 | I29: =I30+I31+I32+I33 -> 27476 | J29: =J30+J31+J32+J33 -> 0 | K29: =K30+K31+K32+K33 -> 0 | L29: =L30+L31+L32+L33 -> 1007942.5 | M29: =M30+M31+M32+M33 -> 1511913.8 | N29: =N30+N31+N32+N33 -> 1845588.8 | O29: =O30+O31+O32+O33 -> 2015885 | P29: NVD | Q29: VM, ārstniecības personu profesionālās asociācijas, NVO | R29: VBF | S29: 2027.gads
D30: Kontracepcijas nodrošināšana jaunietēm līdz 25 gadu vecumam, sievietēm reproduktīvajā vecumā ar invaliditāti vai trūcīgās/ maznodrošinātās statusu | E30: 33.15.00 Laboratorisko izmeklējumu nodrošināšana ambulatorajā aprūpē | G30: 3532 | H30: 3532 | I30: 3532 | J30: 0 | K30: 0 | L30: ='1.1.3.'!C5 -> 85148.091 | M30: ='1.1.3.'!D5 -> 127722.14 | O30: ='1.1.3.'!E5 -> 170296.18 | P30: NVD | Q30: VM, Ārstniecības personu profesionālās asociācijas | R30: VBF
E31: 33.16.00 Pārējo ambulatoro veselības aprūpes pakalpojumu nodrošināšana | G31: 16853 | H31: 16853 | I31: 16853 | J31: 0 | K31: 0 | L31: ='1.1.3.'!C6 -> 833252.17 | M31: ='1.1.3.'!D6 -> 1249878.3 | N31: ='1.1.3.'!E6 -> 1666504.3 | O31: ='1.1.3.'!E6 -> 1666504.3 | P31: NVD | Q31: VM, Ārstniecības personu profesionālās asociācijas | R31: VBF
E32: 33.18.00 Plānveida stacionāro veselības aprūpes pakalpojumu nodrošināšana | G32: 7091 | H32: 7091 | I32: 7091 | J32: 0 | K32: 0 | L32: 0 | M32: 0 | N32: ='1.1.3.'!E7 -> 179084.49 | O32: 0 | P32: NVD | Q32: VM, Ārstniecības personu profesionālās asociācijas | R32: VBF
E33: 33.21.00 "Stacionāro veselības aprūpes pakalpojumu nodrošināšana" * | G33: 0 | H33: 0 | I33: 0 | J33: 0 | K33: 0 | L33: ='1.1.3.'!C7 -> 89542.243 | M33: ='1.1.3.'!D7 -> 134313.36 | O33: ='1.1.3.'!E7 -> 179084.49
A34: 1.1.4. | B34: Izglītot sabiedrību grūtniecības plānošanas jautājumos. | C34: Veicināta sabiedrības izpratne, prasmes un zināšanas par grūtniecības plānošanu, auglību ietekmējošiem riska faktoriem, grūtniecības norisi, rīcību neplānotas grūtniecības gadījumā, dzemdībām un pēcdzemdību periodu. | D34: Atbilstoši algoritmiem perinatālās aprūpes jomā, pilnveidota un regulāri aktualizēta informācija [1] SPKC mājaslapas sadaļā „Grūtniecība"[2], kā arī digitalizēta un pilnveidota dienasgrāmata"Gribu būt māmiņa". | E34: 46.03.00 "Slimību profilakses nodrošināšana" (Veselības ministrija) | G34: 0 | H34: 4340 | I34: 4340 | J34: 0 | K34: 0 | L34: 0 | M34: 0 | O34: 0 | P34: SPKC | Q34: VM, LVA, LGDSA, ārstniecības iestādes, kuras nodrošina ambulatoros ginekologa, dzemdību speciālista pakalpojumus | R34: Esošā budžeta ietvaros | S34: Visu periodu
A35: 1.2. Jauno un topošo vecāku izglītošana par bērna attīstību un aprūpi, kā arī par psihiskās veselības saglabāšanu un nepieciešamā atbalsta saņemšanas iespējām. | G35: =G36+G37+G38+G39+G40+G41+G42+G43+G44+G45 -> 11250 | H35: =H36+H37+H38+H39+H40+H41+H42+H43+H44+H45 -> 59140 | I35: =I36+I37+I38+I39+I40+I41+I42+I43+I44+I45 -> 4840 | J35: =J36+J37+J38+J39+J40+J41+J42+J43+J44+J45 -> 0 | K35: =K36+K37+K38+K39+K41+K42+K43+K44+K45 -> 0 | L35: =L36+L39+L41+L42+L43+L44+L45+L38 -> 17085.082 | M35: =M36+M39+M41+M42+M43+M44+M45+M38 -> 34170.163 | N35: =N36+N39+N41+N42+N43+N44+N45+N38 -> 34170.163 | O35: =O36+O39+O41+O42+O43+O44+O45+O38 -> 34170.163
A36: 1.2.1. | B36: Izglītot sabiedrību par bērnu attīstības un emocionālās audzināšanas principiem, tai skaitā miega higiēnu un veselību, kā arī digitālo tehnoloģiju pārmērīga un nekontrolēta patēriņa riskiem un ietekmi uz bērnu veselību. | C36: Mazinātas bērnu nevēlamas uzvedības problēmas, veicināta psihoemocionālās vides uzlabošanās ģimenē. | D36: Izstrādāti informatīvi bērnu emocionālo attīstību veicinoši materiāli dažādām vecumgrupām. Nodrošināta izglītojošo materiālu, tai skaitā informācijas izplatīšana ģimenes ārstu praksēs digitālā formātā. | E36: 46.03.00 "Slimību profilakses nodrošināšana" (Veselības ministrija) | G36: 0 | H36: 2175 | I36: 0 | J36: 0 | K36: 0 | L36: 0 | M36: 0 | O36: 0 | P36: SPKC | Q36: BKUS, VM, NVO, profesionālās asociācijas, pašvaldības | R36: Esošā budžeta ietvaros | S36: 2026. gada 2.pusgads
A37: 1.2.1.1. | C37: Nodrošināta valsts atbalsta sniegšana vecākiem, kuriem ir bērni ar attīstības traucējumiem un miega problēmām. | D37: Izveidotas atbalsta grupas vecākiem, kuriem ir bērni ar attīstības traucējumiem un miega problēmām. | E37: 33.16.00 Pārējo ambulatoro veselības aprūpes pakalpojumu nodrošināšana | G37: 0 | H37: 0 | I37: 0 | J37: 0 | K37: 0 | L37: 1.2.1.2. punkta finansējuma ietvaros | M37: 1.2.1.2. punkta finansējuma ietvaros | N37: 27648 | O37: 1.2.1.2. punkta finansējuma ietvaros | P37: VM, NVD | Q37: BKUS | R37: VBF | S37: 2027.gada 1.pusgads
A38: 1.2.1.2. | C38: Samazināta bērnu veselības aprūpē iesaistīto speciālistu noslodze, uzlabotas sabiedrības zināšanas par bērna miega veselību, kā arī zīdaiņu pēkšņās nāves sindromu. | D38: Nodrošinātas regulāras izglītojošās lekcijas topošajiem un jaunajiem vecākiem par bērna miega veselību un zīdaiņu pēkšņās nāves sindromu. | E38: 33.16.00 Pārējo ambulatoro veselības aprūpes pakalpojumu nodrošināšana | G38: 0 | H38: 0 | I38: 0 | J38: 0 | K38: 0 | L38: ='1.2.1.2.'!B6 -> 17085.082 | M38: ='1.2.1.2.'!C6 -> 34170.163 | N38: ='1.2.1.2.'!D6 -> 34170.163 | O38: ='1.2.1.2.'!D6 -> 34170.163 | P38: NVD | Q38: BKUS | R38: VBF | S38: 2027.gads
A39: 1.2.1.3. | D39: Izstrādāts izglītojošs informatīvais materiāls vecākiem, tai skaitā topošajiem un jaunajiem vecākiem, par miega kvalitāti bērniem un tā ietekmi uz attīstību un veselību dažādos vecumposmos. Nodrošināta izglītojošo materiālu, tai skaitā informācijas izplatīšana ģimenes ārstu praksēs, kā arī pašvaldību sociālajos dienestos digitālā formātā. | E39: 46.03.00 "Slimību profilakses nodrošināšana" (Veselības ministrija) | G39: 0 | H39: 750 | I39: 0 | J39: 0 | K39: 0 | L39: 0 | M39: 0 | O39: 0 | P39: SPKC | Q39: BKUS | R39: Esošā budžeta ietvaros | S39: 2026. gada 2.pusgads
A40: 1.2.1.4. | D40: Izstrādāta psiholoģiskā atbalsta programma un izveidotas psiholoģiskā atbalsta grupas motivētiem jauniešiem ar miega traucējumiem, iesaistot speciālistus (psihologs/psihoterapeits), kuri pārvalda kognitīvi biheiviorālo terapiju. | E40: 33.16.00 Pārējo ambulatoro veselības aprūpes pakalpojumu nodrošināšana | G40: 0 | H40: 0 | I40: 0 | J40: 0 | K40: 0 | L40: 1.2.1.2. punkta finansējuma ietvaros | M40: 1.2.1.2. punkta finansējuma ietvaros | O40: 1.2.1.2. punkta finansējuma ietvaros | P40: VM | Q40: BKUS | R40: VBF | S40: 2027. gads
...

Sheet 1.1.1.
J1: Pielikums Nr.01_P_22.
A2: Izveidota 1 jauna valsts apmaksāta manipulācija, nodrošinot bērniem pieejamību vecmātes konsultācijām par kontracepciju, tai skaitā monitorings
A3: Apakšprogrammas nosaukums | B3: Papildus nepieciešamais finansējums 2026.gadam, euro | C3: Papildus nepieciešamais finansējums 2027.gadam, euro | D3: Papildus nepieciešamais finansējums 2028.gadam, euro | E3: Papildus nepieciešamais finansējums turpmāk ik gadu, euro (ja pasākums nav terminēts) | G3: Ārsta darba samaksa, euro | H3: Māsas darba samaksa, euro | I3: Palīgpersonāla darba samaksa, euro | J3: Soc.nodoklis % | N3: Pieskaitāmās un netiešās ražošanas izmaksas | O3: Administratīvās izmaksas | P3: Pārējo pamatlīdzekļu amortizācija
F4: Mēneša darba samaksa | G4: 2304 | H4: 1388 | I4: 925
A5: 33.16.00 “Pārējo ambulatoro veselības aprūpes pakalpojumu nodrošināšana“ | B5: =I24 -> 3168 | C5: =B5 -> 3168 | D5: =B5 -> 3168 | E5: =D5 -> 3168 | F5: 1 minūtes vērtība darba samaksai | G5: =ROUND(G4/9600,4) -> 0.24 | H5: =ROUND(H4/9600,4) -> 0.1446 | I5: =ROUND(I4/9600,4) -> 0.0964 | J5: 0.2359 | M5: Koeficienti | N5: 0.2857 | O5: 0.0202 | P5: 0.0322
A8: Manipulācijas kods | B8: Manipulācijas nosaukums | C8: Mainīgās izmaksas | Q8: Kopējās izmaksas, euro | R8: Pacienta līdzmaksājums, euro | S8: Tarifs, euro | T8: D | U8: S | V8: M | W8: E | X8: U | Y8: A | Z8: N | AA8: P | AB8: Kopējās izmaksas | AC8: Pacienta līdzmaksājums | AD8: Tarifs
C9: Darba laiks (minūtes) | F9: Darba samaksa D, euro | I9: Valsts sociālās adrošināšanas obligātās iemaksas S, euro | J9: Ārstniecības līdzekļi M, euro | M9: Iekārtu amortizācija N, euro | N9: Pieskaitāmās un netiešās ražošanas izmaksas U, euro | O9: Administratīvās izmaksas A, euro | P9: Pārējo pamatlīdzekļu amortizācija n, euro
C10: ārstam | D10: māsai | E10: jaunākajam personālām | F10: ārstam | G10: māsai | H10: jaunākajam personālam | I10: ārstam, māsai un jaunākajam personālām kopā | J10: M kopā | K10: Medikamenti | L10: Materiāli
A11: 1 | B11: 2 | C11: 3 | D11: 4 | E11: 5 | F11: 6 | G11: 7 | H11: 8 | I11: 9 | J11: 10 = 11 + 12 | K11: 11 | L11: 12 | M11: 13 | N11: 14 | O11: 15 | P11: 16 | Q11: 17 | R11: 18 | S11: 19 | T11: 20 | U11: 21 | V11: 22 | W11: 23 | X11: 24 | Y11: 25 | Z11: 26 | AA11: 27 | AB11: 28 | AC11: 29 | AD11: 30
A12: JAUNS | B12: Vecmātes konsultācija bērniem | C12: 0 | D12: 45 | E12: 0 | F12: =ROUND((C12*$G$5),2) -> 0 | G12: =ROUND((D12*$H$5),2) -> 6.51 | H12: =ROUND((E12*$G$8),2) -> 0 | I12: =ROUND(((F12+G12+H12)*$J$5),2) -> 1.54 | J12: 0.26 | K12: 0 | L12: 0.26 | M12: 0.05 | N12: 1.86 | O12: 0.13 | P12: 0.21 | Q12: =ROUND((F12+G12+H12+I12+J12+M12+N12+O12+P12),2) -> 10.56 | R12: 0 | S12: =Q12-R12 -> 10.56 | T12: =F12+G12+H12 -> 6.51 | U12: =I12 -> 1.54 | V12: =J12 -> 0.26 | X12: =N12 -> 1.86 | Y12: =O12 -> 0.13 | Z12: =M12+P12 -> 0.26 | AB12: =SUM(T12:AA12) -> 10.56 | AC12: =R12 -> 0 | AD12: =AB12-AC12 -> 10.56
A15: Manipulācijas kods | B15: Manipulācijas nosaukums | C15: Manip. tarifs, euro | D15: Aprēķinātais tarifs, euro | E15: Pacienta līdzmaksājums, euro | F15: Papildus manip.tarifam nepieciešamais finansējums, euro | G15: Plānotais pacientu skaits gadā | H15: Plānotais manipulāciju skaits vienam pacientam gadā | I15: Nepieciešamais finansējums gadā, euro | J15: Papildu informācija par finanšu ietekmes aprēķināšanu | K15: Plānotie apmaksas nosacījumi
K16: Ambulatori | L16: Dienas stacionārā | M16: Stacionārā | N16: Zvaigznītes (* vai **) | O16: Lielā ķirurģiskā operācija | P16: Citi apmaksas nosacījumi
A17: JAUNS | B17: Vecmātes konsultācija bērniem | C17: 0 | D17: =Q12 -> 10.56 | E17: 0 | F17: =D17-E17-C17 -> 10.56 | G17: =K17 -> 300 | H17: 1 | I17: =F17*G17*H17 -> 3168 | J17: - | K17: 300 | L17: 0 | M17: 0 | P17: Manipulāciju apmaksā VSIA "Bērnu klīniskā universitātes slimnīca"
G18: =SUM(G17:G17) -> 300 | I18: =SUM(I17:I17) -> 3168 | K18: =K17 -> 300 | L18: =L17 -> 0 | M18: =M17 -> 0
A20: Nr. p.k. | B20: Prioritāra pasākuma nosaukums | C20: Pasākuma doma īsumā (pieejamības uzlabošana, jauns pasākums, tarifa izmaiņas, no plāna pasākumiem izrietošs u.c.) | D20: Manip. kods | E20: Manipulācijas nosaukums | F20: Papildus nepieciešamais valsts budžeta finansējums KOPĀ, euro | G20: Papildus nepieciešamais valsts budžeta finansējums, euro
G21: 33.18.00 | H21: 33.17.00 | I21: 33.16.00 | J21: 33.15.00 | K21: 33.14.00 | L21: 33.18.00 | M21: 33.17.00 | N21: 33.16.00 | O21: 33.15.00 | P21: 33.14.00 | Q21: 33.18.00 | R21: 33.17.00 | S21: 33.16.00 | T21: 33.15.00 | U21: 33.14.00
G22: 2026. gadam | L22: 2027. gadam | Q22: Turpmāk ik gadu (ja pasākums nav terminēts)
A23: KOPĀ: | G23: =ROUND(SUM(G25:G82),0) -> 0 | H23: =ROUND(SUM(H25:H82),0) -> 0 | I23: =ROUND(SUM(I25:I82),0) -> 3168 | J23: =ROUND(SUM(J25:J82),0) -> 0 | K23: =ROUND(SUM(K25:K82),0) -> 0 | L23: =ROUND(SUM(L25:L82),0) -> 0 | M23: =ROUND(SUM(M25:M82),0) -> 0 | N23: =ROUND(SUM(N25:N82),0) -> 0 | ... U23: =ROUND(SUM(U25:U82),0) -> 0
A24: 1 | B24: Jauns pakalpojums | C24: Jauns tarifs | D24: JAUNS | E24: Vecmātes konsultācija bērniem | G24: =M18 -> 0 | H24: 0 | I24: =I17 -> 3168 | J24: 0 | K24: 0 | L24: =G24 -> 0 | M24: =H24 -> 0 | N24: =I24 -> 3168 | O24: =J24 -> 0 | P24: =K24 -> 0 | Q24: =G24 -> 0 | R24: =H24 -> 0 | S24: =I24 -> 3168 | T24: =J24 -> 0 | U24: =K24 -> 0
I25: =I17 -> 3168

Sheet 1.1.3.
L1: Pielikums Nr.1.1.3.
B2: Pasākums kontracepcijas nodrošināšanai jaunietēm līdz 25 gadu vecumam, sievietēm reproduktīvajā vecumā ar invaliditāti vai maznodrošinātās statusu
B4: Apakšprogrammas nosaukums | C4: Papildus nepieciešamais finansējums 2027.gadam | D4: Papildus nepieciešamais finansējums 2028.gadam | E4: Papildus nepieciešamais finansējums turpmāk ik gadu (ja pasākums nav terminēts)
B5: 33.15.00 Laboratorisko izmeklējumu nodrošināšana ambulatorajā aprūpē | C5: =K23*0.5 -> 85148.091 | D5: =K23*0.75 -> 127722.14 | E5: =K23 -> 170296.18
B6: 33.16.00 Pārējo ambulatoro veselības aprūpes pakalpojumu nodrošināšana | C6: =I23*0.5 -> 833252.17 | D6: =I23*0.75 -> 1249878.3 | E6: =I23 -> 1666504.3
B7: 33.18.00 Plānveida stacionāro veselības aprūpes pakalpojumu nodrošināšana | C7: =J23*0.5 -> 89542.243 | D7: =J23*0.75 -> 134313.36 | E7: =J23 -> 179084.49
C8: =C5+C6+C7 -> 1007942.5 | D8: =D5+D6+D7 -> 1511913.8 | E8: =E5+E6+E7 -> 2015885
B10: 15% no visām (n=38 024)15-24 gadus vecām jaunietēm, tai skaitā jaunietēm no ārpusģimenes aprūpes un pilngadību sasniegušām jaunietēm pēc ārpusģimenes aprūpes līdz 21 gada vecuma sasniegšanai vai, ja mācās vispārējās izglītības vai profesionālās izglītības iestādē vai studē augstākajā izglītības iestādē, tostarp koledžā, — līdz 24 gadu vecuma sasniegšanai =5704 | I10: Pacientu skaits saskaņā ar BKUS iesniegto
B11: 15% no visām (n=22 951) sievietēm reproduktīvajā vecumā ar trūcīgās vai maznodrošināto statusu=3 442 | I11: Pacientu skaits saskaņā ar CSP statistiku par iedzīvotāju īpatsvars zem minimālo ienākumu līmeņa 18-49gadi: https://data.stat.gov.lv/pxweb/lv/OSP_PUB/START__POP__NN__NNM/NNM030/table/tableViewLayout1/
B12: 15% no visām (n=20 859) sievietēm reproduktīvajā vecumā ar invaliditāti=3 129 | I12: Pacientu skaits saskaņā ar CSP statiostiku par pirmreizēji noteiktu invaliditāti un atkārtoti atzītu invaliditāti 18-44gadi: https://stat.gov.lv/lv/statistikas-temas/soc-aizsardziba-veseliba/personas-ar-invaliditati/19263-pilngadigas-personas-ar?themeCode=VD
B13: N=5704+3442+3129=12 275
B14: Manipulācijas kods | C14: Manipulācijas nosaukums | D14: Manip. tarifs, EUR | E14: Pacienta līdzmaksājums, EUR | F14: Plānotais pacientu skaits gadā | G14: Plānotais manipulāciju skaits vienam pacientam gadā | H14: Nepieciešamais finansējums gadā, EUR | I14: Pacientu skaits | L14: Zvaigznītes (* vai **)
I15: Ambulatori (33.16.00 programma) | J15: Stacionāri (33.18.00 programma) | K15: Laboratorija ambulatori (33.15.00 programma)
B16: 16013 | C16: Subdermālā kontracepcijas implanta ievietošana augšdelmā ar implanta vērtību*** | D16: 139.94 | E16: 0 | F16: 8593 | G16: 1 | H16: =D16*F16 -> 1202504.4 | I16: =F16*0.9 -> 7733.7 | J16: =F16*0.1 -> 859.3 | K16: - | L16: *-> **
B17: 16014* | C17: Subdermālā kontracepcijas implanta izņemšana no augšdelma** | D17: 13.98 | E17: 0 | F17: 2578 | G17: 1 | H17: =D17*F17 -> 36040.44 | I17: =F17*0.9 -> 2320.2 | J17: =F17*0.1 -> 257.8 | K17: -
B18: 16022 | C18: Piemaksa par kontraceptīvās intratuerīnās sistēmas (spirāles) izmantošanu | D18: 150 | E18: 0 | F18: 3682 | G18: 1 | H18: =F18*D18 -> 552300 | I18: =F18*0.9 -> 3313.8 | J18: =F18*0.1 -> 368.2 | K18: =I18 -> 3313.8 | L18: **
B19: 16015 | C19: Spirāles ievadīšana | D19: 9.68 | E19: 0 | F19: 3313.8 | G19: 1 | H19: =D19*F19 -> 32077.584 | I19: =F19 -> 3313.8 | J19: 0
B20: 16016 | C20: Spirāles izņemšana | D20: 6.84 | E20: 0 | F20: 3313.8 | G20: 1 | H20: =F20*D20 -> 22666.392 | I20: =F20 -> 3313.8 | J20: 0
C21: Laboratoriskie izmeklējumi STI | D21: 51.39 | H21: =D21*K18 -> 170296.18
G23: Finanšu ietekme, eiro: | H23: =H16+H17+H19+H20+H18+H21 -> 2015885 | I23: =(I16*D16)+(I17*D17)+(I19*D19)+(I20*D20)+(I18*D18) -> 1666504.3 | J23: =(J16*D16)+(J17*D17)+(J19*D19)+(J20*D20)+(J18*D18) -> 179084.49 | K23: =K18*D21 -> 170296.18
B25: Pacientu sadalījums - ambulatori 90%, stacionārā 10%
B26: Pēc L.Līdakas: 70% implants (n=8 593), 30% spiāle (n=3682)
B27: * Manipulācija 16014 provizoriski nepieciešama 30% (n=2 578) no visiem pacientiem gadā, kam ievieto subdermālo kontracepcijas implantu
B28: ** Manipulācijas 16015, 16016 - veic tikai ambulatori
B29: Laboratorijas izmeklējumi ambulatori nepeiciešami pacientēm pirms intrauterīnās spirāles ievietšanas, seksuāli transmisīvo infekciju noteikšanai (n=3314). Vienas pacientes laboratisko izmeklējumu izmaksas uz gadu ir 51.39 EUR
B30: 2026.gadā plānots 50%, 2027.gadā 75% un turpmāk 100% izpilde finanšu ietekmes aprēķinam.

Sheet 1.2.1.2.
H1: Pielikums 1.2.1.2.
B3: Samazināta bērnu veselības aprūpē iesaistīto speciālistu noslodze, uzlabotas sabiedrības zināšanas par bērna miega veselību, kā arī zīdaiņu pēkšņās nāves sindromu (pieejamības uzlabošana/papildus slodzes)
A5: Apakšprogrammas nosaukums | B5: Papildus nepieciešamais finansējums 2027.gadam | C5: Papildus nepieciešamais finansējums 2028.gadam | D5: Papildus nepieciešamais finansējums turpmāk ik gadu (ja pasākums nav terminēts)
A6: 33.16.00 Pārējo ambulatoro veselības aprūpes pakalpojumu nodrošināšana | B6: =G11 -> 17085.082 | C6: =G15 -> 34170.163 | D6: =C6 -> 34170.163
D9: 2304 | F9: 0.2359
A10: Nosaukums | B10: periods mēnešos 2026.gadā | C10: Ārsta slodze plāns 2026.gadam | D10: Ārsta darba samaksa 2026, EUR | E10: Darba samaksa kopā 2026.gadā, EUR | F10: VSAOI 2026, EUR | G10: Plānotais finansējums 2027. gadam, EUR
A11: Psihologs | B11: 6 | C11: 1 | D11: =B11*D9 -> 13824 | E11: =D11 -> 13824 | F11: =E11*F9 -> 3261.0816 | G11: =E11+F11 -> 17085.082
D13: 2304 | F13: 0.2359
A14: Nosaukums | B14: periods mēnešos 2027.gadā | C14: Ārsta slodze plāns 2027.gadam | D14: Ārsta darba samaksa 2027, EUR | E14: Darba samaksa kopā 2027.gadā, EUR | F14: VSAOI 2027, EUR | G14: Plānotais finansējums 2028. gadam un turpmāk ik gadu, EUR
A15: Psihologs | B15: 12 | C15: 1 | D15: =B15*D13 -> 27648 | E15: =D15 -> 27648 | F15: =E15*F13 -> 6522.1632 | G15: =E15+F15 -> 34170.163

Sheet 1.2.4.
B1: Pielikums Nr.1.2.4.
A3: Izstrādāts algoritms ārstniecības personām zīdīšanas uzsākšanai, veicināšanai un vadīšanai
A5: Pasākums | B5: 2026.gads/ finansējums, euro*
A6: Izstrādāts algoritms ārstniecības personām zīdīšanas uzsākšanai, veicināšanai un vadīšanai | B6: 48400
A7: *Eiropas Sociālā fonda (ESF+) finansējuma projekts Nr. 4.1.2.7/1/24/I/001 “Pilnveidot pacientu drošību un aprūpes kvalitāti”. Finansējums atkarīgs no iepirkuma organizēšanas un rezultāta.

Sheet 1.4.1.
F1: Pielikums Nr. 1.4.1.
B3: Pasākums valsts apmaksātu vakcinācija pret ērču encefalītu nodrošināšanai bērniem 1-17 gadiem
B5: Apakšprogrammas nosaukums | C5: Papildus nepieciešamais finansējums 2027.gadam | D5: Papildus nepieciešamais finansējums 2028.gadam | E5: Papildus nepieciešamais finansējums turpmāk ik gadu (ja pasākums nav terminēts)
B6: 33.04.00 "Centralizēta medikamentu un materiālu iegāde" | C6: =E11*C19 -> 5646231.4 | D6: =E11*C20 -> 2612554.6 | E6: =E11*C21 -> 1055799.4
B7: 33.14.00 Primārās ambulatorās veselības aprūpes nodrošināšana | C7: =(D14+D15)*C19 -> 1502199 | D7: =(D14+D15)*C20 -> 695079 | E7: =(D14+D15)*C21 -> 280899
B10: Vakcīna | C10: Cena bez PVN, eiro | D10: Ar 10% pieaugumu, eiro | E10: Summa ar PVN, eiro
B11: Pret ērču encefalītu bērniem no 1-17 gadiem | C11: 16.2 | D11: =C11*1.1 -> 17.82 | E11: =D11*1.12 -> 19.9584
B13: Manipulācijas kods | C13: Manipulācijas nosaukums | D13: Tarifs, eiro
B14: 01018 | C14: Ārsta konsultācija pirms vakcinācijas. Nenorāda kopā ar manipulāciju 01061, 60443 un 60444 | D14: 4.06
B15: 03081 | C15: Vakcīnas ievadīšana ādā, zemādā un muskulī | D15: 1.25
B17: Pacientu skaits saskaņā ar SPKC sniegto informāciju.
B18: Gads | C18: Devu skaits
B19: 2027 | C19: 282900
B20: 2028 | C20: 130900
B21: 2029 | C21: 52900
B22: Kopā | C22: =SUM(C19:C21) -> 466700

Sheet 1.4.2.
E1: Pielikums Nr. 1.4.2.
B3: Pasākums priekšlaikus dzimušo bērnu, jaundzimušo un zīdaiņu ar iedzimtām sirds un plaušu patoloģijām, un jaundzimušajiem RSV infekcijas profilakse ar ilgstošas darbības monoklonālajām antivielām pirmajā dzīves gadā
B6: Apakšprogrammas nosaukums | C6: Papildus nepieciešamais finansējums 2027.gadam | D6: Papildus nepieciešamais finansējums 2028.gadam | E6: Papildus nepieciešamais finansējums turpmāk ik gadu (ja pasākums nav terminēts)
B7: 33.04.00 "Centralizēta medikamentu un materiālu iegāde" | C7: =E12*C29 -> 2558913.3 | D7: =E12*C30 -> 2558913.3 | E7: =E12*C31 -> 2558913.3
B8: 33.14.00 Primārās ambulatorās veselības aprūpes nodrošināšana | C8: =(D15+D16)*C29 -> 39389.58 | D8: =(D15+D16)*C30 -> 39389.58 | E8: =(D15+D16)*C31 -> 39389.58
B11: Vakcīna | C11: Cena bez PVN, eiro | D11: Ar 10% pieaugumu, eiro | E11: Summa ar PVN, eiro
B12: Nirsevimabum | C12: 280 | D12: =C12*1.1 -> 308 | E12: =D12*1.12 -> 344.96
B14: Manipulācijas kods | C14: Manipulācijas nosaukums | D14: Tarifs, eiro
B15: 01018 | C15: Ārsta konsultācija pirms vakcinācijas. Nenorāda kopā ar manipulāciju 01061, 60443 un 60444 | D15: 4.06
B16: 03081 | C16: Vakcīnas ievadīšana ādā, zemādā un muskulī | D16: 1.25
B18: Riska grupa | C18: Bērnu skaits kopā | D18: Skaits, plānotā aptvere
B19: Priekšlaicīgi dzimuši | C19: 901 | D19: 841
D20: (90-97%)
B21: Jaundzimušie un zīdaiņi ar patoloģijām | C21: 591 | D21: 546
D22: (90-97%)
B23: Jaundzimušie | C23: 6218 | D23: 6031
D24: (90-97%)
B27: Pacientu skaits un nepieciešamās devas saskaņā ar BKUS sniegto informāciju.*
B28: Gads | C28: Devu skaits
B29: 2027 | C29: =SUM(D19+D21+D23) -> 7418
B30: 2028 | C30: =SUM(C29) -> 7418
B31: 2029 | C31: =SUM(C30) -> 7418
B32: Kopā | C32: =SUM(C29:C31) -> 22254
A34: * BKUS sniedz datus, balstoties uz informāciju par iepriekšējos gados piedzimušo riska grupu personu skaitu, kuriem indicētas minētās zāles, vienlaikus ņemot vērā visu piedzimušo kohortu

Sheet 1.4.3.
E1: Pielikums Nr. 1.4.3.
B3: Nodrošināt noteiktu veselības riska grupu bērniem paplašinātu valsts apmaksāto vakcinācijas pakalpojumu klāstu pret dzīvību apdraudošām infekcijām (piemēram, pret pneimokoku infekciju – bērniem, kas dzimuši pirms vakcīnas iekļaušanas vakcinācijas kalendārā; pret meningokoku infekciju, A hepatītu).
B6: Apakšprogrammas nosaukums | C6: Papildus nepieciešamais finansējums 2027.gadam | D6: Papildus nepieciešamais finansējums 2028.gadam | E6: Papildus nepieciešamais finansējums turpmāk ik gadu (ja pasākums nav terminēts)
B7: 33.04.00 "Centralizēta medikamentu un materiālu iegāde" | C7: =(E12*C24)+(E13*C25)+(E14*C26) -> 78201.2 | D7: =(E12*D24)+(E13*D25)+(E14*D26) -> 78201.2 | E7: =(E12*E24)+(E13*E25)+(E14*E26) -> 78201.2
B8: 33.14.00 Primārās ambulatorās veselības aprūpes nodrošināšana | C8: =(D17+D18+D19)*(C24+C25+C26) -> 143937 | D8: =(D17+D18+D19)*(D24+D25+D26) -> 143937 | E8: =(D17+D18+D19)*(E24+E25+E26) -> 143937
B11: Vakcīna | C11: Cena bez PVN, eiro | D11: Ar 10% pieaugumu, eiro | E11: Summa ar PVN, eiro
B12: pret meningokoka infekciju | C12: 85.44 | D12: =C12*1.1 -> 93.984 | E12: =D12*1.12 -> 105.26208
B13: pret pneimokoka infekciju | C13: 25 | D13: =C13*1.1 -> 27.5 | E13: =D13*1.12 -> 30.8
B14: pret A hepatītu | C14: 20.05 | D14: =C14*1.1 -> 22.055 | E14: =D14*1.12 -> 24.7016
B16: Manipulācijas kods | C16: Manipulācijas nosaukums | D16: Tarifs, eiro
B17: Ārstu konsīlijs (3 speciālisti) | C17: Bērnu infektologa aprūpes epizodes tarifs, atbilstoši MK 555 4. pielikumam | D17: =33.77*3 -> 101.31
B18: 01018 | C18: Ārsta konsultācija pirms vakcinācijas. Nenorāda kopā ar manipulāciju 01061, 60443 un 60444 | D18: 4.06
B19: 03081 | C19: Vakcīnas ievadīšana ādā, zemādā un muskulī | D19: 1.25
B21: Pacientu skaits un nepieciešamās devas saskaņā ar BKUS sniegto informāciju.*
B22: Vakcīna | C22: Devu skaits
C23: 2027.gads | D23: 2028. gads | E23: Turpmāk ik gadu
B24: Pret meningokoku infekciju | C24: 500 | D24: 500 | E24: 500
B25: Pret pneimokoka infekciju | C25: 750 | D25: 750 | E25: 750
B26: Pret A hepatītu | C26: 100 | D26: 100 | E26: 100
A28: * BKUS sniedz datus, balstoties uz informāciju par iepriekšējos gados piedzimušo riska grupu personu skaitu, kuriem indicētas minētās zāles, vienlaikus ņemot vērā visu piedzimušo kohortu

Sheet 1.4.4.
M1: Pielikums Nr. 1.4.4.
A3: Nodrošināt bērnu vakcināciju pret masalām, masaliņām, epidēmisko parotītu un vējbakām 4 gadu vecumā (vakcīnas, manipulācija, ārsta apskate)
A5: Apakšprogrammas nosaukums | C5: Papildus nepieciešamais finansējums 2027.gadam | E5: Papildus nepieciešamais finansējums 2028.gadam | G5: Papildus nepieciešamais finansējums turpmāk ik gadu (ja pasākums nav terminēts)
A6: 33.04.00 Centralizēta medikamentu un materiālu iegāde | C6: =SUM(J15) -> 207929 | E6: =SUM(J21) -> 187074.4 | G6: =SUM(J27) -> 168194.2
A7: 33.14.00 Primārās ambulatorās veselības aprūpes nodrošināšana | C7: =SUM(M15) -> 89473.5 | E7: =SUM(M21) -> 80499.6 | G7: =SUM(M27) -> 72375.3
A12: Vakcīnas nosaukums | B12: Vecuma grupa | C12: Rekomendētā vakcinācijas aptvere* | D12: 2027
D13: Demogrāfiskie dati (personu skaits) vai vakcināciju skaits** | E13: Aprēķinātais daudzums (vakcīnas devas) | F13: Prognozējamais daudzums (vakcīnas devas apaļojot) | G13: Vakcīnas cena bez PVN | H13: Vakcīnas cena ar sadārdz. (10%) bez PVN | I13: Indikatīvi prognozētā vakcīnas cena ar PVN | J13: Papildu nepieciešamais finansējums vakcīnu iegādei | K13: Apskate | L13: Manipulācija | M13: Kopā apskate + vakcīnas ievade | N13: Papildu nepieciešamais finansējums
A15: Vakcīna pret masalām, masaliņām un epidēmisko parotītu (MPR) | B15: 4 gadi | C15: 0.95 | D15: 17733 | E15: =ROUND(D15*0.95,0) -> 16846 | F15: 16850 | G15: 10.02 | H15: =ROUND(G15*1.1,2) -> 11.02 | I15: =ROUND(H15*1.12,2) -> 12.34 | J15: =I15*F15 -> 207929 | K15: 4.25 | L15: 1.06 | M15: =(L15+K15)*F15 -> 89473.5 | N15: =M15+J15 -> 297402.5
A18: Vakcīnas nosaukums | B18: Vecuma grupa | C18: Rekomendētā vakcinācijas aptvere* | D18: 2028
D19: Demogrāfiskie dati (personu skaits) vai vakcināciju skaits** | E19: Aprēķinātais daudzums (vakcīnas devas) | F19: Prognozējamais daudzums (vakcīnas devas apaļojot) | G19: Vakcīnas cena bez PVN | H19: Vakcīnas cena ar sadārdz. (10%) bez PVN | I19: Indikatīvi prognozētā vakcīnas cena ar PVN | J19: Papildu nepieciešamais finansējums vakcīnu iegādei | K19: Apskate | L19: Manipulācija | M19: Kopā apskate + vakcīnas ievade | N19: Papildu nepieciešamais finansējums
A21: Vakcīna pret masalām, masaliņām un epidēmisko parotītu (MPR) | B21: 4 gadi | C21: 0.95 | D21: 15962 | E21: =ROUND(D21*0.95,0) -> 15164 | F21: 15160 | G21: 10.02 | H21: =ROUND(G21*1.1,2) -> 11.02 | I21: =ROUND(H21*1.12,2) -> 12.34 | J21: =I21*F21 -> 187074.4 | K21: 4.25 | L21: 1.06 | M21: =(L21+K21)*F21 -> 80499.6 | N21: =M21+J21 -> 267574
A24: Vakcīnas nosaukums | B24: Vecuma grupa | C24: Rekomendētā vakcinācijas aptvere* | D24: 2029
D25: Demogrāfiskie dati (personu skaits) vai vakcināciju skaits** | E25: Aprēķinātais daudzums (vakcīnas devas) | F25: Prognozējamais daudzums (vakcīnas devas apaļojot) | G25: Vakcīnas cena bez PVN | H25: Vakcīnas cena ar sadārdz. (10%) bez PVN | I25: Indikatīvi prognozētā vakcīnas cena ar PVN | J25: Papildu nepieciešamais finansējums vakcīnu iegādei | K25: Apskate | L25: Manipulācija | M25: Kopā apskate + vakcīnas ievade | N25: Papildu nepieciešamais finansējums
A27: Vakcīna pret masalām, masaliņām un epidēmisko parotītu (MPR) | B27: 4 gadi | C27: 0.95 | D27: 14346 | E27: =ROUND(D27*0.95,0) -> 13629 | F27: 13630 | G27: 10.02 | H27: =ROUND(G27*1.1,2) -> 11.02 | I27: =ROUND(H27*1.12,2) -> 12.34 | J27: =I27*F27 -> 168194.2 | K27: 4.25 | L27: 1.06 | M27: =(L27+K27)*F27 -> 72375.3 | N27: =M27+J27 -> 240569.5
A29: * SPKC sniedz datus atbilstoši CSP (https://data.stat.gov.lv/pxweb/lv/OSP_PUB/START__POP__ID__IDS/IDS010/table/tableViewLayout1/) pieejamai informācijai par vakcinējamo personu vecuma kohortu, kā arī vakcinācijas aptveri
A30: ** CSP (https://data.stat.gov.lv/pxweb/lv/OSP_PUB/START__POP__ID__IDS/IDS010/table/tableViewLayout1/) pieejamā informācija

Sheet 2.1.1.
I1: Pielikums Nr. 2.1.1.
A2: Mazināti kardiovaskulāro slimību riski bērniem, nodrošinot ZBLH, kopējā holesterīna, glikozes līmeņa noteikšanu tukšā dūšā (5 -11 g.v.)
A4: Apakšprogrammas nosaukums | B4: Papildus nepieciešamais finansējums 2026.gadam, euro | C4: Papildus nepieciešamais finansējums 2027.gadam, euro | D4: Papildus nepieciešamais finansējums 2028.gadam, euro | E4: Papildus nepieciešamais finansējums turpmāk ik gadu, euro (ja pasākums nav terminēts)
A5: 33.15.00 Laboratorisko izmeklējumu nodrošināšana ambulatorajā aprūpē | B5: =ROUND(I12,0) -> 55460 | C5: =H12 -> 110919.6 | D5: =H12 -> 110919.6 | E5: =H12 -> 110919.6
A7: Manipulācijas kods | B7: Manipulācijas nosaukums | C7: Manipulācijas tarifs, euro | D7: Plānotais manipulāciju skaits vienam pacientam gadā | E7: Indikatīvais pacientu skaits | H7: Nepieciešamais finansējums gadā, euro | I7: Nepieciešamais finansējums 2026. gadā (pusgads), euro
E8: Ambulatori | F8: Dienas stacionārā | G8: Stacionārā
A9: 41058/ 41059/ 41060* | B9: ZBL holesterīna līmenis asinīs | C9: 2.42 | D9: 1 | E9: 22408 | H9: =C9*E9 -> 54227.36
A10: 41056/ 41057** | B10: Kopējais holesterīna līmenis asinīs | C10: 1.38 | D10: 1 | E10: 22408 | H10: =C10*E10 -> 30923.04
A11: 41095 | B11: Glikoze asinīs | C11: 1.15 | D11: 1 | E11: 22408 | H11: =C11*E11 -> 25769.2
H12: =SUM(H9:H11) -> 110919.6 | I12: =H12/2 -> 55459.8
A14: *Manipulāciju sarakstā trīs ZBL holesterīna manipulācijas - ZBL koncentrācija, mazāka par 2,0 mmol/L (41058); koncentrācija no 2,0 mmol/L līdz 2,5 mmol/L (41059); koncentrācija, lielāka par 2,5 mmol/L (41060)
A15: **Manipulāciju sarakstā divas kopējā holesterīna līmeņa manipulācijas - koncentrācija 5 mmol/L vai mazāka (41056); koncentrācija, lielāka par 5 mmol/L (41057)
A16: Pacientu skaits saskaņā ar CSP statistikas datiem par bērnu skaitu 2024.gadā 7 gadu vecumā - 22 408.
A17: Profilatisko pārbaužu aptvere 100%

Sheet 2.1.4.
G1: Pielikums Nr.2.1.4.
A2: Veikta agrīnas dzirdes traucējumu diagnostika jaundzimušajiem ar medicīniskām indikācijām
A3: Jaundzimušajiem ar medicīniskām indikācijām (priekšlaikus dzimušie bērni un bērni, kuri vismaz 5 dienas jaundzimušā periodā ir ārstēti stacionāra intensīvās terapijas nodaļā, kā arī bērni pēc citām konstatētām problēmām) nodrošināta dzirdes pārbaude ar AABR tehnoloģiju agrīnai dzirdes traucējumu diagnostikai un intervencei
A4: Apakšprogrammas nosaukums | B4: Papildus nepieciešamais finansējums 2026.gadam, euro | C4: Papildus nepieciešamais finansējums 2027.gadam, euro | D4: Papildus nepieciešamais finansējums 2028.gadam, euro | E4: Papildus nepieciešamais finansējums turpmāk ik gadu, euro (ja pasākums nav terminēts)
A5: 33.21.00 “Stacionāro veselības aprūpes pakalpojumu nodrošināšana“ | B5: 0 | C5: =C11*D11*G11 -> 28832 | D5: =C5 -> 28832 | E5: =D5 -> 28832
A6: 33.16.00 “Pārējo ambulatoro veselības aprūpes pakalpojumu nodrošināšana“ | B6: 0 | C6: =C11*D11*E11 -> 7208 | D6: =C6 -> 7208 | E6: =D6 -> 7208
A7: Kopā, euro: | B7: =SUM(B5:B6) -> 0 | C7: =SUM(C5:C6) -> 36040 | D7: =SUM(D5:D6) -> 36040 | E7: =SUM(E5:E6) -> 36040
A9: Manipulācijas kods | B9: Manipulācijas nosaukums | C9: Manipulācijas tarifs, euro | D9: Plānotais manipulāciju skaits vienam pacientam gadā | E9: Provizoriskais pacientu skaits | H9: Nepieciešamais finansējums gadā, euro
E10: Ambulatori | F10: Dienas stacionārā | G10: Stacionārā
A11: JAUNS | B11: Automātiskās dzirdes smadzeņu stumbra atbildes reakcijas noteikšana (AABR, automated auditory brainstem response) | C11: =S21 -> 36.04 | D11: 1 | E11: 200 | F11: 0 | G11: 800 | H11: =C11*D11*(E11+G11) -> 36040
F14: Ārsta darba samaksa, euro | G14: Māsas darba samaksa, euro | H14: Palīgpersonāla darba samaksa, euro | I14: Soc.nodoklis % | N14: Pieskaitāmās un netiešās ražošanas izmaksas, euro | O14: Administratīvās izmaksas, euro | P14: Pārējo pamatlīdzekļu amortizācija, euro
E15: Vidējā darba samaksa mēnesī | F15: 2304 | G15: 1388 | H15: 925
E16: Darba samaksas 1 minūtes vērtība | F16: =ROUND(F15/9600,4) -> 0.24 | G16: =ROUND(G15/9600,4) -> 0.1446 | H16: =ROUND(H15/9600,4) -> 0.0964 | I16: 0.2359 | M16: Koeficienti | N16: 0.2857 | O16: 0.0202 | P16: 0.0322
C18: Mainīgās izmaksas | M18: Pastāvīgās izmaksas
A19: Manipulācijas kods | B19: Manipulācijas nosaukums | C19: Ārsta darba laiks, minūtes | D19: Māsas darba laiks, minūtes | E19: Māsas palīga darba laiks, minūtes | F19: Ārsta darba samaksa (D), euro | G19: Māsas darba samaksa (D), euro | H19: Māsas palīga darba samaksa (D), euro | I19: Soc. nodoklis, darba devēja daļa (S), euro | J19: Ārstniecības līdzekļi (M) kopā, euro | K19: Medikamenti, euro | L19: Materiāli, euro | M19: Iekārtu amortizācija (N), euro | N19: Pieskaitāmās un netiešās ražošanas izmaksas (U), euro | O19: Administratīvās izmaksas (A), euro | P19: Pārējo pamatlīdzekļu amortizācija (n), euro | Q19: Kopējās izmaksas, euro | R19: Pacienta līdzmaksājums, euro | S19: Tarifs, euro
A20: 1 | B20: 2 | C20: 3 | D20: 4 | E20: 5 | F20: 6 | G20: 7 | H20: 8 | I20: 9 | J20: 10 = 11 + 12 | K20: 11 | L20: 12 | M20: 13 | N20: 14 | O20: 15 | P20: 16 | Q20: 17 | R20: 18 | S20: 19
A21: JAUNS | B21: Automātiskās dzirdes smadzeņu stumbra atbildes reakcijas noteikšana (AABR, automated auditory brainstem response) | C21: 35 | D21: 25 | E21: 0 | F21: =ROUND((C21*F16),2) -> 8.4 | G21: =ROUND((D21*G16),2) -> 3.62 | H21: =ROUND((E21*H16),2) -> 0 | I21: =ROUND(((F21+G21+H21)*I16),2) -> 2.84 | J21: =K21+L21 -> 16.37 | K21: =[19]Ārstn.līdz.!$G$19 -> 1.11 | L21: =[19]Ārstn.līdz.!$G$14 -> 15.26 | M21: 0.75 | N21: =ROUND((F21+G21+H21)*N16,2) -> 3.43 | O21: =ROUND((F21+G21+H21)*O16,2) -> 0.24 | P21: =ROUND((F21+G21+H21)*P16,2) -> 0.39 | Q21: =ROUND((F21+G21+H21+I21+J21+M21+N21+O21+P21),2) -> 36.04 | R21: 0 | S21: =Q21-R21 -> 36.04
A23: Pacientu skaits saskaņā ar BKUS iesniegto, 800 pacienti stacionārā, kas dzimuši BKUS, un 200 pacienti ambulatori, kas dzimuši citā ārstniecības iestādē.
A24: Pirms šī izmeklējuma veikšanas visiem jaundzimušajiem tiek veikta otoakustiskā emisija.

Sheet 3.1.1.1.
L1: Pielikums Nr.3.1.1.1.
A2: Speciālistu un izmeklējumu (ambulatorā) pieejamības uzlabošana bērniem
A3: Apakšprogrammas nosaukums | B3: Papildus nepieciešamais finansējums 2026.gadam, euro | C3: Papildus nepieciešamais finansējums 2027.gadam, euro | D3: Papildus nepieciešamais finansējums 2028.gadam, euro | E3: Papildus nepieciešamais finansējums turpmāk ik gadu, euro (ja pasākums nav terminēts)
A4: 33.16.00 Pārējo ambulatoro veselības aprūpes pakalpojumu nodrošināšana | B4: 3156186 | C4: 3156186 | D4: 3156186 | E4: 3156186
A6: Apakšprogrammas nosaukums | B6: Papildus nepieciešamais finansējums 2026.gadam, euro | C6: Papildus nepieciešamais finansējums 2027.gadam, euro | D6: Papildus nepieciešamais finansējums 2028.gadam, euro | E6: Papildus nepieciešamais finansējums turpmāk ik gadu, euro (ja pasākums nav terminēts)
A7: 33.16.00 Pārējo ambulatoro veselības aprūpes pakalpojumu nodrošināšana | B7: 3156186 | C7: =B7 -> 3156186 | D7: =C7 -> 3156186 | E7: =D7 -> 3156186
A8: 33.16.00 Esošā budžeta ietvaros (no bāzes finansējuma) | B8: 93 | C8: 93 | D8: 93 | E8: 93
A11: Pakalpojumu programma | B11: Plānotais finansējums 2025. gada 8M (janvāris-augusts) | C11: Izpilde finansējums 2025. gada 8M (janvāris-augusts) | D11: Pārstrāde 2025_8M, euro | E11: Papildus nepieciešamais finansējums 2026.gadā, euro | F11: Papildus pacientu skaits 2026. gadā | G11: Papildus nepieciešamais finansējums 2027.gadā, euro | H11: Papildus pacientu skaits 2027. gadā | I11: Papildus nepieciešamais finansējums 2028. gadā, euro | J11: Papildus pacientu skaits 2028. gadā | K11: Valsts vidējās 1 pakalpojuma izmaksas, euro | L11: Rindu garums uz 01.07.25 (dienas) valstī vidēji
A12: Neiroelektrofizioloģiskie funkcionālie izmeklējumi | B12: 261186.82 | C12: 355533.82 | D12: =C12-B12 -> 94347 | E12: =ROUND(F12*K12,0) -> 141529 | F12: 2058 | G12: =H12*K12 -> 141528.66 | H12: 2058 | I12: =ROUND(J12*K12,0) -> 141529 | J12: 2058 | K12: 68.77 | L12: 163
A13: Kodolmagnētiskā rezonanse | B13: 439937.04 | C13: 722205.04 | D13: =C13-B13 -> 282268 | E13: =ROUND(F13*K13,0) -> 423372 | F13: 3325 | G13: =H13*K13 -> 423372.25 | H13: 3325 | I13: =ROUND(J13*K13,0) -> 423372 | J13: 3325 | K13: 127.33 | L13: 150
A14: Kardioloģija | B14: 145939.97 | C14: 224210.97 | D14: =C14-B14 -> 78271 | E14: =ROUND(F14*K14,0) -> 117422 | F14: 3772 | G14: =ROUND(H14*K14,2) -> 117422.36 | H14: 3772 | I14: =ROUND(J14*K14,0) -> 117422 | J14: 3772 | K14: 31.13 | L14: 119
A15: Dermatoveneroloģija | B15: 774157.39 | C15: 851703.39 | D15: =C15-B15 -> 77546 | E15: =ROUND(F15*K15,0) -> 116308 | F15: 2762 | G15: =ROUND(H15*K15,2) -> 116307.82 | H15: 2762 | I15: =ROUND(J15*K15,0) -> 116308 | J15: 2762 | K15: 42.11 | L15: 90
A16: Sirds asinsvadu sistēmas funkcionālie izmeklējumi | B16: 951293.75 | C16: 1079295.7 | D16: =C16-B16 -> 128002 | E16: =ROUND(F16*K16,0) -> 191994 | F16: 8664 | G16: =H16*K16 -> 191994.24 | H16: 8664 | I16: =ROUND(J16*K16,0) -> 191994 | J16: 8664 | K16: 22.16 | L16: 69-190 atkarībā no izmeklējuma veida
A17: Endokrinoloģija | B17: 188743.74 | C17: 342479.74 | D17: =C17-B17 -> 153736 | E17: =ROUND(F17*K17,0) -> 230567 | F17: 8130 | G17: =ROUND(H17*K17,2) -> 230566.8 | H17: 8130 | I17: =ROUND(J17*K17,0) -> 230567 | J17: 8130 | K17: 28.36 | L17: 172
A18: Alergoloģija | B18: 656114 | C18: 758046 | D18: =C18-B18 -> 101932 | E18: =ROUND(F18*K18,0) -> 152901 | F18: 3296 | G18: =ROUND(H18*K18,2) -> 152901.44 | H18: 3296 | I18: =ROUND(J18*K18,0) -> 152901 | J18: 3296 | K18: 46.39 | L18: 164
A19: Doplerogrāfija | B19: 85454.324 | C19: 212429.32 | D19: =C19-B19 -> 126975 | E19: =ROUND(F19*K19,0) -> 190468 | F19: 5954 | G19: =H19*K19 -> 190468.46 | H19: 5954 | I19: =ROUND(J19*K19,0) -> 190468 | J19: 5954 | K19: 31.99 | L19: 120-195 atkarībā no lokalizācijas
A20: Gastroenteroloģija | B20: 156622.07 | C20: 197953.07 | D20: =C20-B20 -> 41331 | E20: =ROUND(F20*K20,0) -> 61991 | F20: 1894 | G20: =ROUND(H20*K20,2) -> 61990.62 | H20: 1894 | I20: =ROUND(J20*K20,0) -> 61991 | J20: 1894 | K20: 32.73 | L20: 235
A21: Ultrasonogrāfija | B21: 468425.57 | C21: 539121.57 | D21: =C21-B21 -> 70696 | E21: =ROUND(F21*K21,0) -> 106040 | F21: 5735 | G21: =H21*K21 -> 106040.15 | H21: 5735 | I21: =ROUND(J21*K21,0) -> 106040 | J21: 5735 | K21: 18.49 | L21: 66-191 atkarībā no lokalizācijas
A22: Neiroloģija | B22: 1042958.1 | C22: 1162513.1 | D22: =C22-B22 -> 119555 | E22: =ROUND(F22*K22,0) -> 179350 | F22: 4398 | G22: =ROUND(H22*K22,2) -> 179350.44 | H22: 4398 | I22: =ROUND(J22*K22,0) -> 179350 | J22: 4398 | K22: 40.78 | L22: 77
A23: Pulmonoloģija | B23: 125519.71 | C23: 216501.71 | D23: =C23-B23 -> 90982 | E23: =ROUND(F23*K23,0) -> 136458 | F23: 3945 | G23: =ROUND(H23*K23,2) -> 136457.55 | H23: 3945 | I23: =ROUND(J23*K23,0) -> 136458 | J23: 3945 | K23: 34.59 | L23: 57
A24: Anestezioloģija | B24: 192184.65 | C24: 341563.65 | D24: =C24-B24 -> 149379 | E24: =ROUND(F24*K24,0) -> 224086 | F24: 6235 | G24: =ROUND(H24*K24,2) -> 224085.9 | H24: 6235 | I24: =ROUND(J24*K24,0) -> 224086 | J24: 6235 | K24: 35.94 | L24: 31
A25: Rentgenoloģija | B25: 1193170.1 | C25: 1537775.1 | D25: =C25-B25 -> 344605 | E25: =ROUND(F25*K25,0) -> 517044 | F25: 31317 | G25: =H25*K25 -> 517043.67 | H25: 31317 | I25: =ROUND(J25*K25,0) -> 517044 | J25: 31317 | K25: 16.51 | L25: 11
A26: Pediatra konsultācijas | B26: 969571.89 | C26: 1214069.9 | D26: =C26-B26 -> 244498 | E26: =ROUND(F26*K26,0) -> 366749 | F26: 8468 | G26: =ROUND(H26*K26,2) -> 366749.08 | H26: 8468 | I26: =ROUND(J26*K26,0) -> 366749 | J26: 8468 | K26: 43.31
A27: KOPĀ | E27: =SUM(E12:E26) -> 3156279 | F27: =SUM(F12:F26) -> 99953 | G27: =SUM(G12:G26) -> 3156279.4 | H27: =SUM(H12:H26) -> 99953 | I27: =SUM(I12:I26) -> 3156279 | J27: =SUM(J12:J26) -> 99953
A30: GADS/RR | B30: 2026 | C30: 2027 | D30: 2028
A31: Izmeklējumi | B31: =F12+F13+F16+F19+F21+F25 -> 57053 | C31: =H12+H13+H16+H19+H21+H25 -> 57053 | D31: =J12++J13+J16+J19+J21+J25 -> 57053
A32: Konsultācijas | B32: =F14+F15+F17+F18+F20+F22+F23+F24+F26 -> 42900 | C32: =H14+H15+H17+H18+H20+H22+H23+H24+H26 -> 42900 | D32: =J14+J15+J17+J18+J20+J22+J23+J24+J26 -> 42900

Sheet 3.1.1.2.
I1: Pielikums Nr.3.1.1.2.
A2: Sporta medicīnas speciālistu konsultāciju un izmeklējumu pieejamības uzlabošana
A4: Apakšprogrammas nosaukums | B4: Papildus nepieciešamais finansējums 2026.gadam, euro | C4: Papildus nepieciešamais finansējums 2027.gadam, euro | D4: Papildus nepieciešamais finansējums 2028.gadam, euro | E4: Papildus nepieciešamais finansējums turpmāk ik gadu, euro (ja pasākums nav terminēts)
A5: 33.16.00 Pārējo ambulatoro veselības aprūpes pakalpojumu nodrošināšana | B5: =ROUND(E14,0) -> 300047 | C5: =G14 -> 445806.66 | D5: =I14 -> 591566.66 | E5: =I14 -> 591566.66
B8: 2025 | D8: 2026 | F8: 2027 | H8: 2028
A9: Ārstniecības iestāde | B9: Pacientu skaits | C9: Izmaksas, euro | D9: Pacientu skaits | E9: Papildus nepieciešamais finansējums, euro | F9: Pacientu skaits | G9: Papildus nepieciešamais finansējums, euro | H9: Pacientu skaits | I9: Papildus nepieciešamais finansējums, euro
A10: Bērnu klīniskā universitātes slimnīca | B10: 16432 | C10: =B10*(D18+D19+(D20*2)+(D21*2)+D22+D23+D24+D25) -> 1040967.2 | D10: 18500 | E10: =(D10-B10)*(D18+D19+(D20*2)+(D21*2)+D22+D23+D24+D25+D26) -> 150715.84 | F10: 19500 | G10: =ROUND((F10-B10)*(D18+D19+(D20*2)+(D21*2)+D22+D23+D24+D25+D26),2) -> 223595.84 | H10: 20500 | I10: =ROUND((H10-B10)*(D18+D19+(D20*2)+(D21*2)+D22+D23+D24+D25+D26),2) -> 296475.84
A11: Daugavpils olimpiskais centrs | B11: 2659 | C11: =B11*(D18+D19+(D20*2)+(D21*2)+D22+D23+D24+D25) -> 168447.65 | D11: 3000 | E11: =(D11-B11)*(D18+D19+(D20*2)+(D21*2)+D22+D23+D24+D25+D26) -> 24852.08 | F11: 3250 | G11: =ROUND((F11-B11)*(D18+D19+(D20*2)+(D21*2)+D22+D23+D24+D25+D26),2)-0.3 -> 43071.78 | H11: 3500 | I11: =ROUND((H11-B11)*(D18+D19+(D20*2)+(D21*2)+D22+D23+D24+D25+D26),2)-0.3 -> 61291.78
A12: Valmiera olimpiskais centrs | B12: 792 | C12: =B12*(D18+D19+(D20*2)+(D21*2)+D22+D23+D24+D25) -> 50173.2 | D12: 1500 | E12: =(D12-B12)*(D18+D19+(D20*2)+(D21*2)+D22+D23+D24+D25+D26) -> 51599.04 | F12: 1750 | G12: =ROUND((F12-B12)*(D18+D19+(D20*2)+(D21*2)+D22+D23+D24+D25+D26),2) -> 69819.04 | H12: 2000 | I12: =ROUND((H12-B12)*(D18+D19+(D20*2)+(D21*2)+D22+D23+D24+D25+D26),2) -> 88039.04
A13: Liepājas olimpiskais centrs | B13: 0 | C13: 0 | D13: 1000 | E13: =(D13-B13)*(D18+D19+(D20*2)+(D21*2)+D22+D23+D24+D25+D26) -> 72880 | F13: 1500 | G13: =ROUND((F13-B13)*(D18+D19+(D20*2)+(D21*2)+D22+D23+D24+D25+D26),2) -> 109320 | H13: 2000 | I13: =ROUND((H13-B13)*(D18+D19+(D20*2)+(D21*2)+D22+D23+D24+D25+D26),2) -> 145760
A14: KOPĀ | B14: 19883 | C14: =SUM(C10:C13) -> 1259588 | D14: 24000 | E14: =SUM(E10:E13) -> 300046.96 | F14: 26000 | G14: =SUM(G10:G13) -> 445806.66 | H14: 28000 | I14: =SUM(I10:I13) -> 591566.66
A17: Manipulācijas kods | B17: Manipulācijas nosaukums | D17: Tarifs, euro | E17: Reizes vienam pacientam
B18: Sporta ārsta konsultācijas | D18: 28.13 | E18: 1
A19: 02405 | B19: Fiziskās sagatavotības novērtēšana pēc EUROFIT metodes bērniem un pusaudžiem vecumā no 8 līdz 18 gadiem | D19: 9.67 | E19: 1
A20: 06003 | B20: Elektrokardiogrammas ar 12 novadījumiem pieraksts | D20: 1.83 | E20: 2
A21: 06004 | B21: Elektrokardiogrammas ar 12 novadījumiem apraksts | D21: 6.06 | E21: 2
A22: 40003 | B22: Asins ņemšana ar slēgtu sistēmu vienā stobriņā | D22: 1.52 | E22: 1
A23: 40042 | B23: Pilna asins aina (hemoglobīns, eritrocīti, leikocīti, trombocīti, hematokrīts, leikocītu formula (vismaz neitrofīli, eozinofīli, bazofīli, limfocīti, monocīti)). Papildus nenorādīt manipulācijas 40010, 40014 | D23: 3.93 | E23: 1
A24: 40148 | B24: Urīna analīze ar teststrēmeli (9-10 parametri) | D24: 1.72 | E24: 1
A25: 17017 | B25: Redzes asuma noteikšana tuvumā vai tālumā abām acīm | D25: 2.6 | E25: 1
A26: 09004 | B26: Pēdu noslogojuma noteikšana ar podogrāfu (statiskā) | D26: 9.53 | E26: 1

Sheet 3.1.1.3.
L1: Pielikums 3.1.1.3.
A2: Pediatra kabineta izveide
A3: Apakšprogrammas nosaukums | B3: Papildus nepieciešamais finansējums 2026.gadam, euro | C3: Papildus nepieciešamais finansējums 2027.gadam, euro | D3: Papildus nepieciešamais finansējums 2028.gadam, euro | E3: Papildus nepieciešamais finansējums turpmāk ik gadu, euro (ja pasākums nav terminēts)
A4: 33.16.00 “Pārējo ambulatoro veselības aprūpes pakalpojumu nodrošināšana“ | B4: =L9 -> 59126 | C4: =L9 -> 59126 | D4: =L9 -> 59126 | E4: =D4 -> 59126
E7: 2304 | F7: 1388 | H7: 0.2359
