Workbook
Name __xlfn_SUMIFS: #N/A
Name _1_2_d_NMP_lim: #REF!
Name _1_2_d_NMP_lim: #REF!
Name _1_2_d_NMP_lim: #REF!
Name _1_2_d_NMP_lim: #REF!
Name _1_2_d_NMP_lim: #REF!
Name _ftn1: KOPSAVILKUMS!$A$185
Name _ftnref1: KOPSAVILKUMS!$C$25
Name _Hlk188604623: KOPSAVILKUMS!#REF!
Name aa: #REF!
Name aa: #REF!
Name aa: #REF!
Name aa: #REF!
Name aa: #REF!
Name an: #REF!
Name an: #REF!
Name an: #REF!
Name b: #REF!
Name b: #REF!
Name b: #REF!
Name bt: #REF!
Name bt: #REF!
Name bt: #REF!
Name bt: #REF!
Name bt: #REF!
Name BX: #REF!
Name BX: #REF!
Name BX: #REF!
Name BX: #REF!
Name BX: #REF!
Name CalendarYear: #REF!
Name CalendarYear: #REF!
Name CalendarYear: #REF!
Name ccc: #REF!
Name ccc: #REF!
Name ccc: #REF!
Name d: #REF!
Name d: #REF!
Name d: #REF!
Name D_Evija3: #REF!
Name D_Evija3: #REF!
Name D_Evija3: #REF!
Name DaysAndWeeks: {0,1,2,3,4,5,6} + {0;1;2;3;4;5}*7
Name DaysAndWeeks: {0,1,2,3,4,5,6} + {0;1;2;3;4;5}*7
Name DaysAndWeeks: {0,1,2,3,4,5,6} + {0;1;2;3;4;5}*7
Name DaysAndWeeks: {0,1,2,3,4,5,6} + {0;1;2;3;4;5}*7
Name DaysAndWeeks: {0,1,2,3,4,5,6} + {0;1;2;3;4;5}*7
Name DaysAndWeeks: {0,1,2,3,4,5,6} + {0;1;2;3;4;5}*7
Name DaysAndWeeks: {0,1,2,3,4,5,6} + {0;1;2;3;4;5}*7
Name DaysAndWeeks: {0,1,2,3,4,5,6} + {0;1;2;3;4;5}*7
Name DaysAndWeeks: {0,1,2,3,4,5,6} + {0;1;2;3;4;5}*7
Name DaysAndWeeks: {0,1,2,3,4,5,6} + {0;1;2;3;4;5}*7
Name DaysAndWeeks: {0,1,2,3,4,5,6} + {0;1;2;3;4;5}*7
Name DaysAndWeeks: {0,1,2,3,4,5,6} + {0;1;2;3;4;5}*7
Name DaysAndWeeks: {0,1,2,3,4,5,6} + {0;1;2;3;4;5}*7
Name DaysAndWeeks: {0,1,2,3,4,5,6} + {0;1;2;3;4;5}*7
Name DaysAndWeeks: {0,1,2,3,4,5,6} + {0;1;2;3;4;5}*7
Name DaysAndWeeks: {0,1,2,3,4,5,6} + {0;1;2;3;4;5}*7
Name DaysAndWeeks: {0,1,2,3,4,5,6} + {0;1;2;3;4;5}*7
Name DaysAndWeeks: {0,1,2,3,4,5,6} + {0;1;2;3;4;5}*7

Sheet KOPSAVILKUMS
K1: =K22+K65+K80+K143 -> 13825031 | P1: Pielikums Mātes un bērna veselības uzlabošanas plānam 2025.-2027.gadam
A2: Nr. p.k. | B2: Pasākums | C2: Darbības rezultāts | D2: Rezultatīvais rādītājs | E2: Budžeta programmas (apakšprogrammas kods un nosaukums) | G2: Uzdevumu īstenošanai plānotais finansējums atbilstoši likumam "Par valsts budžetu 2025.gadam un budžeta ietvaru 2025., 2026. un 2027.gadam" | J2: Nepieciešamais papildu finansējums | P2: Atbildīgā institūcija | Q2: Līdzatbildīgās institūcijas | R2: Finansējuma avots | S2: Izpildes termiņš
G3: 2025.gads | H3: 2026.gads | I3: 2027.gads | J3: 2025.gads | K3: 2026.gads | L3: 2027.gads | M3: 2028.gads | N3: Turpmākajā laikposmā līdz pasākuma pabeigšanai (ja pasākuma īstenošana ir terminēta) | O3: Turpmāk ik gadu (ja pasākuma izpilde nav terminēta)
A4: KOPĒJAIS NEPIECIEŠAMAIS FINANSĒJUMS PLĀNA REALIZĀCIJAI: | G4: =G5+G6 -> 1.0665518e+08 | H4: =H5+H6 -> 1.078635e+08 | I4: =I5+I6 -> 1.076124e+08 | J4: =J5+J6 -> 0 | K4: =K5+K6 -> 13825031 | L4: =L5+L6 -> 35886468 | M4: =M5+M6 -> 34675393 | N4: =N5+N6 -> #REF! | O4: =O5+O6 -> 33181425
B5: Finansējums valsts pamatfunkciju īstenošanai | G5: =G8 -> 1.0665518e+08 | H5: =H8 -> 1.0676073e+08 | I5: =I8 -> 1.0665483e+08 | J5: =J8 -> 0 | K5: =K8 -> 13825031 | L5: =L8 -> 35886468 | M5: =M8 -> 34675393 | N5: =N8 -> #REF! | O5: =O8 -> 33181425
B6: Finansējums ES politiku instrumentu un pārējās ĀFP līdzfinansēto un finansēto projektu un pasākumu īstenošanai | G6: =G9 -> 0 | H6: =H9 -> 1102772 | I6: =I9 -> 957572 | J6: =J9 -> 0 | K6: =K9 -> 0 | L6: =L9 -> 0 | M6: =M9 -> 0 | N6: =N9 -> 0 | O6: =O9 -> 0
B7: Veselības ministrija | G7: =G8+G9 -> 1.0665518e+08 | H7: =H8+H9 -> 1.078635e+08 | I7: =I8+I9 -> 1.076124e+08 | J7: =J8+J9 -> 0 | K7: =K8+K9 -> 13825031 | L7: =L8+L9 -> 35886468 | M7: =M8+M9 -> 34675393 | N7: =N8+N9 -> #REF! | O7: =O8+O9 -> 33181425
B8: VBF | G8: =G10+G11+G17+G12+G13+G14+G15+G16+G18+G19 -> 1.0665518e+08 | H8: =H10+H11+H17+H12+H13+H14+H15+H16+H18+H19 -> 1.0676073e+08 | I8: =I10+I11+I17+I12+I13+I14+I15+I16+I18+I19 -> 1.0665483e+08 | J8: =J10+J11+J17+J12+J13+J14+J15+J16+J18+J19 -> 0 | K8: =K10+K11+K17+K12+K13+K14+K15+K16+K18+K19 -> 13825031 | L8: =L10+L11+L17+L12+L13+L14+L15+L16+L18+L19 -> 35886468 | M8: =M10+M11+M17+M12+M13+M14+M15+M16+M18+M19 -> 34675393 | N8: =N10+N11+N17+N12+N13+N14+N15+N16+N18+N19 -> #REF! | O8: =O10+O11+O17+O12+O13+O14+O15+O16+O18+O19 -> 33181425
B9: ES fondi | G9: =G21+G20 -> 0 | H9: =H21+H20 -> 1102772 | I9: =I21+I20 -> 957572 | J9: =J21+J20 -> 0 | K9: =K21+K20 -> 0 | L9: =L21+L20 -> 0 | M9: =M21+M20 -> 0 | N9: =N21+N20 -> 0 | O9: =O21+O20 -> 0
E10: 33.03.00 "Kompensējamo medikamentu un materiālu apmaksāšana" | G10: =G164+G139+G100 -> 0 | H10: =H164+H139+H100 -> 0 | I10: =I164+I139+I100 -> 0 | J10: =J164+J139+J100 -> 0 | K10: =K164+K139+K100 -> 2519705.5 | L10: =L164+L139+L100 -> 2373945.5 | M10: =M164+M139+M100 -> 2228186 | N10: =N164+N139+N100 -> 847872 | O10: =O164+O139+O100 -> 2228186
E11: 33.04.00 "Centralizēta medikamentu un materiālu iegāde" | G11: =G56+G58+G61+G63+G86 -> 2193328 | H11: =H56+H58+H61+H63+H86 -> 2193328 | I11: =I56+I58+I61+I63+I86 -> 2193328 | J11: =J56+J58+J61+J63+J86 -> 0 | K11: =K56+K58+K61+K63+K86 -> 75156 | L11: =L56+L58+L61+L63+L86 -> 8641534.8 | M11: =M56+M58+M61+M63+M86 -> 5587003.4 | N11: =N56+N58+N61+N63+N86 -> 3843173.8 | O11: =O56+O58+O61+O63+O86 -> 4011368
E12: 33.14.00 "Primārās ambulatorās veselības aprūpes nodrošināšana" | G12: =G57+G59+G62+G64+G109+G112+G113 -> 10451280 | H12: =H57+H59+H62+H64+H109+H112+H113 -> 10451280 | I12: =I57+I59+I62+I64+I109+I112+I113 -> 10451280 | J12: =J57+J59+J62+J64+J109+J112+J113 -> 0 | K12: =K57+K59+K62+K64+K109+K112+K113 -> 0 | L12: =L57+L59+L62+L64+L109+L112+L113 -> 11081236 | M12: =M57+M59+M62+M64+M109+M112+M113 -> 12364242 | N12: =N57+N59+N62+N64+N109+N112+N113 -> 11869563 | O12: =O57+O59+O62+O64+O109+O112+O113 -> 11941938
E13: 33.15.00 "Laboratorisko izmeklējumu nodrošināšana ambulatorajā aprūpē" | G13: =G30+G70+G101+G105+G153+G155 -> 2805933 | H13: =H30+H70+H101+H105+H153+H155 -> 2805933 | I13: =I30+I70+I101+I105+I153+I155 -> 2805933 | J13: =J30+J70+J101+J105+J153+J155 -> 0 | K13: =K30+K70+K101+K105+K153+K155 -> 85998 | L13: =L30+L70+L101+L105+L153+L155 -> 324368.71 | M13: =M30+M70+M101+M105+M153+M155 -> 377038.18 | N13: =N30+N70+N101+N105+N153+N155 -> 232716.04 | O13: =O30+O70+O101+O105+O153+O155 -> 419612.22
E14: 33.16.00 "Pārējo ambulatoro veselības aprūpes pakalpojumu nodrošināšana" | G14: =G31+G38+G79+G88+G98+G85+G106+G115+G127+G131+G136+G137+G138+G146+G159+G83+G27+G84+G87+G142+G94+G157+G156 -> 5518542.1 | H14: =H31+H38+H79+H88+H98+H85+H106+H115+H127+H131+H136+H137+H138+H146+H159+H83+H27+H84+H87+H142+H94+H157+H156 -> 5618542.1 | I14: =I31+I38+I79+I88+I98+I85+I106+I115+I127+I131+I136+I137+I138+I146+I159+I83+I27+I84+I87+I142+I94+I157+I156 -> 5518542.1 | J14: =J31+J38+J79+J88+J98+J85+J106+J115+J127+J131+J136+J137+J138+J146+J159+J83+J27+J84+J87+J142+J94+J157+J156 -> 0 | K14: =K31+K38+K79+K88+K98+K85+K106+K115+K127+K131+K136+K137+K138+K146+K159+K83+K27+K84+K87+K142+K94+K157+K156 -> 6043463 | L14: =L31+L38+L79+L88+L98+L85+L106+L115+L127+L131+L136+L137+L138+L146+L159+L83+L27+L84+L87+L142+L94+L157+L156 -> 7894442 | M14: =M31+M38+M79+M88+M98+M85+M106+M115+M127+M131+M136+M137+M138+M146+M159+M83+M27+M84+M87+M142+M94+M157+M156 -> 8479733.2 | N14: =N31+N38+N79+N88+N98+N85+N106+N115+N127+N131+N136+N137+N138+N146+N159+N83+N27+N84+N87+N142+N94+N157+N156 -> 7354420.3 | O14: =O31+O38+O79+O88+O98+O85+O106+O115+O127+O131+O136+O137+O138+O146+O159+O83+O27+O84+O87+O142+O94+O157+O156 -> 8896359.3
E15: 33.17.00 Neatliekamās medicīniskās palīdzības nodrošināšana stacionārās ārstniecības iestādēs | G15: =G91+G103+G160 -> 51042640 | H15: =H91+H103+H160 -> 51042640 | I15: =I91+I103+I160 -> 51042640 | J15: =J91+J103+J160 -> 0 | K15: =K91+K103+K160 -> 0 | L15: =L91+L103+L160 -> 0 | M15: =M91+M103+M160 -> 0 | N15: =N91+N103+N160 -> 168984.45 | O15: =O91+O103+O160 -> 0
E16: 33.18.00 "Plānveida stacionāro veselības aprūpes pakalpojumu nodrošināšana" | G16: =G32+G77+G89+G92+G102+G129+G151+G161+G168+G178+G96 -> 34632205 | H16: =H32+H77+H89+H92+H102+H129+H151+H161+H168+H178+H96 -> 34632205 | I16: =I32+I77+I89+I92+I102+I129+I151+I161+I168+I178+I96 -> 34632205 | J16: =J32+J77+J89+J92+J102+J129+J151+J161+J168+J178+J96 -> 0 | K16: =K32+K77+K89+K92+K102+K129+K151+K161+K168+K178+K96 -> 0 | L16: =L32+L77+L89+L92+L102+L129+L151+L161+L168+L178+L96 -> 0 | M16: =M32+M77+M89+M92+M102+M129+M151+M161+M168+M178+M96 -> 0 | N16: =N32+N77+N89+N92+N102+N129+N151+N161+N168+N178+N96 -> #REF! | O16: =O32+O77+O89+O92+O102+O129+O151+O161+O168+O178+O96 -> 0
E17: 33.21.00 "Stacionāro veselības aprūpes pakalpojumu nodrošināšana" * | G17: =G33+G78+G93+G95+G97+G104+G130+G152+G162+G169+G179+G90 -> 0 | H17: =H33+H78+H93+H95+H97+H104+H130+H152+H162+H169+H179+H90 -> 0 | I17: =I33+I78+I93+I95+I97+I104+I130+I152+I162+I169+I179+I90 -> 0 | J17: =J33+J78+J93+J95+J97+J104+J130+J152+J162+J169+J179+J90 -> 0 | K17: =K33+K78+K93+K95+K97+K104+K130+K152+K162+K169+K179+K90 -> 4897010.2 | L17: =L33+L78+L93+L95+L97+L104+L130+L152+L162+L169+L179+L90 -> 5367243.4 | M17: =M33+M78+M93+M95+M97+M104+M130+M152+M162+M169+M179+M90 -> 5435492.1 | N17: =N33+N78+N93+N95+N97+N104+N130+N152+N162+N169+N179+N90 -> 4995965.7 | O17: =O33+O78+O93+O95+O97+O104+O130+O152+O162+O169+O179+O90 -> 5480263.2
E18: 46.03.00 "Slimību profilakses nodrošināšana" | G18: =G25+G34+G36+G39+G41+G43+G44+G46+G48 -> 11250 | H18: =H25+H34+H36+H39+H41+H43+H44+H46+H48 -> 16800 | I18: =I25+I34+I36+I39+I41+I43+I44+I46+I48 -> 10900 | J18: =J25+J34+J36+J39+J41+J43+J44+J46+J48 -> 0 | K18: =K25+K34+K36+K39+K41+K43+K44+K46+K48 -> 0 | L18: =L25+L34+L36+L39+L41+L43+L44+L46+L48 -> 0 | M18: =M25+M34+M36+M39+M41+M43+M44+M46+M48 -> 0 | N18: =N25+N34+N36+N39+N41+N43+N44+N46+N48 -> 0 | O18: =O25+O34+O36+O39+O41+O43+O44+O46+O48 -> 0
E19: 39.03.00"Asins un asins komponentu nodrošināšana" | G19: =G99 -> 0 | H19: =H99 -> 0 | I19: =I99 -> 0 | J19: =J99 -> 0 | K19: =K99 -> 203698 | L19: =L99 -> 203698 | M19: =M99 -> 203698 | N19: =N99 -> 203698 | O19: =O99 -> 203698
E20: Valsts kanceleja "Eiropas Sociālā fonda Plus (ESF+) projektu īstenošana (2021-2027)" | G20: =G118+G119 -> 0 | H20: =H118+H119 -> 957572 | I20: =I118+I119 -> 957572 | J20: =J118+J119 -> 0 | K20: =K118+K119 -> 0 | L20: =L118+L119 -> 0 | M20: =M118+M119 -> 0 | N20: =N118+N119 -> 0 | O20: =O118+O119 -> 0
E21: 63.08.00 "Eiropas Sociālā fonda Plus (ESF+) projektu īstenošana (2021-2027)" | G21: =G47+G108+G158 -> 0 | H21: =H47+H108+H158 -> 145200 | I21: =I47+I108+I158 -> 0 | J21: =J47+J108+J158 -> 0 | K21: =K47+K108+K158 -> 0 | L21: =L47+L108+L158 -> 0 | M21: =M47+M108+M158 -> 0 | N21: =N47+N108+N158 -> 0 | O21: =O47+O108+O158 -> 0
A22: 1. Rīcības virziens | C22: Primārā slimību profilakse (riska faktoru un slimību attīstības novēršana, imunizācija) | G22: =G23+G35+G49+G55 -> 2805637 | H22: =H23+H35+H49+H55 -> 2859587 | I22: =I23+I35+I49+I55 -> 2805287 | J22: =J23+J35+J49+J55 -> 0 | K22: =K23+K35+K49+K55 -> 3168 | L22: =L23+L35+L49+L55 -> 11294470 | M22: =M23+M35+M49+M55 -> 7944900.5 | N22: =N23+N35+N49+N55 -> 6040066.4 | O22: =O23+O35+O49+O55 -> 6450932.1
A23: 1.1. Sabiedrības izglītošana seksuālās un reproduktīvās veselības jautājumos, kontracepcijas pakalpojuma nodrošināšana, grūtniecības plānošana. | G23: =G24+G25+G26+G28+G29+G34+G27 -> 27476 | H23: =H24+H25+H26+H28+H29+H34+H27 -> 33536 | I23: =I24+I25+I26+I28+I29+I34+I27 -> 33536 | J23: =J24+J25+J26+J28+J29+J34+J27 -> 0 | K23: =K24+K25+K26+K28+K29+K34+K27 -> 3168 | L23: =L24+L25+L26+L28+L29+L34+L27 -> 1011110.5 | M23: =M24+M25+M26+M28+M29+M34+M27 -> 1515081.8 | N23: =N24+N25+N26+N28+N29+N34+N27 -> 1848756.8 | O23: =O24+O25+O26+O28+O29+O34+O27 -> 2019053
A24: 1.1.1. | B24: Izglītot bērnus, pusaudžus un jauniešus seksuālās un reproduktīvās veselības jautājumos. | C24: Palielinās bērnu, jauniešu un pusaudžu zināšanas un izpratne seksuālās un reproduktīvās veselības jautājumos, rūpes par savu reproduktīvo veselību, kā arī tiek veicinātas atbildīgas, cieņpilnas un drošas seksuālās attiecības. | D24: Īstenoti izglītojoši pasākumi bērniem, pusaudžiem, jauniešiem, kas palielina izpratni par seksuālās un reproduktīvās veselības jautājumiem, izmantojot pierādījumos balstītus un jau izstrādātus, ieviestus materiālus un programmas seksuālās un reproduktīvās veselības jomā. Nodrošināta izglītojošo materiālu, tai skaitā informācijas izplatīšana ģimenes ārstu praksēs digitālā formātā. | G24: 0 | H24: 0 | I24: 0 | J24: 0 | K24: 0 | L24: 0 | M24: 0 | N24: 0 | O24: 0 | P24: VM, SPKC | Q24: BKUS, NVO, pašvaldības | R24: Esošā budžeta ietvaros | S24: Visu periodu
D25: Regulāri atjaunoti, mūsdienīgi un pusaudžus un jauniešus uzrunājoši elektroniski pieejami un izplatīti informatīvie materiāli par seksuālās un reproduktīvās veselības jautājumiem, tai skaitā par STI profilaksi un kontracepcijas iespējām. | E25: 46.03.00 "Slimību profilakses nodrošināšana" (Veselības ministrija) | G25: 0 | H25: 1720 | I25: 1720 | J25: 0 | K25: 0 | L25: 0 | M25: 0 | O25: 0 | P25: VM, SPKC | Q25: NVO, pašvaldības | R25: Esošā budžeta ietvaros | S25: Visu periodu
C26: Palielināta vecmāšu iesaiste jauniešu izglītošanā, kontracepcijas līdzekļu nozīmēšanā un STI noteikšanā jauniešiem bez hroniskām blakusslimībām; samazināts nevēlamu grūtniecību un mākslīgo abortu gadījumu skaits jauniešu vidū. | D26: Nodrošinātas apmācības 70% vecmāšu, kuras strādā ar jauniešiem, tai skaitā reģionālajās ārstniecības iestādēs | G26: 0 | H26: 0 | I26: 0 | J26: 0 | K26: 0 | L26: 0 | M26: 0 | O26: 0 | P26: VM | Q26: NVO, BKUS MVC, pašvaldības | R26: Esošā budžeta ietvaros | S26: 2026.gada 2. pusgads
C27: Nodrošināta vecmātes konsultācijas sniegšana jauniešiem jautājumos par kontracepciju, STI profilaksi un citiem seksuālās un reproduktīvās veselības jautājumiem. ** | E27: 33.16.00"Pārējo ambulatoro veselības aprūpes pakalpojumu nodrošināšana“ | G27: 0 | H27: 0 | I27: 0 | J27: 0 | K27: ='1.1.1.'!B5 -> 3168 | L27: ='1.1.1.'!C5 -> 3168 | M27: ='1.1.1.'!D5 -> 3168 | N27: ='1.1.1.'!E5 -> 3168 | O27: ='1.1.1.'!E5 -> 3168 | P27: VM | Q27: LVA | R27: VBF | S27: 2026.gads
A28: 1.1.2. | B28: Uzlabot iedzīvotāju, tai skaitā, bērnu vecāku, aizbildņus, audžu ģimenes un citu bērnu aprūpē iesaistīto personu zināšanas jautājumos par seksuālo un reproduktīvo veselību, kā arī komunikācijas prasmes ar bērnu vai pusaudzi par seksuālo un reproduktīvo veselību. | C28: Sniegtas papildu zināšanas un prasmes vecākiem, aizbildņiem un veicināta izpratne par seksuālās un reproduktīvās veselības jautājumiem, par sarunu vadīšanu un komunikāciju ar bērnu vai pusaudzi par seksuālās un reproduktīvās veselības jautājumiem, seksualitāti, drošu un cieņpilnu attiecību veidošanu. | D28: Īstenoti izglītojoši pasākumi vecākiem, aizbildņiem, audžu ģimenēm un citām bērnu aprūpē iesaistītām personām, lai uzlabotu komunikācijas un sarunu vadīšanas prasmes ar pusaudžiem par seksuālo un reproduktīvo veselību, t.sk. izmantojot jau izstrādātus, ieviestus materiālus un programmas seksuālās un reproduktīvās veselības jomā. | G28: 0 | H28: 0 | I28: 0 | J28: 0 | K28: 0 | L28: 0 | M28: 0 | O28: 0 | P28: VM, SPKC | Q28: NVO, pašvaldības | R28: Esošā budžeta ietvaros | S28: 2027.gada 4.ceturksnis
A29: 1.1.3. | B29: Paplašināt valsts apmaksātu kontracepcijas pakalpojumu saņemšanas iespējas sievietēm, kuras ir pakļautas sociālās atstumtības riskam, un jauniešiem. | C29: Samazinās nevēlamas grūtniecības gadījumu skaits sociālās atstumtības riskam pakļautām sievietēm un jaunietēm. | D29: Paplašināts to sociālajam riskam pakļauto sieviešu un jauniešu līdz 25 gadu vecumam loks, kuram tiek nodrošināta valsts apmaksāta kontracepcija, tai skaitā, sievietēm reproduktīvajā vecumā ar invaliditāti vai trūcīgās vai maznodrošinātās mājsaimniecības statusu un sievietēm, kurām pārtrauktas aizgādības tiesības, kā arī jaunietēm no ārpusģimenes aprūpes un pilngadību sasniegušām jaunietēm pēc ārpusģimenes aprūpes līdz 21 gada vecuma sasniegšanai vai, ja mācās vispārējās izglītības vai profesionālās izglītības iestādē vai studē augstākajā izglītības iestādē, tostarp koledžā, — līdz 24 gadu vecuma sasniegšanai. Pakalpojums nodrošināts: 2027.gadā - 6 137 pacientēm. | G29: =G30+G31+G32+G33 -> 27476 | H29: =H30+H31+H32+H33 -> 27476 | I29: =I30+I31+I32+I33 -> 27476 | J29: =J30+J31+J32+J33 -> 0 | K29: =K30+K31+K32+K33 -> 0 | L29: =L30+L31+L32+L33 -> 1007942.5 | M29: =M30+M31+M32+M33 -> 1511913.8 | N29: =N30+N31+N32+N33 -> 1845588.8 | O29: =O30+O31+O32+O33 -> 2015885 | P29: NVD | Q29: VM, ārstniecības personu profesionālās asociācijas, NVO | R29: VBF | S29: 2027.gads
D30: Kontracepcijas nodrošināšana jaunietēm līdz 25 gadu vecumam, sievietēm reproduktīvajā vecumā ar invaliditāti vai trūcīgās/ maznodrošinātās statusu | E30: 33.15.00 Laboratorisko izmeklējumu nodrošināšana ambulatorajā aprūpē | G30: 3532 | H30: 3532 | I30: 3532 | J30: 0 | K30: 0 | L30: ='1.1.3.'!C5 -> 85148.091 | M30: ='1.1.3.'!D5 -> 127722.14 | O30: ='1.1.3.'!E5 -> 170296.18 | P30: NVD | Q30: VM, Ārstniecības personu profesionālās asociācijas | R30: VBF
E31: 33.16.00 Pārējo ambulatoro veselības aprūpes pakalpojumu nodrošināšana | G31: 16853 | H31: 16853 | I31: 16853 | J31: 0 | K31: 0 | L31: ='1.1.3.'!C6 -> 833252.17 | M31: ='1.1.3.'!D6 -> 1249878.3 | N31: ='1.1.3.'!E6 -> 1666504.3 | O31: ='1.1.3.'!E6 -> 1666504.3 | P31: NVD | Q31: VM, Ārstniecības personu profesionālās asociācijas | R31: VBF
E32: 33.18.00 Plānveida stacionāro veselības aprūpes pakalpojumu nodrošināšana | G32: 7091 | H32: 7091 | I32: 7091 | J32: 0 | K32: 0 | L32: 0 | M32: 0 | N32: ='1.1.3.'!E7 -> 179084.49 | O32: 0 | P32: NVD | Q32: VM, Ārstniecības personu profesionālās asociācijas | R32: VBF
E33: 33.21.00 "Stacionāro veselības aprūpes pakalpojumu nodrošināšana" * | G33: 0 | H33: 0 | I33: 0 | J33: 0 | K33: 0 | L33: ='1.1.3.'!C7 -> 89542.243 | M33: ='1.1.3.'!D7 -> 134313.36 | O33: ='1.1.3.'!E7 -> 179084.49
A34: 1.1.4. | B34: Izglītot sabiedrību grūtniecības plānošanas jautājumos. | C34: Veicināta sabiedrības izpratne, prasmes un zināšanas par grūtniecības plānošanu, auglību ietekmējošiem riska faktoriem, grūtniecības norisi, rīcību neplānotas grūtniecības gadījumā, dzemdībām un pēcdzemdību periodu. | D34: Atbilstoši algoritmiem perinatālās aprūpes jomā, pilnveidota un regulāri aktualizēta informācija [1] SPKC mājaslapas sadaļā „Grūtniecība"[2], kā arī digitalizēta un pilnveidota dienasgrāmata"Gribu būt māmiņa". | E34: 46.03.00 "Slimību profilakses nodrošināšana" (Veselības ministrija) | G34: 0 | H34: 4340 | I34: 4340 | J34: 0 | K34: 0 | L34: 0 | M34: 0 | O34: 0 | P34: SPKC | Q34: VM, LVA, LGDSA, ārstniecības iestādes, kuras nodrošina ambulatoros ginekologa, dzemdību speciālista pakalpojumus | R34: Esošā budžeta ietvaros | S34: Visu periodu
A35: 1.2. Jauno un topošo vecāku izglītošana par bērna attīstību un aprūpi, kā arī par psihiskās veselības saglabāšanu un nepieciešamā atbalsta saņemšanas iespējām. | G35: =G36+G37+G38+G39+G40+G41+G42+G43+G44+G45 -> 11250 | H35: =H36+H37+H38+H39+H40+H41+H42+H43+H44+H45 -> 59140 | I35: =I36+I37+I38+I39+I40+I41+I42+I43+I44+I45 -> 4840 | J35: =J36+J37+J38+J39+J40+J41+J42+J43+J44+J45 -> 0 | K35: =K36+K37+K38+K39+K41+K42+K43+K44+K45 -> 0 | L35: =L36+L39+L41+L42+L43+L44+L45+L38 -> 17085.082 | M35: =M36+M39+M41+M42+M43+M44+M45+M38 -> 34170.163 | N35: =N36+N39+N41+N42+N43+N44+N45+N38 -> 34170.163 | O35: =O36+O39+O41+O42+O43+O44+O45+O38 -> 34170.163
A36: 1.2.1. | B36: Izglītot sabiedrību par bērnu attīstības un emocionālās audzināšanas principiem, tai skaitā miega higiēnu un veselību, kā arī digitālo tehnoloģiju pārmērīga un nekontrolēta patēriņa riskiem un ietekmi uz bērnu veselību. | C36: Mazinātas bērnu nevēlamas uzvedības problēmas, veicināta psihoemocionālās vides uzlabošanās ģimenē. | D36: Izstrādāti informatīvi bērnu emocionālo attīstību veicinoši materiāli dažādām vecumgrupām. Nodrošināta izglītojošo materiālu, tai skaitā informācijas izplatīšana ģimenes ārstu praksēs digitālā formātā. | E36: 46.03.00 "Slimību profilakses nodrošināšana" (Veselības ministrija) | G36: 0 | H36: 2175 | I36: 0 | J36: 0 | K36: 0 | L36: 0 | M36: 0 | O36: 0 | P36: SPKC | Q36: BKUS, VM, NVO, profesionālās asociācijas, pašvaldības | R36: Esošā budžeta ietvaros | S36: 2026. gada 2.pusgads
A37: 1.2.1.1. | C37: Nodrošināta valsts atbalsta sniegšana vecākiem, kuriem ir bērni ar attīstības traucējumiem un miega problēmām. | D37: Izveidotas atbalsta grupas vecākiem, kuriem ir bērni ar attīstības traucējumiem un miega problēmām. | E37: 33.16.00 Pārējo ambulatoro veselības aprūpes pakalpojumu nodrošināšana | G37: 0 | H37: 0 | I37: 0 | J37: 0 | K37: 0 | L37: 1.2.1.2. punkta finansējuma ietvaros | M37: 1.2.1.2. punkta finansējuma ietvaros | N37: 27648 | O37: 1.2.1.2. punkta finansējuma ietvaros | P37: VM, NVD | Q37: BKUS | R37: VBF | S37: 2027.gada 1.pusgads
A38: 1.2.1.2. | C38: Samazināta bērnu veselības aprūpē iesaistīto speciālistu noslodze, uzlabotas sabiedrības zināšanas par bērna miega veselību, kā arī zīdaiņu pēkšņās nāves sindromu. | D38: Nodrošinātas regulāras izglītojošās lekcijas topošajiem un jaunajiem vecākiem par bērna miega veselību un zīdaiņu pēkšņās nāves sindromu. | E38: 33.16.00 Pārējo ambulatoro veselības aprūpes pakalpojumu nodrošināšana | G38: 0 | H38: 0 | I38: 0 | J38: 0 | K38: 0 | L38: ='1.2.1.2.'!B6 -> 17085.082 | M38: ='1.2.1.2.'!C6 -> 34170.163 | N38: ='1.2.1.2.'!D6 -> 34170.163 | O38: ='1.2.1.2.'!D6 -> 34170.163 | P38: NVD | Q38: BKUS | R38: VBF | S38: 2027.gads
A39: 1.2.1.3. | D39: Izstrādāts izglītojošs informatīvais materiāls vecākiem, tai skaitā topošajiem un jaunajiem vecākiem, par miega kvalitāti bērniem un tā ietekmi uz attīstību un veselību dažādos vecumposmos. Nodrošināta izglītojošo materiālu, tai skaitā informācijas izplatīšana ģimenes ārstu praksēs, kā arī pašvaldību sociālajos dienestos digitālā formātā. | E39: 46.03.00 "Slimību profilakses nodrošināšana" (Veselības ministrija) | G39: 0 | H39: 750 | I39: 0 | J39: 0 | K39: 0 | L39: 0 | M39: 0 | O39: 0 | P39: SPKC | Q39: BKUS | R39: Esošā budžeta ietvaros | S39: 2026. gada 2.pusgads
A40: 1.2.1.4. | D40: Izstrādāta psiholoģiskā atbalsta programma un izveidotas psiholoģiskā atbalsta grupas motivētiem jauniešiem ar miega traucējumiem, iesaistot speciālistus (psihologs/psihoterapeits), kuri pārvalda kognitīvi biheiviorālo terapiju. | E40: 33.16.00 Pārējo ambulatoro veselības aprūpes pakalpojumu nodrošināšana | G40: 0 | H40: 0 | I40: 0 | J40: 0 | K40: 0 | L40: 1.2.1.2. punkta finansējuma ietvaros | M40: 1.2.1.2. punkta finansējuma ietvaros | O40: 1.2.1.2. punkta finansējuma ietvaros | P40: VM | Q40: BKUS | R40: VBF | S40: 2027. gads
A41: 1.2.2. | B41: Izglītot topošos un jaunos vecākus par bērna funkcionālā novērtējuma veikšanu, bērna attīstību, aprūpi un kopšanu. | C41: Uzlabojas topošo un jauno vecāku zināšanas un izpratne par bērna funkcionālā novērtējuma veikšanu un nozīmi, kā arī par bērna attīstību un aprūpi, tai skaitā par dzemdībām, traumatisma mazināšanu, drošas vides nodrošināšanu, zīdīšanu, piebarošanu, vakcināciju, veselības profilaktiskajām pārbaudēm u.c. | E41: 46.03.00 "Slimību profilakses nodrošināšana" (Veselības ministrija) | G41: =G43+G42 -> 0 | H41: =H43+H42 -> 1455 | I41: =I43+I42 -> 1455 | J41: =J43+J42 -> 0 | K41: =K43+K42 -> 0 | L41: =L43+L42 -> 0 | M41: =M43+M42 -> 0 | N41: =N43+N42 -> 0 | O41: =O43+O42 -> 0
D42: Izstrādāts digitāli pieejams informatīvais materiāls topošajiem vecākiem prasmju un zināšanu uzlabošanai par bērna attīstību, aprūpi un kopšanu, sākot no grūtniecības līdz bērna 3 gadu vecumam. | G42: 0 | H42: 0 | I42: 0 | J42: 0 | K42: 0 | L42: 0 | M42: 0 | O42: 0 | P42: VM, SPKC | Q42: BKUS MVC, profesionālās asociācijas | R42: Esošā budžeta ietvaros | S42: 2026.gada 2.pusgads
D43: Izstrādāts informatīvais materiāls sociālās atstumtības riskam pakļautajiem vecākiem (t.sk. personām ar invaliditāti, garīgās attīstības traucējumiem, personām ar atkarībām). | E43: 46.03.00 "Slimību profilakses nodrošināšana" (Veselības ministrija) | G43: 0 | H43: 1455 | I43: 1455 | J43: 0 | K43: 0 | L43: 0 | M43: 0 | O43: 0 | P43: SPKC | Q43: BKUS | R43: Esošā budžeta ietvaros | S43: 2027.gada 2.pusgads
A44: 1.2.3. | B44: Pilnveidot grūtnieču zināšanas par mutes veselību un vecāku zināšanas par pareizu bērna mutes higiēnu, kā arī pārtikas produktu un uztura paradumu ietekmi uz mutes veselību. | C44: Izglītota sabiedrība par pareizu bērna mutes higiēnu, kā arī pārtikas produktu un uztura paradumu ietekmi uz mutes veselību. | D44: Sagatavoti un izplatīti informatīvie materiāli. Nodrošināta izglītojošo materiālu, tai skaitā informācijas izplatīšana ģimenes ārstu praksēs digitālā formātā. | E44: 46.03.00 "Slimību profilakses nodrošināšana" (Veselības ministrija) | G44: 0 | H44: 1350 | I44: 1930 | J44: 0 | K44: 0 | L44: 0 | M44: 0 | O44: 0 | P44: SPKC | Q44: RSU SI | R44: Esošā budžeta ietvaros | S44: Visu periodu
A45: 1.2.4. | B45: Īstenot pasākumus zīdīšanas veicināšanai. | C45: Veicināta ekskluzīvā zīdīšana. | G45: =G46+G47+G48 -> 11250 | H45: =H46+H47+H48 -> 51955 | I45: =I46+I47+I48 -> 0 | J45: =J46+J47+J48 -> 0 | K45: =K46+K47+K48 -> 0 | L45: =L46+L47+L48 -> 0 | M45: =M46+M47+M48 -> 0 | N45: =N46+N47+N48 -> 0 | O45: =O46+O47+O48 -> 0
D46: Nodrošināta aktualizētā informatīvā materiāla „Zīdīšanas ABC" izstrāde, popularizēšana un izplatīšana mērķauditorijai, tai skaitā caur ārstniecības iestādēm. | E46: 46.03.00 "Slimību profilakses nodrošināšana" (Veselības ministrija) | G46: 0 | H46: 3555 | I46: 0 | J46: 0 | K46: 0 | L46: 0 | M46: 0 | O46: 0 | P46: SPKC | Q46: Profesionālās asociācijas, ārstniecības iestādes | R46: Esošā budžeta ietvaros | S46: 2026.gada 1.pusgads
D47: Izstrādāts klīniskais ceļš, klīniskais algoritms un kvalitātes kritēriji ārstniecības personām zīdīšanas uzsākšanai, veicināšanai un vadīšanai. Vērtēta iespēja organizēt izglītojošus pasākumus ārstniecības personālam. | E47: 63.08.00 "Eiropas Sociālā fonda Plus (ESF+) projektu īstenošana (2021-2027)" (Veselības ministrija) | G47: 0 | H47: 48400 | I47: 0 | J47: 0 | K47: 0 | L47: 0 | M47: 0 | O47: 0 | P47: VM, SPKC | Q47: LVA, LGDSA, NVO, BKUS MVC | R47: ESF+ projekts Nr. 4.1.2.7/1/24/I/001"Pilnveidot pacientu drošību un aprūpes kvalitāti" | S47: 2026. gada 2.pusgads
D48: Izstrādāti vismaz 4 video materiāli topošajiem un jaunajiem vecākiem par zīdīšanas veicināšanu un ieteikumiem biežāko problēmsituāciju risināšanai. Nodrošināta materiālu publicitāte un pieejamība. | E48: 46.03.00 "Slimību profilakses nodrošināšana" (Veselības ministrija) | G48: 11250 | H48: 0 | I48: 0 | J48: 0 | K48: 0 | L48: 0 | M48: 0 | P48: SPKC | Q48: VM, LZVKA, LVA | R48: Esošā budžeta ietvaros | S48: 2025. gada 2. pusgads
A49: 1.3. Sabiedrības informēšana par izplatītākajām akūtajām slimībām, kā arī aktualitātēm pneimonoloģijā un alergoloģijā un infekcijas slimību jomā. | G49: =G50+G51+G52+G53+G54 -> 0 | H49: =H50+H51+H52+H53+H54 -> 0 | I49: =I50+I51+I52+I53+I54 -> 0 | J49: =J50+J51+J52+J53+J54 -> 0 | K49: =K50+K51+K52+K53+K54 -> 0 | L49: =L50+L51+L52+L53+L54 -> 0 | M49: =M50+M51+M52+M53+M54 -> 0 | N49: =N50+N51+N52+N53+N54 -> 0 | O49: =O50+O51+O52+O53+O54 -> 0
A50: 1.3.1. | B50: Regulāri izglītot ārstniecības personas, pacientus un bērnu vecākus par aktuālajām tēmām bērnu alergoloģijā un pneimonoloģijā. | C50: 1) uzlabojas ārstniecības personu, pacientu un bērnu vecāku izpratne par elpošanas sistēmas slimībām un to ārstēšanu; 2) uzlabojas speciālistu savstarpējā sadarbība; 3) mazinās izmeklējumu nelietderīgas veikšanas un speciālistu nepamatotas apmeklēšanas gadījumu skaits; 4) uzlabojas pacientu un bērnu vecāku līdzestība un hronisko slimību gaitas kontrole. | D50: Katru gadu nodrošinātas lekcijas ārstniecības personām. | G50: 0 | H50: 0 | I50: 0 | J50: 0 | K50: 0 | L50: 0 | M50: 0 | O50: 0 | P50: VM | Q50: BKUS MVC, NVD | R50: Esošā budžeta ietvaros | S50: Visu periodu
D51: Izstrādāts informatīvais materiāls pacientu vecākiem | G51: 0 | H51: 0 | I51: 0 | J51: 0 | K51: 0 | L51: 0 | M51: 0 | O51: 0 | P51: VM | Q51: BKUS MVC | R51: Esošā budžeta ietvaros | S51: 2026.gada 1.pusgads
A52: 1.3.2. | B52: Paaugstināt vecāku veselībpratību jautājumos par izplatītākajām akūtajām slimībām bērniem. | C52: Samazinās ambulatoro pacientu nepamatotu apmeklējumu skaits un pārslodze stacionāru neatliekamās medicīniskās palīdzības nodaļās, nodrošinot bērnu vecākiem publiski pieejamu informāciju par rīcību gadījumā, kad bērns ir akūti saslimis. | D52: Nodrošināta informatīvā materiāla „Bērns saslimis" portālā"Vesela pasaule" popularizēšana un izplatīšana mērķauditorijai, t.sk. caur ārstniecības un izglītības iestādēm un pašvaldību dienestiem | G52: 0 | H52: 0 | I52: 0 | J52: 0 | K52: 0 | L52: 0 | M52: 0 | O52: 0 | P52: VM | Q52: BKUS MVC, SPKC, Ārstniecības iestādes, izglītības iestādes, ģimenes ārstu prakses | R52: Esošā budžeta ietvaros | S52: Visu periodu
D53: Pārskatīti rīcības ceļi vecākiem gadījumos, kad bērns ir akūti saslimis. | G53: 0 | H53: 0 | I53: 0 | J53: 0 | K53: 0 | L53: 0 | M53: 0 | O53: 0 | P53: VM | Q53: BKUS MVC | R53: Esošā budžeta ietvaros | S53: 2026.gada 2.pusgads
D54: Izveidots sadarbības modelis ar ģimenes ārstu, kas nodrošina jauno vecāku izglītošanu par slimību profilaksi un rīcību akūto slimību gadījumos. | G54: 0 | H54: 0 | I54: 0 | J54: 0 | K54: 0 | L54: 0 | M54: 0 | O54: 0 | P54: VM | Q54: BKUS MVC, LĢĀA, LLĢĀA | R54: Esošā budžeta ietvaros | S54: 2026.gada 1.pusgads
A55: 1.4. Imunizācija | G55: =G56+G57+G58+G59+G60+G61+G62+G63+G64 -> 2766911 | H55: =H56+H57+H58+H59+H60+H61+H62+H63+H64 -> 2766911 | I55: =I56+I57+I58+I59+I60+I61+I62+I63+I64 -> 2766911 | J55: =J56+J57+J58+J59+J60+J61+J62+J63+J64 -> 0 | K55: =K56+K57+K58+K59+K60+K61+K62+K63+K64 -> 0 | L55: =L56+L57+L58+L59+L60+L61+L62+L63+L64 -> 10266274 | M55: =M56+M57+M58+M59+M60+M61+M62+M63+M64 -> 6395648.6 | N55: =N56+N57+N58+N59+N60+N61+N62+N63+N64 -> 4157139.4 | O55: =O56+O57+O58+O59+O60+O61+O62+O63+O64 -> 4397708.9
A56: 1.4.1. | B56: Nodrošināt valsts apmaksātu vakcināciju pret ĒE. | C56: Samazināta bērnu saslimstības ar ĒE gadījumu skaits | D56: Visiem bērniem no 1 gada vecuma nodrošinātu valsts apmaksātu vakcināciju pret ĒE | E56: 33.04.00 "Centralizēta medikamentu un materiālu iegāde" | G56: 371390 | H56: 371390 | I56: 371390 | J56: 0 | K56: 0 | L56: ='1.4.1.'!C6 -> 5646231.4 | M56: ='1.4.1.'!D6 -> 2612554.6 | N56: ='1.4.1.'!E6 -> 1055799.4 | O56: ='1.4.1.'!E6 -> 1055799.4 | P56: NVD, SPKC, VM | Q56: IVP, BKUS ĢVC | R56: VBF | S56: 2027. gads
E57: 33.14.00 Primārās ambulatorās veselības aprūpes nodrošināšana | G57: 108690 | H57: 108690 | I57: 108690 | J57: 0 | K57: 0 | L57: ='1.4.1.'!C7 -> 1502199 | M57: ='1.4.1.'!D7 -> 695079 | N57: ='1.4.1.'!E7 -> 280899 | O57: ='1.4.1.'!E7 -> 280899
A58: 1.4.2. | B58: Paplašināt pasīvo imunizāciju pret RSV, nodrošinot to visiem jaundzimušajiem RSV sezonā, tostarp priekšlaikus dzimušiem bērniem un zīdaiņiem ar iedzimtām sirdskaitēm vai bronhopulmonālu displāziju. | C58: Nodrošināta RSV infekcijas profilakse visiem jaundzimušajiem RSV sezonas laikā, to pirmajā dzīves gadā, tostarp priekšlaikus dzimušajiem un bērniem ar noteiktām hroniskām diagnozēm, izmantojot ilgstošas darbības RSV antivielas. | D58: Visiem jaundzimušajiem RSV sezonas periodā (novembris–aprīlis), tostarp priekšlaikus dzimušajiem un bērniem ar iedzimtām sirdskaitēm vai bronhopulmonālu displāziju, tiek nodrošināta viena ķermeņa svaram pielāgota ilgstošas darbības RSV antivielas deva. | E58: 33.04.00 "Centralizēta medikamentu un materiālu iegāde" | G58: 0 | H58: 0 | I58: 0 | J58: 0 | K58: 0 | L58: ='1.4.2.'!C7 -> 2558913.3 | M58: ='1.4.2.'!D7 -> 2558913.3 | N58: ='1.4.2.'!E7 -> 2558913.3 | O58: ='1.4.2.'!E7 -> 2558913.3 | P58: NVD, VM, SPKC | Q58: IVP, BKUS | R58: VBF | S58: 2027. gads
E59: 33.14.00 Primārās ambulatorās veselības aprūpes nodrošināšana | G59: 0 | H59: 0 | I59: 0 | J59: 0 | K59: 0 | L59: ='1.4.2.'!C8 -> 39389.58 | M59: ='1.4.2.'!D8 -> 39389.58 | N59: ='1.4.2.'!E8 -> 39389.58 | O59: ='1.4.2.'!E8 -> 39389.58
A60: 1.4.3. | B60: Nodrošināt noteiktu veselības riska grupu bērniem paplašinātu valsts apmaksāto vakcinācijas pakalpojumu klāstu pret dzīvību apdraudošām infekcijām (piemēram, pret pneimokoku infekciju – bērniem, kas dzimuši pirms vakcīnas iekļaušanas vakcinācijas kalendārā; pret meningokoku infekciju, A hepatītu). | C60: Izvērtētas pacientu riska grupas, kurām ar ārstu konsīlija lēmumu būtu nodrošināmas noteiktas vakcinācijas kalendārā neiekļautās vakcīnas. | D60: Izveidotas augsta veselības riska bērnu vakcinācijas shēmas un pacientu ceļi | G60: 0 | H60: 0 | I60: 0 | J60: 0 | K60: 0 | L60: 0 | M60: 0 | O60: 0 | P60: NVD, SPKC, VM | Q60: BKUS MVC, IVP | R60: Esošā budžeta ietvaros | S60: 2027.gads
D61: Ieviests valsts apmaksāts vakcinācijas pakalpojums bērniem pret šo bērnu dzīvību apdraudošām infekcijām. | E61: 33.04.00 "Centralizēta medikamentu un materiālu iegāde" | G61: 1400784 | H61: 1400784 | I61: 1400784 | J61: 0 | K61: 0 | L61: ='1.4.3.'!C7 -> 78201.2 | M61: ='1.4.3.'!D7 -> 78201.2 | N61: ='1.4.3.'!E7 -> 78201.2 | O61: ='1.4.3.'!E7 -> 78201.2 | P61: NVD, VM | Q61: BKUS | R61: VBF | S61: 2027. gada 2.pusgads
E62: 33.14.00 Primārās ambulatorās veselības aprūpes nodrošināšana | G62: 265649 | H62: 265649 | I62: 265649 | J62: 0 | K62: 0 | L62: ='1.4.3.'!C8 -> 143937 | M62: ='1.4.3.'!D8 -> 143937 | N62: ='1.4.3.'!E8 -> 143937 | O62: ='1.4.3.'!E8 -> 143937
A63: 1.4.4. | B63: Nodrošināt bērnu vakcināciju pret masalām, masaliņām, epidēmisko parotītu un vējbakām ar otro vakcīnas devu agrākā dzīves periodā (4 gadu vecumā). (vakcīnas, manipulācija, ārsta apskate) | C63: Samazināti individuālie un sabiedrības veselības riski bērnu vakcinācijā ar otro masalu, masaliņu, epidēmiskā parotīta un vējbaku vakcīnas devu, kas pašlaik tiek veikta 7 gadu vecumā | D63: Nodrošināta bērnu vakcinācija pret masalām, masaliņām, epidēmisko parotītu un vējbakām ar otro vakcīnas devu 4 gadu vecumā, nevis 7 gadu vecumā, tādējādi efektīvāk aizsargājot bērnus pret inficēšanos ar masalām un novēršot nepietiekamu aizsardzību pret minētājām infekcijas slimībām. | E63: 33.04.00 Centralizēta medikamentu un materiālu iegāde | G63: 421154 | H63: 421154 | I63: 421154 | K63: 0 | L63: ='1.4.4.'!C6 -> 207929 | M63: {='1.4.4.'!E6:F6} -> 187074.4 | N63: 0 | O63: ='1.4.4.'!G6 -> 168194.2 | P63: NVD, SPKC, VM | Q63: IVP, Nacionālā masalu un masaliņu eliminācijas komisija | R63: VBF | S63: 2027. gads
E64: 33.14.00 Primārās ambulatorās veselības aprūpes nodrošināšana | G64: 199244 | H64: 199244 | I64: 199244 | K64: 0 | L64: ='1.4.4.'!C7 -> 89473.5 | M64: {='1.4.4.'!E7:F7} -> 80499.6 | N64: 0 | O64: ='1.4.4.'!G7 -> 72375.3
A65: 2. Rīcības virziens | C65: Sekundārā slimību profilakse (profilaktiskās apskates, sijājošā diagnostika) | G65: =G66 -> 3220245 | H65: =H66 -> 3220245 | I65: =I66 -> 3220245 | J65: =J66 -> 0 | K65: =K66 -> 55460 | L65: =L66 -> 146959.6 | M65: =M66 -> 146959.6 | N65: =N66 -> 146959.6 | O65: =O66 -> 146959.6
A66: 2.1. Bērnu profilaktiskās apskates, neinfekcijas slimību skrīnings | G66: =G67+G68+G71+G72+G73+G74+G75+G76+G77+G79+G70+G69+G78 -> 3220245 | H66: =H67+H68+H71+H72+H73+H74+H75+H76+H77+H79+H70+H69+H78 -> 3220245 | I66: =I67+I68+I71+I72+I73+I74+I75+I76+I77+I79+I70+I69+I78 -> 3220245 | J66: =J67+J68+J71+J72+J73+J74+J75+J76+J77+J79+J70+J69+J78 -> 0 | K66: =K67+K68+K71+K72+K73+K74+K75+K76+K77+K79+K70+K69+K78 -> 55460 | L66: =L67+L68+L71+L72+L73+L74+L75+L76+L77+L79+L70+L69+L78 -> 146959.6 | M66: =M67+M68+M71+M72+M73+M74+M75+M76+M77+M79+M70+M69+M78 -> 146959.6 | N66: =N67+N68+N71+N72+N73+N74+N75+N76+N77+N79+N70+N69+N78 -> 146959.6 | O66: =O67+O68+O71+O72+O73+O74+O75+O76+O77+O79+O70+O69+O78 -> 146959.6
A67: 2.1.1. | B67: Pārskatīt un pilnveidot ģimenes ārsta praksē veicamās bērnu profilaktiskās apskates, vienlaikus iekļaujot tajās: 1) bērnu sirds un asinsvadu skrīningu; 2) agrīnās attīstības skrīningu (BAASIK); 3) pubertātes traucējumu agrīnu atpazīšanu, lai samazinātu onkoloģisku procesu novēlotas diagnostikas gadījumu skaitu (sekundāro dzimumpazīmju izvērtēšana pēc Tannera skalas reizi gadā katram bērnam neatkarīgi no vecuma) | C67: Laikus konstatētas novirzes no normas bērna veselībā un attīstībā, nodrošinot: 1)asinsspiediena mērīšanu no 3 g.v. (mērījumu novērtējums pēc procentīļu tabulām); 2) informēšanu par smēķēšanas kaitīgumu (5-9 g.v.); 3)12 novadījumu elektrokardiogrāfijas veikšanu bērniem (6-7 g.v.), lai atpazītu dzīvībai bīstamos sirds ritma traucējumus: garā QT sindroms, blokādes, WPW sindroms, Brugada sindroms u.c. 4) ģimenes dislipidēmijas gadījumā nodrošinot ZBLH un kopējā holesterīna līmeņa noteikšanu; hiperholesterinēmijas gadījumā - bērnu endokrinologa un kardiologa konsultāciju. | D67: Pārskatīts ģimenes ārstu praksēs veicamo bērnu profilaktisko apskašu saturs, kā arī pārskatīti un standartizēti fizikālās visu orgānu sistēmu izmeklēšanas kritēriji un izstrādāti grozījumi NA. | G67: 0 | H67: 0 | I67: 0 | J67: 0 | K67: 0 | L67: 0 | M67: 0 | O67: 0 | P67: VM, NVD | Q67: SPKC, LBKA, LKB, LĢĀA, LLĢĀA, LJĀA, RSU, BKUS | R67: VBF | S67: 2027. gada 2 pusgads
D68: Izstrādāts klīniskais algoritms, klīniskais ceļš un kvalitātes indikatori kardiovaskulārā riska mazināšanai un dzīvībai bīstamo sirds ritma traucējumu atpazīšanai bērniem. | G68: 0 | H68: 0 | I68: 0 | J68: 0 | K68: 0 | L68: 0 | M68: 0 | O68: 0 | P68: VM | Q68: RSU, BKUS MVC, profesionālās asociācijas | R68: Esošā budžeta ietvaros | S68: 2026. gada 1.pusgads
D69: Nodrošināts profilaktiskās apskates ietvaros veicamo izmeklējumu klāsts | G69: 0 | H69: 0 | I69: 0 | J69: 0 | K69: 0 | L69: 0 | M69: 0 | O69: 0 | P69: NVD | R69: Esošā budžeta ietvaros | S69: 2027.gads
C70: Mazināti kardiovaskulāro slimību riski bērniem, nodrošinot ZBLH, kopējā holesterīna, glikozes līmeņa noteikšanu tukšā dūšā (5-11 g.v.); ģimenes dislipidēmijas gadījumā – pirmās pakāpes radinieku (māsas/brāļi) reverso skrīningu. ** | D70: Indikatīvi 22 408 bērniem sirds un asinsvadu skrīninga ietvaros nodrošināti izmeklējumi kardiovaskulāro slimību risku noteikšanai. | E70: 33.15.00 Laboratorisko izmeklējumu nodrošināšana ambulatorajā aprūpē | G70: 2781328 | H70: 2781328 | I70: 2781328 | J70: 0 | K70: ='2.1.1.'!B5 -> 55460 | L70: ='2.1.1.'!C5 -> 110919.6 | M70: ='2.1.1.'!D5 -> 110919.6 | N70: ='2.1.1.'!E5 -> 110919.6 | O70: ='2.1.1.'!E5 -> 110919.6 | P70: NVD | R70: VBF | S70: 2026. gads
C71: Izvērtēt BAASIK testēšanas pieredzi un efektivitāti. Īstenot ģimenes ārstu apmācības BAASIK lietošanā, kā arī ģimenes ārstu praksēs uzsākta agrīnās attīstības skrīninga programmas īstenošana bērniem līdz 6 gadu vecumam. | D71: Balstoties uz veiktā izvērtējuma rezultātiem, minētais instruments pielāgots praktiskai lietošanai primārajā veselības aprūpē. | G71: 0 | H71: 0 | I71: 0 | J71: 0 | K71: 0 | L71: 0 | M71: 0 | O71: 0 | P71: VM | Q71: MVC ģimenes medicīnas jomā (RSU), LLĢĀA, BKUS, LĢĀA, LLĢĀA, VK, IZM | R71: Esošā budžeta ietvaros | S71: 2026. gads
A72: 2.1.2. | B72: Integrēt profilaktiskās aprūpes datus bērniem vecumā līdz 18 gadiem, tai skaitā bērna augšanas līknes, e-veselības sistēmā, nodrošinot bērnu augšanas traucējumu un svara dinamikas noviržu agrīnu diagnostiku. | C72: Nodrošināta bērnu augšanas traucējumu un svara dinamikas noviržu agrīna diagnostika un svara pieauguma izsekojamība dinamikā, veicot antropometrisko mērījumu skrīningu un aizpildot augšanas līknes (1. dzīves gadā – reizi mēnesī; 1 – 4 g.v. - reizi 6 mēnešos; 4 – 18 g.v. – reizi 12 mēnešos). | D72: 1) veikta analīze, izvērtējot MK noteikumu Nr. 265 51. pielikumā"Bērna medicīniskā karte" ietvertos datus un precizējot digitalizējamos datus; 2) sniegti priekšlikumi normatīvo aktu grozījumiem; 3) veikti finanšu aprēķini izmaiņu veikšanai un datu apmaiņas nodrošināšanai informācijas sistēmās. | G72: 0 | H72: 0 | I72: 0 | J72: 0 | K72: 0 | L72: 0 | M72: 0 | O72: 0 | P72: VM, NVD | Q72: BKUS, LĢĀA, LLĢĀA, LDVC, VK, VDAA, LSFP. | R72: Esošā budžeta ietvaros | S72: 2026. gads
A73: 2.1.3. | B73: Pilnveidot bērnu redzes un acu skrīningu | C73: Izveidotas vienotas redzes skrīninga vadlīnijas visiem skrīninga īstenošanā iesaistītajiem speciālistiem, kas nodrošinātu 90% mērķa grupas aptveri un efektīvu oftalmologa resursu izmantošanu bērnu redzes problēmu novēršanai, kā arī veicinātu optometristu iesaisti bērnu acu pārbaužu veikšanā to kompetences ietvaros, lai mazinātu rindu pie oftalmologa pacientiem ar jau noteiktiem redzes traucējumiem. | D73: Īstenots pilotprojekts"Bērnu acu un redzes skrīnings profilaktiskās bērnu veselības aprūpes skrīninga programmas ietvaros Latvijā" ar mērķi izveidot redzes skrīningu, kuru veic optometrists. Izstrādāts pacientu ceļš. | G73: 0 | H73: 0 | I73: 0 | J73: 0 | K73: 0 | L73: 0 | M73: 0 | O73: 0 | P73: NVD, VM | Q73: BKUS MVC, LAĀA, LĢĀA, LLĢĀA, LNB, LOOA, LMA | R73: Esošā budžeta ietvaros | S73: 2026. gada 1.pusgads
D74: Izstrādāti grozījumi NA (MK not. Nr. 555) ar mērķi iekļaut optometrista sniegtus pakalpojumu valsts apmaksāto pakalpojumu grozā, kā individuāli strādājoša speciālista sniegtu pakalpojumu. | G74: 0 | H74: 0 | I74: 0 | J74: 0 | K74: 0 | L74: 0 | M74: 0 | O74: 0 | P74: VM | Q74: NVD, BKUS MVC | R74: Esošā budžeta ietvaros | S74: 2026.gada 2.pusgads
D75: Veikti grozījumi NA (MK 555 15.pielikums), papildinot ģimenes ārstu gada darbības rādītāju kritēriju sarakstu ar acu sārtā refleksa skrīninga veikšanu. | G75: 0 | H75: 0 | I75: 0 | J75: 0 | K75: 0 | L75: 0 | M75: 0 | O75: 0 | P75: VM | Q75: NVD, BKUS MVC | R75: Esošā budžeta ietvaros | S75: 2025.gada 2.pusgads
D76: Izanalizēti dati par acu sārtā refleksa monitorēšanu un rezultātiem. Izvērtēts veselības aprūpes pakalpojuma sniedzamais apjoms un veikti aprēķini pakalpojuma nodrošināšanai. | G76: 0 | H76: 0 | I76: 0 | J76: 0 | K76: 0 | L76: 0 | M76: 0 | O76: 0 | P76: NVD | Q76: BKUS MVC | R76: Esošā budžeta ietvaros | S76: 2026.gada 2.pusgads
A77: 2.1.4. | B77: Pilnveidot bērnu dzirdes skrīningu | C77: Jaundzimušajiem ar medicīniskām indikācijām (priekšlaikus dzimušie bērni un bērni, kuri vismaz 5 dienas jaundzimušā periodā ir ārstēti stacionāra intensīvās terapijas nodaļā, kā arī bērni pēc citām konstatētām problēmām) nodrošināta dzirdes pārbaude ar AABR tehnoloģiju agrīnai dzirdes traucējumu diagnostikai un intervencei. ** | D77: Nodrošināta valsts apmaksāta dzirdes pārbaude ar AABR tehnoloģiju agrīnai dzirdes traucējumu diagnostikai un intervence jaundzimušajiem ar medicīniskām indikācijām Izvērtēts veselības aprūpes pakalpojuma sniedzamais apjoms un veikti aprēķini pakalpojuma nodrošināšanai. Veikti grozījumi NA (MK noteikumi Nr. 611, MK noteikumi Nr. 555). | E77: 33.18.00 Plānveida stacionāro veselības aprūpes pakalpojumu nodrošināšana | G77: 438917 | H77: 438917 | I77: 438917 | J77: 0 | K77: 0 | L77: 0 | M77: 0 | N77: ='2.1.4.'!E5 -> 28832 | O77: 0 | P77: NVD | Q77: VM, BKUS, Latvijas Bērnu dzirdes centrs | R77: VBF | S77: 2027.gada 1.pusgads
E78: 33.21.00 "Stacionāro veselības aprūpes pakalpojumu nodrošināšana" * | G78: 0 | H78: 0 | I78: 0 | J78: 0 | K78: 0 | L78: ='2.1.4.'!C5 -> 28832 | M78: ='2.1.4.'!D5 -> 28832 | O78: ='2.1.4.'!E5 -> 28832
E79: 33.16.00 Pārējo ambulatoro veselības aprūpes pakalpojumu nodrošināšana | G79: 0 | H79: 0 | I79: 0 | J79: 0 | K79: 0 | L79: ='2.1.4.'!C6 -> 7208 | M79: ='2.1.4.'!D6 -> 7208 | N79: ='2.1.4.'!E6 -> 7208 | O79: ='2.1.4.'!E6 -> 7208
A80: 3. Rīcības virziens | C80: Slimību diagnostika un ārstēšana (terciārās slimību profilakses līmenis) | G80: =G81+G120+G132 -> 1.0210798e+08 | H80: =H81+H120+H132 -> 1.0311395e+08 | I80: =I81+I120+I132 -> 1.0306555e+08 | J80: =J81+J120+J132 -> 0 | K80: =K81+K120+K132 -> 12331351 | L80: =L81+L120+L132 -> 31656152 | M80: =M81+M120+M132 -> 35860173 | N80: =N81+N120+N132 -> #REF! | O80: =O81+O120+O132 -> 35860173
A81: 3.1. Veselības aprūpes pakalpojumu un zāļu pieejamība bērniem | G81: =G82+G101+G102+G103+G105+G106+G107+G108+G109+G111+G114+G115+G116+G117+G104+G112+G113+G118+G119 -> 98575080 | H81: =H82+H101+H102+H103+H105+H106+H107+H108+H109+H111+H114+H115+H116+H117+H104+H112+H113+H118+H119 -> 99581052 | I81: =I82+I101+I102+I103+I105+I106+I107+I108+I109+I111+I114+I115+I116+I117+I104+I112+I113+I118+I119 -> 99532652 | J81: =J82+J101+J102+J103+J105+J106+J107+J108+J109+J111+J114+J115+J116+J117+J104+J112+J113+J118+J119 -> 0 | K81: =K82+K101+K102+K103+K105+K106+K107+K108+K109+K111+K114+K115+K116+K117+K104+K112+K113+K118+K119 -> 9356775.2 | L81: =L82+L101+L102+L103+L105+L106+L107+L108+L109+L111+L114+L115+L116+L117+L104+L112+L113+L118+L119 -> 28130639 | M81: =M82+M101+M102+M103+M105+M106+M107+M108+M109+M111+M114+M115+M116+M117+M104+M112+M113+M118+M119 -> 32334660 | N81: =N82+N101+N102+N103+N105+N106+N107+N108+N109+N111+N114+N115+N116+N117+N104+N112+N113+N118+N119 -> #REF! | O81: =O82+O101+O102+O103+O105+O106+O107+O108+O109+O111+O114+O115+O116+O117+O104+O112+O113+O118+O119 -> 32334660
A82: 3.1.1. | B82: Uzlabot esošo veselības aprūpes pakalpojumu pieejamību un izvērtēt iespēju ieviest jaunus veselības aprūpes pakalpojumus bērniem | C82: Paplašināts valsts apmaksāto veselības aprūpes pakalpojumu klāsts bērniem, tai skaitā, uzlabota bērnu stacionāro pakalpojumu pieejamība; uzlabota ķirurģijas pakalpojumu pieejamība bērniem; uzlabota pediatra kabineta pieejamība. | D82: Veikti grozījumi NA. | G82: =G83+G88+G89+G91+G92+G96+G85+G98+G84+G86+G87+G99+G90+G93+G94+G95+G97+G100 -> 76793067 | H82: =H83+H88+H89+H91+H92+H96+H85+H98+H84+H86+H87+H99+H90+H93+H94+H95+H97+H100 -> 76793067 | I82: =I83+I88+I89+I91+I92+I96+I85+I98+I84+I86+I87+I99+I90+I93+I94+I95+I97+I100 -> 76793067 | J82: =J83+J88+J89+J91+J92+J96+J85+J98+J84+J86+J87+J99+J90+J93+J94+J95+J97+J100 -> 0 | K82: =K83+K88+K89+K91+K92+K96+K85+K98+K84+K86+K87+K99+K90+K93+K94+K95+K97+K100 -> 9356775.2 | L82: =L83+L88+L89+L91+L92+L96+L85+L98+L84+L86+L87+L99+L90+L93+L94+L95+L97+L100 -> 9602332.9 | M82: =M83+M88+M89+M91+M92+M96+M85+M98+M84+M86+M87+M99+M90+M93+M94+M95+M97+M100 -> 9602332.9 | N82: =N83+N88+N89+N91+N92+N96+N85+N98+N84+N86+N87+N99+N90+N93+N94+N95+N97+N100 -> #REF! | O82: =O83+O88+O89+O91+O92+O96+O85+O98+O84+O86+O87+O99+O90+O93+O94+O95+O97+O100 -> 9602332.9 | P82: VM | Q82: NVD, BKUS | R82: VBF | S82: 2027.gada 1. pusgads
C83: 3.1.1.1. Uzlabota speciālistu konsultāciju un izmeklējumu pieejamība bērniem ambulatorās veselības aprūpes ietvaros ar mērķi laikus konstatēt bērna veselības stāvokļa novirzes no normas un slimības attīstības riska faktorus, kā arī nepieciešamības gadījumā nodrošināt veselības stāvoklim atbilstošu ārstniecību. ** | D83: Bērniem laikus nodrošināta speciālistu konsultāciju un veicamo izmeklējumu pieejamība. | E83: 33.16.00 Pārējo ambulatoro veselības aprūpes pakalpojumu nodrošināšana | G83: 0 | H83: 0 | I83: 0 | J83: 0 | K83: ='3.1.1.1.'!B4 -> 3156186 | L83: ='3.1.1.1.'!C4 -> 3156186 | M83: ='3.1.1.1.'!D4 -> 3156186 | N83: ='3.1.1.1.'!E4 -> 3156186 | O83: ='3.1.1.1.'!E4 -> 3156186 | P83: NVD | R83: VBF | S83: 2026. gads
C84: 3.1.1.2. Sporta medicīnas centra speciālistu konsultāciju un izmeklējumu pieejamības uzlabošana nepilngadīgiem sportistiem un bērniem ar paaugstinātu fizisku slodzi bērniem ** | D84: Sporta medicīnas speciālistu konsultācijas un izmeklējumus saņēmuši: 2026. gadā – 24 000 bērnu; 2027. – 26 000 bērnu. | E84: 33.16.00 Pārējo ambulatoro veselības aprūpes pakalpojumu nodrošināšana | G84: 0 | H84: 0 | I84: 0 | J84: 0 | K84: ='3.1.1.2.'!B5 -> 300047 | L84: ='3.1.1.2.'!C5 -> 445806.66 | M84: ='3.1.1.2.'!D5 -> 591566.66 | N84: ='3.1.1.2.'!E5 -> 591566.66 | O84: ='3.1.1.2.'!E5 -> 591566.66 | P84: NVD | Q84: BKUS, LSFP | R84: VBF | S84: Sākot no 2026. gada
C85: 3.1.1.3. Uzlabota pediatra kabineta pieejamība. ** | D85: Nodrošinātas papildu slodzes pediatra kabineta pieejamības uzlabošanai bērniem. | E85: 33.16.00 Pārējo ambulatoro veselības aprūpes pakalpojumu nodrošināšana | G85: 172233 | H85: 172233 | I85: 172233 | J85: 0 | K85: ='3.1.1.3.'!B4 -> 59126 | L85: ='3.1.1.3.'!C4 -> 59126 | M85: ='3.1.1.3.'!D4 -> 59126 | N85: ='3.1.1.3.'!E4 -> 59126 | O85: ='3.1.1.3.'!E4 -> 59126 | P85: NVD | R85: VBF | S85: 2026.gads
C86: 3.1.1.4. Uzlabota briļļu pieejamība bērniem reģionos ** | D86: Nodrošināta speciālista konsultācija, izmeklējumi un brilles bērniem reģionos. | E86: 33.04.00"Centralizēta medikamentu un materiālu iegāde" | G86: 0 | H86: 0 | I86: 0 | J86: 0 | K86: ='3.1.1.4.'!B4 -> 75156 | L86: ='3.1.1.4.'!C4 -> 150260 | M86: ='3.1.1.4.'!D4 -> 150260 | N86: ='3.1.1.4.'!E4 -> 150260 | O86: ='3.1.1.4.'!E4 -> 150260 | P86: NVD | Q86: BKUS | R86: VBF | S86: 2026.gada 2.pusgads
E87: 33.16.00 "Pārējo ambulatoro veselības aprūpes pakalpojumu nodrošināšana" | G87: 0 | H87: 0 | I87: 0 | J87: 0 | K87: ='3.1.1.4.'!B5 -> 112219 | L87: ='3.1.1.4.'!C5 -> 224360 | M87: ='3.1.1.4.'!D5 -> 224360 | N87: ='3.1.1.4.'!E5 -> 224360 | O87: ='3.1.1.4.'!E5 -> 224360
C88: 3.1.1.5. Uzlabota veselības aprūpes pakalpojumu pieejamība bērniem dienas stacionārā.** | D88: Nodrošināta dienas stacionārā sniegto veselības aprūpes pakalpojumu pieejamība. | E88: 33.16.00 Pārējo ambulatoro veselības aprūpes pakalpojumu nodrošināšana | G88: 0 | H88: 0 | I88: 0 | J88: 0 | K88: ='3.1.1.5.'!B4 -> 225688 | L88: ='3.1.1.5.'!C4 -> 225688 | M88: ='3.1.1.5.'!D4 -> 225688 | N88: ='3.1.1.5.'!E4 -> 225688 | O88: ='3.1.1.5.'!E4 -> 225688 | P88: NVD | R88: VBF | S88: 2026.gada 1. pusgads
C89: 3.1.1.6. Bērnu ķirurģija - tarifu piemaksu pārrēķins vienreizlietojamiem bipolāriem/ultraskaņas instrumentiem | E89: 33.18.00 Plānveida stacionāro veselības aprūpes pakalpojumu nodrošināšana | G89: 8439496 | H89: 8439496 | I89: 8439496 | J89: 0 | K89: 0 | L89: 0 | M89: 0 | N89: ='3.1.1.6.'!E7 -> 53315 | O89: 0 | P89: NVD | R89: VBF | S89: 2027.gads
E90: 33.21.00"Stacionāro veselības aprūpes pakalpojumu nodrošināšana“* | G90: 0 | H90: 0 | I90: 0 | J90: 0 | K90: 0 | L90: ='3.1.1.6.'!C7 -> 53315 | M90: ='3.1.1.6.'!D7 -> 53315 | O90: ='3.1.1.6.'!E7 -> 53315
C91: 3.1.1.7. Uzlabota stacionāro veselības aprūpes pakalpojumu pieejamība bērniem. ** | D91: Stacionārie pakalpojumi bērniem nodrošināti lielākam pacientu skaitam. | E91: 33.17.00 Neatliekamās medicīniskās palīdzības nodrošināšana stacionārās ārstniecības iestādēs | G91: 50144741 | H91: 50144741 | I91: 50144741 | J91: 0 | K91: 0 | L91: 0 | M91: 0 | O91: 0 | P91: NVD | R91: VBF | S91: 2026.gada 1. pusgads
E92: 33.18.00 Plānveida stacionāro veselības aprūpes pakalpojumu nodrošināšana | G92: 18036597 | H92: 18036597 | I92: 18036597 | J92: 0 | K92: 0 | L92: 0 | M92: 0 | N92: =#REF! -> #REF! | O92: 0
E93: 33.21.00"Stacionāro veselības aprūpes pakalpojumu nodrošināšana“ * | G93: 0 | H93: 0 | I93: 0 | J93: 0 | K93: ='3.1.1.7.'!B5 -> 4640815.2 | L93: ='3.1.1.7.'!C5 -> 4640815.2 | M93: ='3.1.1.7.'!D5 -> 4640815.2 | N93: ='3.1.1.7.'!E5 -> 4640815.2 | O93: ='3.1.1.7.'!E5 -> 4640815.2
C94: 3.1.1.8. Uzlabota pakalpojumu pieejamību pacientiem ar asinsvadu slimībām. ** | D94: Nodrošināta inovatīvu manipulāciju veikšana, lietojot pagarinātu perifēro asinsvadu ierīci pacientiem, kuriem asinsvadu anatomijas dēļ ir grūti ievietot asinsvadu ierīci, tādējādi nodrošinot drošu un personalizētu pieeju medikamentu terapijas ievadei. | E94: 33.16.00"Pārējo ambulatoro veselības aprūpes pakalpojumu nodrošināšana“ | G94: 0 | H94: 0 | I94: 0 | J94: 0 | K94: ='3.1.1.8.'!B5 -> 37477 | L94: ='3.1.1.8.'!C5 -> 37477 | M94: ='3.1.1.8.'!D5 -> 37477 | N94: ='3.1.1.8.'!E5 -> 37477 | O94: ='3.1.1.8.'!E5 -> 37477 | P94: NVD | Q94: BKUS | R94: VBF | S94: 2026.gads
E95: 33.21.00"Stacionāro veselības aprūpes pakalpojumu nodrošināšana“ * | G95: 0 | H95: 0 | I95: 0 | J95: 0 | K95: ='3.1.1.8.'!B6 -> 254843 | L95: ='3.1.1.8.'!C6 -> 254843 | M95: ='3.1.1.8.'!D6 -> 254843 | N95: ='3.1.1.8.'!E6 -> 254843 | O95: ='3.1.1.8.'!E6 -> 254843 | P95: NVD | Q95: BKUS | R95: VBF | S95: 2026.gads
C96: 3.1.1.9. Frakcionēta slāpekļa oksīda (NO) noteikšana izelpojamā gaisā degunā bērniem primārās ciliārās diskinēzijas (PCD) diagnosticēšanai | E96: 33.18.00 Plānveida stacionāro veselības aprūpes pakalpojumu nodrošināšana | G96: 0 | H96: 0 | I96: 0 | J96: 0 | K96: 0 | L96: 0 | M96: 0 | O96: 0 | P96: NVD | R96: VBF | S96: 2027.gads
E97: 33.21.00"Stacionāro veselības aprūpes pakalpojumu nodrošināšana“ * | G97: 0 | H97: 0 | I97: 0 | J97: 0 | K97: 0 | L97: ='3.1.1.9.'!H17 -> 2 499.00 | M97: ='3.1.1.9.'!M17 -> 2 499.00 | O97: =M97 -> 2 499.00
E98: 33.16.00 Pārējo ambulatoro veselības aprūpes pakalpojumu nodrošināšana | G98: 0 | H98: 0 | I98: 0 | J98: 0 | K98: 0 | L98: ='3.1.1.9.'!J17 -> 2 499.00 | M98: ='3.1.1.9.'!O17 -> 2 499.00 | O98: =M98 -> 2 499.00
C99: 3.1.1.10. Nodrošināta asins komponentu pieejamība ārstniecības iestādēs bērnu un jaundzimušo sekmīgai ārstēšanai. ** | D99: Uzlabota ārstniecības iestāžu nodrošinātība ar asins komponentiem bērnu un jaundzimušo sekmīgai ārstēšanai (par 25% palielināta pieprasījuma izpilde (asins komponentu devas bērniem uz 1000 iedzīvotājiem)). | E99: 39.03.00"Asins un asins komponentu nodrošināšana" (Veselības ministrija) | G99: 0 | H99: 0 | I99: 0 | J99: 0 | K99: ='3.1.1.10.'!B4 -> 203698 | L99: ='3.1.1.10.'!C4 -> 203698 | M99: ='3.1.1.10.'!D4 -> 203698 | N99: ='3.1.1.10.'!E4 -> 203698 | O99: ='3.1.1.10.'!E4 -> 203698 | P99: VADC | Q99: NVD, VM | R99: VBF | S99: 2026.gads
C100: 3.1.1.11. Uzlabota KZS medikamentu pieejamība bērniem. ** | D100: 2026. gadā 1406 pacientiem nodrošināti medikamenti un 2027. gadā 703 pacientiem nodrošināti medikameni | E100: 33.03.00 "Kompensējamo medikamentu un materiālu apmaksāšana" | G100: 0 | H100: 0 | I100: 0 | K100: ='3.1.1.11.'!B5 -> 291520 | L100: ='3.1.1.11.'!C5 -> 145760 | M100: ='3.1.1.11.'!D5 -> 0 | N100: ='3.1.1.11.'!E5 -> 0 | O100: ='3.1.1.11.'!F5 -> 0 | P100: NVD, VM | R100: VBF | S100: 2026.gads
...

Sheet 1.1.1.
J1: Pielikums Nr.01_P_22.
A2: Izveidota 1 jauna valsts apmaksāta manipulācija, nodrošinot bērniem pieejamību vecmātes konsultācijām par kontracepciju, tai skaitā monitorings
A3: Apakšprogrammas nosaukums | B3: Papildus nepieciešamais finansējums 2026.gadam, euro | C3: Papildus nepieciešamais finansējums 2027.gadam, euro | D3: Papildus nepieciešamais finansējums 2028.gadam, euro | E3: Papildus nepieciešamais finansējums turpmāk ik gadu, euro (ja pasākums nav terminēts) | G3: Ārsta darba samaksa, euro | H3: Māsas darba samaksa, euro | I3: Palīgpersonāla darba samaksa, euro | J3: Soc.nodoklis % | N3: Pieskaitāmās un netiešās ražošanas izmaksas | O3: Administratīvās izmaksas | P3: Pārējo pamatlīdzekļu amortizācija
F4: Mēneša darba samaksa | G4: 2304 | H4: 1388 | I4: 925
A5: 33.16.00 “Pārējo ambulatoro veselības aprūpes pakalpojumu nodrošināšana“ | B5: =I24 -> 3168 | C5: =B5 -> 3168 | D5: =B5 -> 3168 | E5: =D5 -> 3168 | F5: 1 minūtes vērtība darba samaksai | G5: =ROUND(G4/9600,4) -> 0.24 | H5: =ROUND(H4/9600,4) -> 0.1446 | I5: =ROUND(I4/9600,4) -> 0.0964 | J5: 0.2359 | M5: Koeficienti | N5: 0.2857 | O5: 0.0202 | P5: 0.0322
A8: Manipulācijas kods | B8: Manipulācijas nosaukums | C8: Mainīgās izmaksas | Q8: Kopējās izmaksas, euro | R8: Pacienta līdzmaksājums, euro | S8: Tarifs, euro | T8: D | U8: S | V8: M | W8: E | X8: U | Y8: A | Z8: N | AA8: P | AB8: Kopējās izmaksas | AC8: Pacienta līdzmaksājums | AD8: Tarifs
C9: Darba laiks (minūtes) | F9: Darba samaksa D, euro | I9: Valsts sociālās adrošināšanas obligātās iemaksas S, euro | J9: Ārstniecības līdzekļi M, euro | M9: Iekārtu amortizācija N, euro | N9: Pieskaitāmās un netiešās ražošanas izmaksas U, euro | O9: Administratīvās izmaksas A, euro | P9: Pārējo pamatlīdzekļu amortizācija n, euro
C10: ārstam | D10: māsai | E10: jaunākajam personālām | F10: ārstam | G10: māsai | H10: jaunākajam personālam | I10: ārstam, māsai un jaunākajam personālām kopā | J10: M kopā | K10: Medikamenti | L10: Materiāli
A11: 1 | B11: 2 | C11: 3 | D11: 4 | E11: 5 | F11: 6 | G11: 7 | H11: 8 | I11: 9 | J11: 10 = 11 + 12 | K11: 11 | L11: 12 | M11: 13 | N11: 14 | O11: 15 | P11: 16 | Q11: 17 | R11: 18 | S11: 19 | T11: 20 | U11: 21 | V11: 22 | W11: 23 | X11: 24 | Y11: 25 | Z11: 26 | AA11: 27 | AB11: 28 | AC11: 29 | AD11: 30
A12: JAUNS | B12: Vecmātes konsultācija bērniem | C12: 0 | D12: 45 | E12: 0 | F12: =ROUND((C12*$G$5),2) -> 0 | G12: =ROUND((D12*$H$5),2) -> 6.51 | H12: =ROUND((E12*$G$8),2) -> 0 | I12: =ROUND(((F12+G12+H12)*$J$5),2) -> 1.54 | J12: 0.26 | K12: 0 | L12: 0.26 | M12: 0.05 | N12: 1.86 | O12: 0.13 | P12: 0.21 | Q12: =ROUND((F12+G12+H12+I12+J12+M12+N12+O12+P12),2) -> 10.56 | R12: 0 | S12: =Q12-R12 -> 10.56 | T12: =F12+G12+H12 -> 6.51 | U12: =I12 -> 1.54 | V12: =J12 -> 0.26 | X12: =N12 -> 1.86 | Y12: =O12 -> 0.13 | Z12: =M12+P12 -> 0.26 | AB12: =SUM(T12:AA12) -> 10.56 | AC12: =R12 -> 0 | AD12: =AB12-AC12 -> 10.56
A15: Manipulācijas kods | B15: Manipulācijas nosaukums | C15: Manip. tarifs, euro | D15: Aprēķinātais tarifs, euro | E15: Pacienta līdzmaksājums, euro | F15: Papildus manip.tarifam nepieciešamais finansējums, euro | G15: Plānotais pacientu skaits gadā | H15: Plānotais manipulāciju skaits vienam pacientam gadā | I15: Nepieciešamais finansējums gadā, euro | J15: Papildu informācija par finanšu ietekmes aprēķināšanu | K15: Plānotie apmaksas nosacījumi
K16: Ambulatori | L16: Dienas stacionārā | M16: Stacionārā | N16: Zvaigznītes (* vai **) | O16: Lielā ķirurģiskā operācija | P16: Citi apmaksas nosacījumi
A17: JAUNS | B17: Vecmātes konsultācija bērniem | C17: 0 | D17: =Q12 -> 10.56 | E17: 0 | F17: =D17-E17-C17 -> 10.56 | G17: =K17 -> 300 | H17: 1 | I17: =F17*G17*H17 -> 3168 | J17: - | K17: 300 | L17: 0 | M17: 0 | P17: Manipulāciju apmaksā VSIA "Bērnu klīniskā universitātes slimnīca"
G18: =SUM(G17:G17) -> 300 | I18: =SUM(I17:I17) -> 3168 | K18: =K17 -> 300 | L18: =L17 -> 0 | M18: =M17 -> 0
A20: Nr. p.k. | B20: Prioritāra pasākuma nosaukums | C20: Pasākuma doma īsumā (pieejamības uzlabošana, jauns pasākums, tarifa izmaiņas, no plāna pasākumiem izrietošs u.c.) | D20: Manip. kods | E20: Manipulācijas nosaukums | F20: Papildus nepieciešamais valsts budžeta finansējums KOPĀ, euro | G20: Papildus nepieciešamais valsts budžeta finansējums, euro
G21: 33.18.00 | H21: 33.17.00 | I21: 33.16.00 | J21: 33.15.00 | K21: 33.14.00 | L21: 33.18.00 | M21: 33.17.00 | N21: 33.16.00 | O21: 33.15.00 | P21: 33.14.00 | Q21: 33.18.00 | R21: 33.17.00 | S21: 33.16.00 | T21: 33.15.00 | U21: 33.14.00
G22: 2026. gadam | L22: 2027. gadam | Q22: Turpmāk ik gadu (ja pasākums nav terminēts)
A23: KOPĀ: | G23: =ROUND(SUM(G25:G82),0) -> 0 | H23: =ROUND(SUM(H25:H82),0) -> 0 | I23: =ROUND(SUM(I25:I82),0) -> 3168 | J23: =ROUND(SUM(J25:J82),0) -> 0 | K23: =ROUND(SUM(K25:K82),0) -> 0 | L23: =ROUND(SUM(L25:L82),0) -> 0 | M23: =ROUND(SUM(M25:M82),0) -> 0 | N23: =ROUND(SUM(N25:N82),0) -> 0 | ... U23: =ROUND(SUM(U25:U82),0) -> 0
A24: 1 | B24: Jauns pakalpojums | C24: Jauns tarifs | D24: JAUNS | E24: Vecmātes konsultācija bērniem | G24: =M18 -> 0 | H24: 0 | I24: =I17 -> 3168 | J24: 0 | K24: 0 | L24: =G24 -> 0 | M24: =H24 -> 0 | N24: =I24 -> 3168 | O24: =J24 -> 0 | P24: =K24 -> 0 | Q24: =G24 -> 0 | R24: =H24 -> 0 | S24: =I24 -> 3168 | T24: =J24 -> 0 | U24: =K24 -> 0
I25: =I17 -> 3168

Sheet 1.1.3.
L1: Pielikums Nr.1.1.3.
B2: Pasākums kontracepcijas nodrošināšanai jaunietēm līdz 25 gadu vecumam, sievietēm reproduktīvajā vecumā ar invaliditāti vai maznodrošinātās statusu
B4: Apakšprogrammas nosaukums | C4: Papildus nepieciešamais finansējums 2027.gadam | D4: Papildus nepieciešamais finansējums 2028.gadam | E4: Papildus nepieciešamais finansējums turpmāk ik gadu (ja pasākums nav terminēts)
B5: 33.15.00 Laboratorisko izmeklējumu nodrošināšana ambulatorajā aprūpē | C5: =K23*0.5 -> 85148.091 | D5: =K23*0.75 -> 127722.14 | E5: =K23 -> 170296.18
B6: 33.16.00 Pārējo ambulatoro veselības aprūpes pakalpojumu nodrošināšana | C6: =I23*0.5 -> 833252.17 | D6: =I23*0.75 -> 1249878.3 | E6: =I23 -> 1666504.3
B7: 33.18.00 Plānveida stacionāro veselības aprūpes pakalpojumu nodrošināšana | C7: =J23*0.5 -> 89542.243 | D7: =J23*0.75 -> 134313.36 | E7: =J23 -> 179084.49
C8: =C5+C6+C7 -> 1007942.5 | D8: =D5+D6+D7 -> 1511913.8 | E8: =E5+E6+E7 -> 2015885
B10: 15% no visām (n=38 024)15-24 gadus vecām jaunietēm, tai skaitā jaunietēm no ārpusģimenes aprūpes un pilngadību sasniegušām jaunietēm pēc ārpusģimenes aprūpes līdz 21 gada vecuma sasniegšanai vai, ja mācās vispārējās izglītības vai profesionālās izglītības iestādē vai studē augstākajā izglītības iestādē, tostarp koledžā, — līdz 24 gadu vecuma sasniegšanai =5704 | I10: Pacientu skaits saskaņā ar BKUS iesniegto
B11: 15% no visām (n=22 951) sievietēm reproduktīvajā vecumā ar trūcīgās vai maznodrošināto statusu=3 442 | I11: Pacientu skaits saskaņā ar CSP statistiku par iedzīvotāju īpatsvars zem minimālo ienākumu līmeņa 18-49gadi: https://data.stat.gov.lv/pxweb/lv/OSP_PUB/START__POP__NN__NNM/NNM030/table/tableViewLayout1/
B12: 15% no visām (n=20 859) sievietēm reproduktīvajā vecumā ar invaliditāti=3 129 | I12: Pacientu skaits saskaņā ar CSP statiostiku par pirmreizēji noteiktu invaliditāti un atkārtoti atzītu invaliditāti 18-44gadi: https://stat.gov.lv/lv/statistikas-temas/soc-aizsardziba-veseliba/personas-ar-invaliditati/19263-pilngadigas-personas-ar?themeCode=VD
B13: N=5704+3442+3129=12 275
B14: Manipulācijas kods | C14: Manipulācijas nosaukums | D14: Manip. tarifs, EUR | E14: Pacienta līdzmaksājums, EUR | F14: Plānotais pacientu skaits gadā | G14: Plānotais manipulāciju skaits vienam pacientam gadā | H14: Nepieciešamais finansējums gadā, EUR | I14: Pacientu skaits | L14: Zvaigznītes (* vai **)
I15: Ambulatori (33.16.00 programma) | J15: Stacionāri (33.18.00 programma) | K15: Laboratorija ambulatori (33.15.00 programma)
B16: 16013 | C16: Subdermālā kontracepcijas implanta ievietošana augšdelmā ar implanta vērtību*** | D16: 139.94 | E16: 0 | F16: 8593 | G16: 1 | H16: =D16*F16 -> 1202504.4 | I16: =F16*0.9 -> 7733.7 | J16: =F16*0.1 -> 859.3 | K16: - | L16: *-> **
B17: 16014* | C17: Subdermālā kontracepcijas implanta izņemšana no augšdelma** | D17: 13.98 | E17: 0 | F17: 2578 | G17: 1 | H17: =D17*F17 -> 36040.44 | I17: =F17*0.9 -> 2320.2 | J17: =F17*0.1 -> 257.8 | K17: -
B18: 16022 | C18: Piemaksa par kontraceptīvās intratuerīnās sistēmas (spirāles) izmantošanu | D18: 150 | E18: 0 | F18: 3682 | G18: 1 | H18: =F18*D18 -> 552300 | I18: =F18*0.9 -> 3313.8 | J18: =F18*0.1 -> 368.2 | K18: =I18 -> 3313.8 | L18: **
B19: 16015 | C19: Spirāles ievadīšana | D19: 9.68 | E19: 0 | F19: 3313.8 | G19: 1 | H19: =D19*F19 -> 32077.584 | I19: =F19 -> 3313.8 | J19: 0
B20: 16016 | C20: Spirāles izņemšana | D20: 6.84 | E20: 0 | F20: 3313.8 | G20: 1 | H20: =F20*D20 -> 22666.392 | I20: =F20 -> 3313.8 | J20: 0
C21: Laboratoriskie izmeklējumi STI | D21: 51.39 | H21: =D21*K18 -> 170296.18
G23: Finanšu ietekme, eiro: | H23: =H16+H17+H19+H20+H18+H21 -> 2015885 | I23: =(I16*D16)+(I17*D17)+(I19*D19)+(I20*D20)+(I18*D18) -> 1666504.3 | J23: =(J16*D16)+(J17*D17)+(J19*D19)+(J20*D20)+(J18*D18) -> 179084.49 | K23: =K18*D21 -> 170296.18
B25: Pacientu sadalījums - ambulatori 90%, stacionārā 10%
B26: Pēc L.Līdakas: 70% implants (n=8 593), 30% spiāle (n=3682)
B27: * Manipulācija 16014 provizoriski nepieciešama 30% (n=2 578) no visiem pacientiem gadā, kam ievieto subdermālo kontracepcijas implantu
B28: ** Manipulācijas 16015, 16016 - veic tikai ambulatori
B29: Laboratorijas izmeklējumi ambulatori nepeiciešami pacientēm pirms intrauterīnās spirāles ievietšanas, seksuāli transmisīvo infekciju noteikšanai (n=3314). Vienas pacientes laboratisko izmeklējumu izmaksas uz gadu ir 51.39 EUR
B30: 2026.gadā plānots 50%, 2027.gadā 75% un turpmāk 100% izpilde finanšu ietekmes aprēķinam.

Sheet 1.2.1.2.
H1: Pielikums 1.2.1.2.
B3: Samazināta bērnu veselības aprūpē iesaistīto speciālistu noslodze, uzlabotas sabiedrības zināšanas par bērna miega veselību, kā arī zīdaiņu pēkšņās nāves sindromu (pieejamības uzlabošana/papildus slodzes)
A5: Apakšprogrammas nosaukums | B5: Papildus nepieciešamais finansējums 2027.gadam | C5: Papildus nepieciešamais finansējums 2028.gadam | D5: Papildus nepieciešamais finansējums turpmāk ik gadu (ja pasākums nav terminēts)
A6: 33.16.00 Pārējo ambulatoro veselības aprūpes pakalpojumu nodrošināšana | B6: =G11 -> 17085.082 | C6: =G15 -> 34170.163 | D6: =C6 -> 34170.163
D9: 2304 | F9: 0.2359
A10: Nosaukums | B10: periods mēnešos 2026.gadā | C10: Ārsta slodze plāns 2026.gadam | D10: Ārsta darba samaksa 2026, EUR | E10: Darba samaksa kopā 2026.gadā, EUR | F10: VSAOI 2026, EUR | G10: Plānotais finansējums 2027. gadam, EUR
A11: Psihologs | B11: 6 | C11: 1 | D11: =B11*D9 -> 13824 | E11: =D11 -> 13824 | F11: =E11*F9 -> 3261.0816 | G11: =E11+F11 -> 17085.082
D13: 2304 | F13: 0.2359
A14: Nosaukums | B14: periods mēnešos 2027.gadā | C14: Ārsta slodze plāns 2027.gadam | D14: Ārsta darba samaksa 2027, EUR | E14: Darba samaksa kopā 2027.gadā, EUR | F14: VSAOI 2027, EUR | G14: Plānotais finansējums 2028. gadam un turpmāk ik gadu, EUR
A15: Psihologs | B15: 12 | C15: 1 | D15: =B15*D13 -> 27648 | E15: =D15 -> 27648 | F15: =E15*F13 -> 6522.1632 | G15: =E15+F15 -> 34170.163

Sheet 1.2.4.
B1: Pielikums Nr.1.2.4.
A3: Izstrādāts algoritms ārstniecības personām zīdīšanas uzsākšanai, veicināšanai un vadīšanai
A5: Pasākums | B5: 2026.gads/ finansējums, euro*
A6: Izstrādāts algoritms ārstniecības personām zīdīšanas uzsākšanai, veicināšanai un vadīšanai | B6: 48400
A7: *Eiropas Sociālā fonda (ESF+) finansējuma projekts Nr. 4.1.2.7/1/24/I/001 “Pilnveidot pacientu drošību un aprūpes kvalitāti”. Finansējums atkarīgs no iepirkuma organizēšanas un rezultāta.

Sheet 1.4.1.
F1: Pielikums Nr. 1.4.1.
B3: Pasākums valsts apmaksātu vakcinācija pret ērču encefalītu nodrošināšanai bērniem 1-17 gadiem
B5: Apakšprogrammas nosaukums | C5: Papildus nepieciešamais finansējums 2027.gadam | D5: Papildus nepieciešamais finansējums 2028.gadam | E5: Papildus nepieciešamais finansējums turpmāk ik gadu (ja pasākums nav terminēts)
B6: 33.04.00 "Centralizēta medikamentu un materiālu iegāde" | C6: =E11*C19 -> 5646231.4 | D6: =E11*C20 -> 2612554.6 | E6: =E11*C21 -> 1055799.4
B7: 33.14.00 Primārās ambulatorās veselības aprūpes nodrošināšana | C7: =(D14+D15)*C19 -> 1502199 | D7: =(D14+D15)*C20 -> 695079 | E7: =(D14+D15)*C21 -> 280899
B10: Vakcīna | C10: Cena bez PVN, eiro | D10: Ar 10% pieaugumu, eiro | E10: Summa ar PVN, eiro
B11: Pret ērču encefalītu bērniem no 1-17 gadiem | C11: 16.2 | D11: =C11*1.1 -> 17.82 | E11: =D11*1.12 -> 19.9584
B13: Manipulācijas kods | C13: Manipulācijas nosaukums | D13: Tarifs, eiro
B14: 01018 | C14: Ārsta konsultācija pirms vakcinācijas. Nenorāda kopā ar manipulāciju 01061, 60443 un 60444 | D14: 4.06
B15: 03081 | C15: Vakcīnas ievadīšana ādā, zemādā un muskulī | D15: 1.25
B17: Pacientu skaits saskaņā ar SPKC sniegto informāciju.
B18: Gads | C18: Devu skaits
B19: 2027 | C19: 282900
B20: 2028 | C20: 130900
B21: 2029 | C21: 52900
B22: Kopā | C22: =SUM(C19:C21) -> 466700

Sheet 1.4.2.
E1: Pielikums Nr. 1.4.2.
B3: Pasākums priekšlaikus dzimušo bērnu, jaundzimušo un zīdaiņu ar iedzimtām sirds un plaušu patoloģijām, un jaundzimušajiem RSV infekcijas profilakse ar ilgstošas darbības monoklonālajām antivielām pirmajā dzīves gadā
B6: Apakšprogrammas nosaukums | C6: Papildus nepieciešamais finansējums 2027.gadam | D6: Papildus nepieciešamais finansējums 2028.gadam | E6: Papildus nepieciešamais finansējums turpmāk ik gadu (ja pasākums nav terminēts)
B7: 33.04.00 "Centralizēta medikamentu un materiālu iegāde" | C7: =E12*C29 -> 2558913.3 | D7: =E12*C30 -> 2558913.3 | E7: =E12*C31 -> 2558913.3
B8: 33.14.00 Primārās ambulatorās veselības aprūpes nodrošināšana | C8: =(D15+D16)*C29 -> 39389.58 | D8: =(D15+D16)*C30 -> 39389.58 | E8: =(D15+D16)*C31 -> 39389.58
B11: Vakcīna | C11: Cena bez PVN, eiro | D11: Ar 10% pieaugumu, eiro | E11: Summa ar PVN, eiro
B12: Nirsevimabum | C12: 280 | D12: =C12*1.1 -> 308 | E12: =D12*1.12 -> 344.96
B14: Manipulācijas kods | C14: Manipulācijas nosaukums | D14: Tarifs, eiro
B15: 01018 | C15: Ārsta konsultācija pirms vakcinācijas. Nenorāda kopā ar manipulāciju 01061, 60443 un 60444 | D15: 4.06
B16: 03081 | C16: Vakcīnas ievadīšana ādā, zemādā un muskulī | D16: 1.25
B18: Riska grupa | C18: Bērnu skaits kopā | D18: Skaits, plānotā aptvere
B19: Priekšlaicīgi dzimuši | C19: 901 | D19: 841
D20: (90-97%)
B21: Jaundzimušie un zīdaiņi ar patoloģijām | C21: 591 | D21: 546
D22: (90-97%)
B23: Jaundzimušie | C23: 6218 | D23: 6031
D24: (90-97%)
B27: Pacientu skaits un nepieciešamās devas saskaņā ar BKUS sniegto informāciju.*
B28: Gads | C28: Devu skaits
B29: 2027 | C29: =SUM(D19+D21+D23) -> 7418
B30: 2028 | C30: =SUM(C29) -> 7418
B31: 2029 | C31: =SUM(C30) -> 7418
B32: Kopā | C32: =SUM(C29:C31) -> 22254
A34: * BKUS sniedz datus, balstoties uz informāciju par iepriekšējos gados piedzimušo riska grupu personu skaitu, kuriem indicētas minētās zāles, vienlaikus ņemot vērā visu piedzimušo kohortu

Sheet 1.4.3.
E1: Pielikums Nr. 1.4.3.
B3: Nodrošināt noteiktu veselības riska grupu bērniem paplašinātu valsts apmaksāto vakcinācijas pakalpojumu klāstu pret dzīvību apdraudošām infekcijām (piemēram, pret pneimokoku infekciju – bērniem, kas dzimuši pirms vakcīnas iekļaušanas vakcinācijas kalendārā; pret meningokoku infekciju, A hepatītu).
B6: Apakšprogrammas nosaukums | C6: Papildus nepieciešamais finansējums 2027.gadam | D6: Papildus nepieciešamais finansējums 2028.gadam | E6: Papildus nepieciešamais finansējums turpmāk ik gadu (ja pasākums nav terminēts)
B7: 33.04.00 "Centralizēta medikamentu un materiālu iegāde" | C7: =(E12*C24)+(E13*C25)+(E14*C26) -> 78201.2 | D7: =(E12*D24)+(E13*D25)+(E14*D26) -> 78201.2 | E7: =(E12*E24)+(E13*E25)+(E14*E26) -> 78201.2
B8: 33.14.00 Primārās ambulatorās veselības aprūpes nodrošināšana | C8: =(D17+D18+D19)*(C24+C25+C26) -> 143937 | D8: =(D17+D18+D19)*(D24+D25+D26) -> 143937 | E8: =(D17+D18+D19)*(E24+E25+E26) -> 143937
B11: Vakcīna | C11: Cena bez PVN, eiro | D11: Ar 10% pieaugumu, eiro | E11: Summa ar PVN, eiro
B12: pret meningokoka infekciju | C12: 85.44 | D12: =C12*1.1 -> 93.984 | E12: =D12*1.12 -> 105.26208
B13: pret pneimokoka infekciju | C13: 25 | D13: =C13*1.1 -> 27.5 | E13: =D13*1.12 -> 30.8
B14: pret A hepatītu | C14: 20.05 | D14: =C14*1.1 -> 22.055 | E14: =D14*1.12 -> 24.7016
B16: Manipulācijas kods | C16: Manipulācijas nosaukums | D16: Tarifs, eiro
B17: Ārstu konsīlijs (3 speciālisti) | C17: Bērnu infektologa aprūpes epizodes tarifs, atbilstoši MK 555 4. pielikumam | D17: =33.77*3 -> 101.31
B18: 01018 | C18: Ārsta konsultācija pirms vakcinācijas. Nenorāda kopā ar manipulāciju 01061, 60443 un 60444 | D18: 4.06
B19: 03081 | C19: Vakcīnas ievadīšana ādā, zemādā un muskulī | D19: 1.25
B21: Pacientu skaits un nepieciešamās devas saskaņā ar BKUS sniegto informāciju.*
B22: Vakcīna | C22: Devu skaits
C23: 2027.gads | D23: 2028. gads | E23: Turpmāk ik gadu
B24: Pret meningokoku infekciju | C24: 500 | D24: 500 | E24: 500
B25: Pret pneimokoka infekciju | C25: 750 | D25: 750 | E25: 750
B26: Pret A hepatītu | C26: 100 | D26: 100 | E26: 100
A28: * BKUS sniedz datus, balstoties uz informāciju par iepriekšējos gados piedzimušo riska grupu personu skaitu, kuriem indicētas minētās zāles, vienlaikus ņemot vērā visu piedzimušo kohortu

Sheet 1.4.4.
M1: Pielikums Nr. 1.4.4.
A3: Nodrošināt bērnu vakcināciju pret masalām, masaliņām, epidēmisko parotītu un vējbakām 4 gadu vecumā (vakcīnas, manipulācija, ārsta apskate)
A5: Apakšprogrammas nosaukums | C5: Papildus nepieciešamais finansējums 2027.gadam | E5: Papildus nepieciešamais finansējums 2028.gadam | G5: Papildus nepieciešamais finansējums turpmāk ik gadu (ja pasākums nav terminēts)
A6: 33.04.00 Centralizēta medikamentu un materiālu iegāde | C6: =SUM(J15) -> 207929 | E6: =SUM(J21) -> 187074.4 | G6: =SUM(J27) -> 168194.2
A7: 33.14.00 Primārās ambulatorās veselības aprūpes nodrošināšana | C7: =SUM(M15) -> 89473.5 | E7: =SUM(M21) -> 80499.6 | G7: =SUM(M27) -> 72375.3
A12: Vakcīnas nosaukums | B12: Vecuma grupa | C12: Rekomendētā vakcinācijas aptvere* | D12: 2027
D13: Demogrāfiskie dati (personu skaits) vai vakcināciju skaits** | E13: Aprēķinātais daudzums (vakcīnas devas) | F13: Prognozējamais daudzums (vakcīnas devas apaļojot) | G13: Vakcīnas cena bez PVN | H13: Vakcīnas cena ar sadārdz. (10%) bez PVN | I13: Indikatīvi prognozētā vakcīnas cena ar PVN | J13: Papildu nepieciešamais finansējums vakcīnu iegādei | K13: Apskate | L13: Manipulācija | M13: Kopā apskate + vakcīnas ievade | N13: Papildu nepieciešamais finansējums
A15: Vakcīna pret masalām, masaliņām un epidēmisko parotītu (MPR) | B15: 4 gadi | C15: 0.95 | D15: 17733 | E15: =ROUND(D15*0.95,0) -> 16846 | F15: 16850 | G15: 10.02 | H15: =ROUND(G15*1.1,2) -> 11.02 | I15: =ROUND(H15*1.12,2) -> 12.34 | J15: =I15*F15 -> 207929 | K15: 4.25 | L15: 1.06 | M15: =(L15+K15)*F15 -> 89473.5 | N15: =M15+J15 -> 297402.5
A18: Vakcīnas nosaukums | B18: Vecuma grupa | C18: Rekomendētā vakcinācijas aptvere* | D18: 2028
D19: Demogrāfiskie dati (personu skaits) vai vakcināciju skaits** | E19: Aprēķinātais daudzums (vakcīnas devas) | F19: Prognozējamais daudzums (vakcīnas devas apaļojot) | G19: Vakcīnas cena bez PVN | H19: Vakcīnas cena ar sadārdz. (10%) bez PVN | I19: Indikatīvi prognozētā vakcīnas cena ar PVN | J19: Papildu nepieciešamais finansējums vakcīnu iegādei | K19: Apskate | L19: Manipulācija | M19: Kopā apskate + vakcīnas ievade | N19: Papildu nepieciešamais finansējums
A21: Vakcīna pret masalām, masaliņām un epidēmisko parotītu (MPR) | B21: 4 gadi | C21: 0.95 | D21: 15962 | E21: =ROUND(D21*0.95,0) -> 15164 | F21: 15160 | G21: 10.02 | H21: =ROUND(G21*1.1,2) -> 11.02 | I21: =ROUND(H21*1.12,2) -> 12.34 | J21: =I21*F21 -> 187074.4 | K21: 4.25 | L21: 1.06 | M21: =(L21+K21)*F21 -> 80499.6 | N21: =M21+J21 -> 267574
A24: Vakcīnas nosaukums | B24: Vecuma grupa | C24: Rekomendētā vakcinācijas aptvere* | D24: 2029
D25: Demogrāfiskie dati (personu skaits) vai vakcināciju skaits** | E25: Aprēķinātais daudzums (vakcīnas devas) | F25: Prognozējamais daudzums (vakcīnas devas apaļojot) | G25: Vakcīnas cena bez PVN | H25: Vakcīnas cena ar sadārdz. (10%) bez PVN | I25: Indikatīvi prognozētā vakcīnas cena ar PVN | J25: Papildu nepieciešamais finansējums vakcīnu iegādei | K25: Apskate | L25: Manipulācija | M25: Kopā apskate + vakcīnas ievade | N25: Papildu nepieciešamais finansējums
A27: Vakcīna pret masalām, masaliņām un epidēmisko parotītu (MPR) | B27: 4 gadi | C27: 0.95 | D27: 14346 | E27: =ROUND(D27*0.95,0) -> 13629 | F27: 13630 | G27: 10.02 | H27: =ROUND(G27*1.1,2) -> 11.02 | I27: =ROUND(H27*1.12,2) -> 12.34 | J27: =I27*F27 -> 168194.2 | K27: 4.25 | L27: 1.06 | M27: =(L27+K27)*F27 -> 72375.3 | N27: =M27+J27 -> 240569.5
A29: * SPKC sniedz datus atbilstoši CSP (https://data.stat.gov.lv/pxweb/lv/OSP_PUB/START__POP__ID__IDS/IDS010/table/tableViewLayout1/) pieejamai informācijai par vakcinējamo personu vecuma kohortu, kā arī vakcinācijas aptveri
A30: ** CSP (https://data.stat.gov.lv/pxweb/lv/OSP_PUB/START__POP__ID__IDS/IDS010/table/tableViewLayout1/) pieejamā informācija

Sheet 2.1.1.
I1: Pielikums Nr. 2.1.1.
A2: Mazināti kardiovaskulāro slimību riski bērniem, nodrošinot ZBLH, kopējā holesterīna, glikozes līmeņa noteikšanu tukšā dūšā (5 -11 g.v.)
A4: Apakšprogrammas nosaukums | B4: Papildus nepieciešamais finansējums 2026.gadam, euro | C4: Papildus nepieciešamais finansējums 2027.gadam, euro | D4: Papildus nepieciešamais finansējums 2028.gadam, euro | E4: Papildus nepieciešamais finansējums turpmāk ik gadu, euro (ja pasākums nav terminēts)
A5: 33.15.00 Laboratorisko izmeklējumu nodrošināšana ambulatorajā aprūpē | B5: =ROUND(I12,0) -> 55460 | C5: =H12 -> 110919.6 | D5: =H12 -> 110919.6 | E5: =H12 -> 110919.6
A7: Manipulācijas kods | B7: Manipulācijas nosaukums | C7: Manipulācijas tarifs, euro | D7: Plānotais manipulāciju skaits vienam pacientam gadā | E7: Indikatīvais pacientu skaits | H7: Nepieciešamais finansējums gadā, euro | I7: Nepieciešamais finansējums 2026. gadā (pusgads), euro
E8: Ambulatori | F8: Dienas stacionārā | G8: Stacionārā
A9: 41058/ 41059/ 41060* | B9: ZBL holesterīna līmenis asinīs | C9: 2.42 | D9: 1 | E9: 22408 | H9: =C9*E9 -> 54227.36
A10: 41056/ 41057** | B10: Kopējais holesterīna līmenis asinīs | C10: 1.38 | D10: 1 | E10: 22408 | H10: =C10*E10 -> 30923.04
A11: 41095 | B11: Glikoze asinīs | C11: 1.15 | D11: 1 | E11: 22408 | H11: =C11*E11 -> 25769.2
H12: =SUM(H9:H11) -> 110919.6 | I12: =H12/2 -> 55459.8
A14: *Manipulāciju sarakstā trīs ZBL holesterīna manipulācijas - ZBL koncentrācija, mazāka par 2,0 mmol/L (41058); koncentrācija no 2,0 mmol/L līdz 2,5 mmol/L (41059); koncentrācija, lielāka par 2,5 mmol/L (41060)
A15: **Manipulāciju sarakstā divas kopējā holesterīna līmeņa manipulācijas - koncentrācija 5 mmol/L vai mazāka (41056); koncentrācija, lielāka par 5 mmol/L (41057)
A16: Pacientu skaits saskaņā ar CSP statistikas datiem par bērnu skaitu 2024.gadā 7 gadu vecumā - 22 408.
A17: Profilatisko pārbaužu aptvere 100%

Sheet 2.1.4.
G1: Pielikums Nr.2.1.4.
A2: Veikta agrīnas dzirdes traucējumu diagnostika jaundzimušajiem ar medicīniskām indikācijām
A3: Jaundzimušajiem ar medicīniskām indikācijām (priekšlaikus dzimušie bērni un bērni, kuri vismaz 5 dienas jaundzimušā periodā ir ārstēti stacionāra intensīvās terapijas nodaļā, kā arī bērni pēc citām konstatētām problēmām) nodrošināta dzirdes pārbaude ar AABR tehnoloģiju agrīnai dzirdes traucējumu diagnostikai un intervencei
A4: Apakšprogrammas nosaukums | B4: Papildus nepieciešamais finansējums 2026.gadam, euro | C4: Papildus nepieciešamais finansējums 2027.gadam, euro | D4: Papildus nepieciešamais finansējums 2028.gadam, euro | E4: Papildus nepieciešamais finansējums turpmāk ik gadu, euro (ja pasākums nav terminēts)
A5: 33.21.00 “Stacionāro veselības aprūpes pakalpojumu nodrošināšana“ | B5: 0 | C5: =C11*D11*G11 -> 28832 | D5: =C5 -> 28832 | E5: =D5 -> 28832
A6: 33.16.00 “Pārējo ambulatoro veselības aprūpes pakalpojumu nodrošināšana“ | B6: 0 | C6: =C11*D11*E11 -> 7208 | D6: =C6 -> 7208 | E6: =D6 -> 7208
A7: Kopā, euro: | B7: =SUM(B5:B6) -> 0 | C7: =SUM(C5:C6) -> 36040 | D7: =SUM(D5:D6) -> 36040 | E7: =SUM(E5:E6) -> 36040
A9: Manipulācijas kods | B9: Manipulācijas nosaukums | C9: Manipulācijas tarifs, euro | D9: Plānotais manipulāciju skaits vienam pacientam gadā | E9: Provizoriskais pacientu skaits | H9: Nepieciešamais finansējums gadā, euro
E10: Ambulatori | F10: Dienas stacionārā | G10: Stacionārā
A11: JAUNS | B11: Automātiskās dzirdes smadzeņu stumbra atbildes reakcijas noteikšana (AABR, automated auditory brainstem response) | C11: =S21 -> 36.04 | D11: 1 | E11: 200 | F11: 0 | G11: 800 | H11: =C11*D11*(E11+G11) -> 36040
F14: Ārsta darba samaksa, euro | G14: Māsas darba samaksa, euro | H14: Palīgpersonāla darba samaksa, euro | I14: Soc.nodoklis % | N14: Pieskaitāmās un netiešās ražošanas izmaksas, euro | O14: Administratīvās izmaksas, euro | P14: Pārējo pamatlīdzekļu amortizācija, euro
E15: Vidējā darba samaksa mēnesī | F15: 2304 | G15: 1388 | H15: 925
E16: Darba samaksas 1 minūtes vērtība | F16: =ROUND(F15/9600,4) -> 0.24 | G16: =ROUND(G15/9600,4) -> 0.1446 | H16: =ROUND(H15/9600,4) -> 0.0964 | I16: 0.2359 | M16: Koeficienti | N16: 0.2857 | O16: 0.0202 | P16: 0.0322
C18: Mainīgās izmaksas | M18: Pastāvīgās izmaksas
A19: Manipulācijas kods | B19: Manipulācijas nosaukums | C19: Ārsta darba laiks, minūtes | D19: Māsas darba laiks, minūtes | E19: Māsas palīga darba laiks, minūtes | F19: Ārsta darba samaksa (D), euro | G19: Māsas darba samaksa (D), euro | H19: Māsas palīga darba samaksa (D), euro | I19: Soc. nodoklis, darba devēja daļa (S), euro | J19: Ārstniecības līdzekļi (M) kopā, euro | K19: Medikamenti, euro | L19: Materiāli, euro | M19: Iekārtu amortizācija (N), euro | N19: Pieskaitāmās un netiešās ražošanas izmaksas (U), euro | O19: Administratīvās izmaksas (A), euro | P19: Pārējo pamatlīdzekļu amortizācija (n), euro | Q19: Kopējās izmaksas, euro | R19: Pacienta līdzmaksājums, euro | S19: Tarifs, euro
A20: 1 | B20: 2 | C20: 3 | D20: 4 | E20: 5 | F20: 6 | G20: 7 | H20: 8 | I20: 9 | J20: 10 = 11 + 12 | K20: 11 | L20: 12 | M20: 13 | N20: 14 | O20: 15 | P20: 16 | Q20: 17 | R20: 18 | S20: 19
A21: JAUNS | B21: Automātiskās dzirdes smadzeņu stumbra atbildes reakcijas noteikšana (AABR, automated auditory brainstem response) | C21: 35 | D21: 25 | E21: 0 | F21: =ROUND((C21*F16),2) -> 8.4 | G21: =ROUND((D21*G16),2) -> 3.62 | H21: =ROUND((E21*H16),2) -> 0 | I21: =ROUND(((F21+G21+H21)*I16),2) -> 2.84 | J21: =K21+L21 -> 16.37 | K21: =[19]Ārstn.līdz.!$G$19 -> 1.11 | L21: =[19]Ārstn.līdz.!$G$14 -> 15.26 | M21: 0.75 | N21: =ROUND((F21+G21+H21)*N16,2) -> 3.43 | O21: =ROUND((F21+G21+H21)*O16,2) -> 0.24 | P21: =ROUND((F21+G21+H21)*P16,2) -> 0.39 | Q21: =ROUND((F21+G21+H21+I21+J21+M21+N21+O21+P21),2) -> 36.04 | R21: 0 | S21: =Q21-R21 -> 36.04
A23: Pacientu skaits saskaņā ar BKUS iesniegto, 800 pacienti stacionārā, kas dzimuši BKUS, un 200 pacienti ambulatori, kas dzimuši citā ārstniecības iestādē.
A24: Pirms šī izmeklējuma veikšanas visiem jaundzimušajiem tiek veikta otoakustiskā emisija.

Sheet 3.1.1.1.
L1: Pielikums Nr.3.1.1.1.
A2: Speciālistu un izmeklējumu (ambulatorā) pieejamības uzlabošana bērniem
A3: Apakšprogrammas nosaukums | B3: Papildus nepieciešamais finansējums 2026.gadam, euro | C3: Papildus nepieciešamais finansējums 2027.gadam, euro | D3: Papildus nepieciešamais finansējums 2028.gadam, euro | E3: Papildus nepieciešamais finansējums turpmāk ik gadu, euro (ja pasākums nav terminēts)
A4: 33.16.00 Pārējo ambulatoro veselības aprūpes pakalpojumu nodrošināšana | B4: 3156186 | C4: 3156186 | D4: 3156186 | E4: 3156186
A6: Apakšprogrammas nosaukums | B6: Papildus nepieciešamais finansējums 2026.gadam, euro | C6: Papildus nepieciešamais finansējums 2027.gadam, euro | D6: Papildus nepieciešamais finansējums 2028.gadam, euro | E6: Papildus nepieciešamais finansējums turpmāk ik gadu, euro (ja pasākums nav terminēts)
A7: 33.16.00 Pārējo ambulatoro veselības aprūpes pakalpojumu nodrošināšana | B7: 3156186 | C7: =B7 -> 3156186 | D7: =C7 -> 3156186 | E7: =D7 -> 3156186
A8: 33.16.00 Esošā budžeta ietvaros (no bāzes finansējuma) | B8: 93 | C8: 93 | D8: 93 | E8: 93
A11: Pakalpojumu programma | B11: Plānotais finansējums 2025. gada 8M (janvāris-augusts) | C11: Izpilde finansējums 2025. gada 8M (janvāris-augusts) | D11: Pārstrāde 2025_8M, euro | E11: Papildus nepieciešamais finansējums 2026.gadā, euro | F11: Papildus pacientu skaits 2026. gadā | G11: Papildus nepieciešamais finansējums 2027.gadā, euro | H11: Papildus pacientu skaits 2027. gadā | I11: Papildus nepieciešamais finansējums 2028. gadā, euro | J11: Papildus pacientu skaits 2028. gadā | K11: Valsts vidējās 1 pakalpojuma izmaksas, euro | L11: Rindu garums uz 01.07.25 (dienas) valstī vidēji
A12: Neiroelektrofizioloģiskie funkcionālie izmeklējumi | B12: 261186.82 | C12: 355533.82 | D12: =C12-B12 -> 94347 | E12: =ROUND(F12*K12,0) -> 141529 | F12: 2058 | G12: =H12*K12 -> 141528.66 | H12: 2058 | I12: =ROUND(J12*K12,0) -> 141529 | J12: 2058 | K12: 68.77 | L12: 163
A13: Kodolmagnētiskā rezonanse | B13: 439937.04 | C13: 722205.04 | D13: =C13-B13 -> 282268 | E13: =ROUND(F13*K13,0) -> 423372 | F13: 3325 | G13: =H13*K13 -> 423372.25 | H13: 3325 | I13: =ROUND(J13*K13,0) -> 423372 | J13: 3325 | K13: 127.33 | L13: 150
A14: Kardioloģija | B14: 145939.97 | C14: 224210.97 | D14: =C14-B14 -> 78271 | E14: =ROUND(F14*K14,0) -> 117422 | F14: 3772 | G14: =ROUND(H14*K14,2) -> 117422.36 | H14: 3772 | I14: =ROUND(J14*K14,0) -> 117422 | J14: 3772 | K14: 31.13 | L14: 119
A15: Dermatoveneroloģija | B15: 774157.39 | C15: 851703.39 | D15: =C15-B15 -> 77546 | E15: =ROUND(F15*K15,0) -> 116308 | F15: 2762 | G15: =ROUND(H15*K15,2) -> 116307.82 | H15: 2762 | I15: =ROUND(J15*K15,0) -> 116308 | J15: 2762 | K15: 42.11 | L15: 90
A16: Sirds asinsvadu sistēmas funkcionālie izmeklējumi | B16: 951293.75 | C16: 1079295.7 | D16: =C16-B16 -> 128002 | E16: =ROUND(F16*K16,0) -> 191994 | F16: 8664 | G16: =H16*K16 -> 191994.24 | H16: 8664 | I16: =ROUND(J16*K16,0) -> 191994 | J16: 8664 | K16: 22.16 | L16: 69-190 atkarībā no izmeklējuma veida
A17: Endokrinoloģija | B17: 188743.74 | C17: 342479.74 | D17: =C17-B17 -> 153736 | E17: =ROUND(F17*K17,0) -> 230567 | F17: 8130 | G17: =ROUND(H17*K17,2) -> 230566.8 | H17: 8130 | I17: =ROUND(J17*K17,0) -> 230567 | J17: 8130 | K17: 28.36 | L17: 172
A18: Alergoloģija | B18: 656114 | C18: 758046 | D18: =C18-B18 -> 101932 | E18: =ROUND(F18*K18,0) -> 152901 | F18: 3296 | G18: =ROUND(H18*K18,2) -> 152901.44 | H18: 3296 | I18: =ROUND(J18*K18,0) -> 152901 | J18: 3296 | K18: 46.39 | L18: 164
A19: Doplerogrāfija | B19: 85454.324 | C19: 212429.32 | D19: =C19-B19 -> 126975 | E19: =ROUND(F19*K19,0) -> 190468 | F19: 5954 | G19: =H19*K19 -> 190468.46 | H19: 5954 | I19: =ROUND(J19*K19,0) -> 190468 | J19: 5954 | K19: 31.99 | L19: 120-195 atkarībā no lokalizācijas
A20: Gastroenteroloģija | B20: 156622.07 | C20: 197953.07 | D20: =C20-B20 -> 41331 | E20: =ROUND(F20*K20,0) -> 61991 | F20: 1894 | G20: =ROUND(H20*K20,2) -> 61990.62 | H20: 1894 | I20: =ROUND(J20*K20,0) -> 61991 | J20: 1894 | K20: 32.73 | L20: 235
A21: Ultrasonogrāfija | B21: 468425.57 | C21: 539121.57 | D21: =C21-B21 -> 70696 | E21: =ROUND(F21*K21,0) -> 106040 | F21: 5735 | G21: =H21*K21 -> 106040.15 | H21: 5735 | I21: =ROUND(J21*K21,0) -> 106040 | J21: 5735 | K21: 18.49 | L21: 66-191 atkarībā no lokalizācijas
A22: Neiroloģija | B22: 1042958.1 | C22: 1162513.1 | D22: =C22-B22 -> 119555 | E22: =ROUND(F22*K22,0) -> 179350 | F22: 4398 | G22: =ROUND(H22*K22,2) -> 179350.44 | H22: 4398 | I22: =ROUND(J22*K22,0) -> 179350 | J22: 4398 | K22: 40.78 | L22: 77
A23: Pulmonoloģija | B23: 125519.71 | C23: 216501.71 | D23: =C23-B23 -> 90982 | E23: =ROUND(F23*K23,0) -> 136458 | F23: 3945 | G23: =ROUND(H23*K23,2) -> 136457.55 | H23: 3945 | I23: =ROUND(J23*K23,0) -> 136458 | J23: 3945 | K23: 34.59 | L23: 57
A24: Anestezioloģija | B24: 192184.65 | C24: 341563.65 | D24: =C24-B24 -> 149379 | E24: =ROUND(F24*K24,0) -> 224086 | F24: 6235 | G24: =ROUND(H24*K24,2) -> 224085.9 | H24: 6235 | I24: =ROUND(J24*K24,0) -> 224086 | J24: 6235 | K24: 35.94 | L24: 31
A25: Rentgenoloģija | B25: 1193170.1 | C25: 1537775.1 | D25: =C25-B25 -> 344605 | E25: =ROUND(F25*K25,0) -> 517044 | F25: 31317 | G25: =H25*K25 -> 517043.67 | H25: 31317 | I25: =ROUND(J25*K25,0) -> 517044 | J25: 31317 | K25: 16.51 | L25: 11
A26: Pediatra konsultācijas | B26: 969571.89 | C26: 1214069.9 | D26: =C26-B26 -> 244498 | E26: =ROUND(F26*K26,0) -> 366749 | F26: 8468 | G26: =ROUND(H26*K26,2) -> 366749.08 | H26: 8468 | I26: =ROUND(J26*K26,0) -> 366749 | J26: 8468 | K26: 43.31
A27: KOPĀ | E27: =SUM(E12:E26) -> 3156279 | F27: =SUM(F12:F26) -> 99953 | G27: =SUM(G12:G26) -> 3156279.4 | H27: =SUM(H12:H26) -> 99953 | I27: =SUM(I12:I26) -> 3156279 | J27: =SUM(J12:J26) -> 99953
A30: GADS/RR | B30: 2026 | C30: 2027 | D30: 2028
A31: Izmeklējumi | B31: =F12+F13+F16+F19+F21+F25 -> 57053 | C31: =H12+H13+H16+H19+H21+H25 -> 57053 | D31: =J12++J13+J16+J19+J21+J25 -> 57053
A32: Konsultācijas | B32: =F14+F15+F17+F18+F20+F22+F23+F24+F26 -> 42900 | C32: =H14+H15+H17+H18+H20+H22+H23+H24+H26 -> 42900 | D32: =J14+J15+J17+J18+J20+J22+J23+J24+J26 -> 42900

Sheet 3.1.1.2.
I1: Pielikums Nr.3.1.1.2.
A2: Sporta medicīnas speciālistu konsultāciju un izmeklējumu pieejamības uzlabošana
A4: Apakšprogrammas nosaukums | B4: Papildus nepieciešamais finansējums 2026.gadam, euro | C4: Papildus nepieciešamais finansējums 2027.gadam, euro | D4: Papildus nepieciešamais finansējums 2028.gadam, euro | E4: Papildus nepieciešamais finansējums turpmāk ik gadu, euro (ja pasākums nav terminēts)
A5: 33.16.00 Pārējo ambulatoro veselības aprūpes pakalpojumu nodrošināšana | B5: =ROUND(E14,0) -> 300047 | C5: =G14 -> 445806.66 | D5: =I14 -> 591566.66 | E5: =I14 -> 591566.66
B8: 2025 | D8: 2026 | F8: 2027 | H8: 2028
A9: Ārstniecības iestāde | B9: Pacientu skaits | C9: Izmaksas, euro | D9: Pacientu skaits | E9: Papildus nepieciešamais finansējums, euro | F9: Pacientu skaits | G9: Papildus nepieciešamais finansējums, euro | H9: Pacientu skaits | I9: Papildus nepieciešamais finansējums, euro
A10: Bērnu klīniskā universitātes slimnīca | B10: 16432 | C10: =B10*(D18+D19+(D20*2)+(D21*2)+D22+D23+D24+D25) -> 1040967.2 | D10: 18500 | E10: =(D10-B10)*(D18+D19+(D20*2)+(D21*2)+D22+D23+D24+D25+D26) -> 150715.84 | F10: 19500 | G10: =ROUND((F10-B10)*(D18+D19+(D20*2)+(D21*2)+D22+D23+D24+D25+D26),2) -> 223595.84 | H10: 20500 | I10: =ROUND((H10-B10)*(D18+D19+(D20*2)+(D21*2)+D22+D23+D24+D25+D26),2) -> 296475.84
A11: Daugavpils olimpiskais centrs | B11: 2659 | C11: =B11*(D18+D19+(D20*2)+(D21*2)+D22+D23+D24+D25) -> 168447.65 | D11: 3000 | E11: =(D11-B11)*(D18+D19+(D20*2)+(D21*2)+D22+D23+D24+D25+D26) -> 24852.08 | F11: 3250 | G11: =ROUND((F11-B11)*(D18+D19+(D20*2)+(D21*2)+D22+D23+D24+D25+D26),2)-0.3 -> 43071.78 | H11: 3500 | I11: =ROUND((H11-B11)*(D18+D19+(D20*2)+(D21*2)+D22+D23+D24+D25+D26),2)-0.3 -> 61291.78
A12: Valmiera olimpiskais centrs | B12: 792 | C12: =B12*(D18+D19+(D20*2)+(D21*2)+D22+D23+D24+D25) -> 50173.2 | D12: 1500 | E12: =(D12-B12)*(D18+D19+(D20*2)+(D21*2)+D22+D23+D24+D25+D26) -> 51599.04 | F12: 1750 | G12: =ROUND((F12-B12)*(D18+D19+(D20*2)+(D21*2)+D22+D23+D24+D25+D26),2) -> 69819.04 | H12: 2000 | I12: =ROUND((H12-B12)*(D18+D19+(D20*2)+(D21*2)+D22+D23+D24+D25+D26),2) -> 88039.04
A13: Liepājas olimpiskais centrs | B13: 0 | C13: 0 | D13: 1000 | E13: =(D13-B13)*(D18+D19+(D20*2)+(D21*2)+D22+D23+D24+D25+D26) -> 72880 | F13: 1500 | G13: =ROUND((F13-B13)*(D18+D19+(D20*2)+(D21*2)+D22+D23+D24+D25+D26),2) -> 109320 | H13: 2000 | I13: =ROUND((H13-B13)*(D18+D19+(D20*2)+(D21*2)+D22+D23+D24+D25+D26),2) -> 145760
A14: KOPĀ | B14: 19883 | C14: =SUM(C10:C13) -> 1259588 | D14: 24000 | E14: =SUM(E10:E13) -> 300046.96 | F14: 26000 | G14: =SUM(G10:G13) -> 445806.66 | H14: 28000 | I14: =SUM(I10:I13) -> 591566.66
A17: Manipulācijas kods | B17: Manipulācijas nosaukums | D17: Tarifs, euro | E17: Reizes vienam pacientam
B18: Sporta ārsta konsultācijas | D18: 28.13 | E18: 1
A19: 02405 | B19: Fiziskās sagatavotības novērtēšana pēc EUROFIT metodes bērniem un pusaudžiem vecumā no 8 līdz 18 gadiem | D19: 9.67 | E19: 1
A20: 06003 | B20: Elektrokardiogrammas ar 12 novadījumiem pieraksts | D20: 1.83 | E20: 2
A21: 06004 | B21: Elektrokardiogrammas ar 12 novadījumiem apraksts | D21: 6.06 | E21: 2
A22: 40003 | B22: Asins ņemšana ar slēgtu sistēmu vienā stobriņā | D22: 1.52 | E22: 1
A23: 40042 | B23: Pilna asins aina (hemoglobīns, eritrocīti, leikocīti, trombocīti, hematokrīts, leikocītu formula (vismaz neitrofīli, eozinofīli, bazofīli, limfocīti, monocīti)). Papildus nenorādīt manipulācijas 40010, 40014 | D23: 3.93 | E23: 1
A24: 40148 | B24: Urīna analīze ar teststrēmeli (9-10 parametri) | D24: 1.72 | E24: 1
A25: 17017 | B25: Redzes asuma noteikšana tuvumā vai tālumā abām acīm | D25: 2.6 | E25: 1
A26: 09004 | B26: Pēdu noslogojuma noteikšana ar podogrāfu (statiskā) | D26: 9.53 | E26: 1

Sheet 3.1.1.3.
L1: Pielikums 3.1.1.3.
A2: Pediatra kabineta izveide
A3: Apakšprogrammas nosaukums | B3: Papildus nepieciešamais finansējums 2026.gadam, euro | C3: Papildus nepieciešamais finansējums 2027.gadam, euro | D3: Papildus nepieciešamais finansējums 2028.gadam, euro | E3: Papildus nepieciešamais finansējums turpmāk ik gadu, euro (ja pasākums nav terminēts)
A4: 33.16.00 “Pārējo ambulatoro veselības aprūpes pakalpojumu nodrošināšana“ | B4: =L9 -> 59126 | C4: =L9 -> 59126 | D4: =L9 -> 59126 | E4: =D4 -> 59126
E7: 2304 | F7: 1388 | H7: 0.2359
A8: Kabineta nosaukums | B8: Kabineta plānotais darbības periods mēnešos 2026.gadā | C8: Ārsta slodze plāns 2026.gadam | D8: Māsas slodze plāns 2026.gadam | E8: Ārsta darba samaksa 2026.gadā, euro | F8: Māsas darba samaksa 2026.gadā, euro | G8: Darba samaksa kopā 2026.gadā, euro | H8: VSAOI 2026.gadā, euro | I8: Kabineta fiksētais maksājums, euro (1 slodzei gadā)* | J8: Kabineta fiksētais maksājums, euro (1 slodzei mēnesī) | K8: Kabineta fiksētais maksājums 2026.gadā, euro* | L8: Plānotais finansējums 2026. gadam, euro
A9: Pediatra kabinets | B9: 12 | C9: 1 | D9: 1 | E9: =B9*C9*E7 -> 27648 | F9: =B9*D9*F7 -> 16656 | G9: =E9+F9 -> 44304 | H9: =G9*H7 -> 10451.314 | I9: 4371 | J9: =I9/12 -> 364.25 | K9: =I9 -> 4371 | L9: =ROUND(G9+H9+K9,0) -> 59126
A10: * Atbilstoši 2018.gada 28.augusta Ministru kabineta noteikumu Nr. 555 "Veselības aprūpes organizēšanas un samaksas kārtība" 10. pielikuma 2.10. punkta nosacījumiem

Sheet 3.1.1.4.
F1: Pielikums 3.1.1.4.
A2: Briļļu pieejamība bērniem reģionos
A3: Apakšprogrammas nosaukums | B3: Papildus nepieciešamais finansējums 2026.gadam, euro | C3: Papildus nepieciešamais finansējums 2027.gadam, euro | D3: Papildus nepieciešamais finansējums 2028.gadam, euro | E3: Papildus nepieciešamais finansējums turpmāk ik gadu, euro (ja pasākums nav terminēts)
A4: 33.04.00 “Centralizēta medikamentu un materiālu iegāde” | B4: =E10 -> 75156 | C4: =E14 -> 150260 | D4: {=C4:C5} -> 150260 | E4: {=_xlfn.ANCHORARRAY(D4)} -> 150260
A5: 33.16.00 "Pārējo ambulatoro veselības aprūpes pakalpojumu nodrošināšana" | B5: =D10 -> 112219 | C5: =D14 -> 224360 | D5: 224360 | E5: 224360
A6: Kopā, euro: | B6: =SUM(B4:B5) -> 187375 | C6: =SUM(C4:C5) -> 374620 | D6: =SUM(D4:D5) -> 374620 | E6: =SUM(E4:E5) -> 374620
A8: 1. 2026. gada II pusgads (pakalpojums tiks uzsākts tikai sākot no II pusgada)
A9: Plānotais pacienu skaits 2026. gada II pusgadam* | B9: Viena izmeklējuma vidējā plānotā izmaksa 2025.gadam ārstniecības iestādē, euro | C9: Vienu briļlu izmaksas, euro** | D9: Kopsumma par izmeklējumiem, euro | E9: Kopsumma par brillēm, euro | F9: Kopā izmaksas, euro | G9: Kopā izmaksas uz vienu pacientu, euro
A10: 1431 | B10: 78.42 | C10: 52.52 | D10: =ROUND(B10*A10, 0) -> 112219 | E10: =ROUND(A10*C10, 0) -> 75156 | F10: =ROUND(E10+D10,0) -> 187375 | G10: =F10/A10 -> 130.9399
A12: 2. 2027.gadā un turpmāk ik gadu
A13: Plānotais pacienu skaits* | B13: Viena izmeklējuma vidējā plānotā izmaksa 2025.gadam ārstniecības iestādē, euro | C13: Vienu briļlu izmaksas, euro** | D13: Kopsumma par izmeklējumiem, euro | E13: Kopsumma par brillēm, euro | F13: Kopā izmaksas, euro | G13: Kopā izmaksas uz vienu pacientu, euro
A14: 2861 | B14: 78.42 | C14: 52.52 | D14: =ROUND(A14*B14, 0) -> 224360 | E14: =ROUND(C14*A14, 0) -> 150260 | F14: =ROUND(E14+D14,0) -> 374620 | G14: =F14/A14 -> 130.94023
A15: *VSIA "Bērnu klīniskā universitātes slimnīca" vidējais pacientu skaits, paredzot 15% pieaugumu
A16: **vidējā briļļu cena

Sheet 3.1.1.5.
H1: Pielikums 3.1.1.5.
A2: Dienas stacionāra veselības aprūpes pakalpojumu pieejamības uzlabošana bērniem
A3: Apakšprogrammas nosaukums | B3: Papildus nepieciešamais finansējums 2026.gadam, euro | C3: Papildus nepieciešamais finansējums 2027.gadam, euro | D3: Papildus nepieciešamais finansējums 2028.gadam, euro | E3: Papildus nepieciešamais finansējums turpmāk ik gadu, euro (ja pasākums nav terminēts)
A4: 33.16.00 “Pārējo ambulatoro veselības aprūpes pakalpojumu nodrošināšana“ | B4: 225688 | C4: 225688 | D4: 225688 | E4: 225688
A6: Apakšprogrammas nosaukums | B6: Papildus nepieciešamais finansējums 2026.gadam, euro | C6: Papildus nepieciešamais finansējums 2027.gadam, euro | D6: Papildus nepieciešamais finansējums 2028.gadam, euro | E6: Papildus nepieciešamais finansējums turpmāk ik gadu, euro (ja pasākums nav terminēts)
A7: 33.16.00 “Pārējo ambulatoro veselības aprūpes pakalpojumu nodrošināšana“ | B7: =B4 -> 225688 | C7: =C4 -> 225688 | D7: =D4 -> 225688 | E7: =E4 -> 225688
A8: 33.16.00 Esošā budžeta ietvaros (no bāzes finansējuma) | B8: =B9-B7 -> 53 | C8: =B8 -> 53 | D8: =C8 -> 53 | E8: =D8 -> 53
A9: Kopā: | B9: =S13 -> 225741 | C9: =B9 -> 225741 | D9: =C9 -> 225741 | E9: =D9 -> 225741
B11: Finanšu rādītāji 2025.gadā | O11: Papildus plānotais apjoms 2026.gadam
A12: Pakalpojumu veids | B12: Plānotais izmeklējumu skaits 2025.gadā | C12: Finansējums pakalpojumu apmaksai 2025.gadam, euro | D12: Pacienta līdzmaksājuma kompensācija 2025.gadam, euro | E12: Veiktais darbs periodā 2025.gada janvāris-marts | F12: Pārstrāde(+)/ neizpilde(-) periodā 2025.gada janvāris-marts | G12: Prognozētais veiktais darbs 2025.gada 12 mēnešos | H12: Prognozētā pārstrāde 2025.gada 12 mēnešos | I12: Vidējā pakalpojuma izmaksa valstī, euro | J12: Vidējā pac.līdzmaksājuma izmaksa valstī**, euro | K12: Plānotais izmeklējumu skaits | L12: Finansējums pakalpojumu apmaksai, euro | M12: Pacienta līdzmaksājuma kompensācija, euro | N12: Piezīme par apjomu | O12: Koeficients bērniem, grūtniecēm* | P12: Plānotais izmeklējumu skaits | Q12: Finansējums pakalpojumu apmaksai, euro | R12: Pacienta līdzmaksājuma kompensācija, euro | S12: Papildus nepieciešamais finansējums kopā, euro
A13: KOPĀ | B13: =SUM(B14:B23) -> 284740 | C13: =SUM(C14:C23) -> 40447512 | D13: =SUM(D14:D23) -> 1254462 | E13: =SUM(E14:E23) -> 11156874 | F13: =SUM(F14:F23) -> 1044995.9 | G13: =SUM(G14:G23) -> 44627496 | H13: =SUM(H14:H23) -> 4179983.7 | K13: =SUM(K14:K23) -> 12044.553 | L13: =SUM(L14:L23) -> 5405999 | M13: =SUM(M14:M23) -> 39487.942 | P13: =SUM(P14:P23) -> 884.50271 | Q13: =SUM(Q14:Q23) -> 219688 | R13: =SUM(R14:R23) -> 6053 | S13: =SUM(S14:S23) -> 225741
A14: Uroloģija dienas stacionārā | B14: 2314 | C14: 1604829 | D14: 6367 | E14: 552332.98 | F14: =E14-(C14/12*3) -> 151125.73 | G14: =E14/3*12 -> 2209331.9 | H14: =G14-C14 -> 604502.92 | I14: =C14/B14 -> 693.53025 | J14: =D14/C14 -> 0.0039674009 | K14: =L14/I14 -> 937.00403 | L14: =IF(H14>0,(G14-C14)+((G14-C14)*0.075),(G14*0.01)) -> 649840.64 | M14: =L14*J14 -> 2578.1783 | N14: 7.5% pieaugums | O14: 0.0109 | P14: =O14*K14 -> 10.213344 | Q14: =ROUND(L14*O14, 0) -> 7083 | R14: =ROUND(M14*O14, 0) -> 28 | S14: =Q14+R14 -> 7111
A15: Vispārējie ķirurģiskie pakalpojumi dienas stacionārā | B15: 8030 | C15: 4157283 | D15: 13182 | E15: 1401119.6 | F15: =E15-(C15/12*3) -> 361798.83 | G15: =E15/3*12 -> 5604478.3 | H15: =G15-C15 -> 1447195.3 | I15: =C15/B15 -> 517.71893 | J15: =D15/C15 -> 0.0031708209 | K15: =L15/I15 -> 3004.9799 | L15: =IF(H15>0,(G15-C15)+((G15-C15)*0.075),(G15*0.01)) -> 1555735 | M15: =L15*J15 -> 4932.957 | N15: 7.5% pieaugums | O15: 0.0222 | P15: =O15*K15 -> 66.710553 | Q15: =ROUND(L15*O15,0) -> 34537 | R15: =ROUND(M15*O15, 0) -> 110 | S15: =Q15+R15 -> 34647
A16: Ķirurģiskie pakalpojumi oftalmoloģijas dienas stacionārā | B16: 24447 | C16: 12001991 | D16: 85257 | E16: 3632719.7 | F16: =E16-(C16/12*3) -> 632221.9 | G16: =E16/3*12 -> 14530879 | H16: =G16-C16 -> 2528887.6 | I16: =C16/B16 -> 490.93922 | J16: =D16/C16 -> 0.0071035714 | K16: =L16/I16 -> 5537.4557 | L16: =IF(H16>0,(G16-C16)+((G16-C16)*0.075),(G16*0.01)) -> 2718554.2 | M16: =L16*J16 -> 19311.444 | N16: 7.5% pieaugums | O16: 0.0155 | P16: =O16*K16 -> 85.830564 | Q16: =ROUND(L16*O16,0) -> 42138 | R16: =ROUND(M16*O16, 0) -> 299 | S16: =Q16+R16 -> 42437
A17: Bērnu ķirurģija dienas stacionārā | B17: 1449 | C17: 553584 | D17: 19238 | E17: 150849.3 | F17: =E17-(C17/12*3) -> 12453.3 | G17: =E17/3*12 -> 603397.2 | H17: =G17-C17 -> 49813.2 | I17: =C17/B17 -> 382.04555 | J17: =D17/C17 -> 0.034751727 | K17: =L17/I17 -> 140.16441 | L17: =IF(H17>0,(G17-C17)+((G17-C17)*0.075),(G17*0.01)) -> 53549.19 | M17: =L17*J17 -> 1860.9268 | N17: 7.5% pieaugums | O17: 1 | P17: =O17*K17 -> 140.16441 | Q17: =ROUND(L17*O17,0) -> 53549 | R17: =ROUND(M17*O17, 0) -> 1861 | S17: =Q17+R17 -> 55410
A18: Gastrointestinālās endoskopijas dienas stacionārā | B18: 10200 | C18: 2712529 | D18: 36415 | E18: 716267.11 | F18: =E18-(C18/12*3) -> 38134.86 | G18: =E18/3*12 -> 2865068.4 | H18: =G18-C18 -> 152539.44 | I18: =C18/B18 -> 265.93422 | J18: =D18/C18 -> 0.013424741 | K18: =L18/I18 -> 616.61828 | L18: =IF(H18>0,(G18-C18)+((G18-C18)*0.075),(G18*0.01)) -> 163979.9 | M18: =L18*J18 -> 2201.3877 | N18: 7.5% pieaugums | O18: 0.1562 | P18: =O18*K18 -> 96.315775 | Q18: =ROUND(L18*O18,0) -> 25614 | R18: =ROUND(M18*O18, 0) -> 344 | S18: =Q18+R18 -> 25958
A19: Ginekoloģija dienas stacionārā | B19: 9274 | C19: 4437686 | D19: 8444 | E19: 1146257.9 | F19: =E19-(C19/12*3) -> 36836.36 | G19: =E19/3*12 -> 4585031.4 | H19: =G19-C19 -> 147345.44 | I19: =C19/B19 -> 478.5083 | J19: =D19/C19 -> 0.0019027935 | K19: =L19/I19 -> 331.02111 | L19: =IF(H19>0,(G19-C19)+((G19-C19)*0.075),(G19*0.01)) -> 158396.35 | M19: =L19*J19 -> 301.39554 | N19: 7.5% pieaugums | O19: 0.0213 | P19: =O19*K19 -> 7.0507496 | Q19: =ROUND(L19*O19,0) -> 3374 | R19: =ROUND(M19*O19, 0) -> 6 | S19: =Q19+R19 -> 3380
A20: Neiroloģisko un iekšķīgo slimību ārstēšana dienas stacionārā | B20: 128198 | C20: 6164646 | D20: 354364 | E20: 1547099.8 | F20: =E20-(C20/12*3) -> 5938.29 | G20: =E20/3*12 -> 6188399.2 | H20: =G20-C20 -> 23753.16 | I20: =C20/B20 -> 48.086912 | J20: =D20/C20 -> 0.057483268 | K20: =L20/I20 -> 531.01033 | L20: =IF(H20>0,(G20-C20)+((G20-C20)*0.075),(G20*0.01)) -> 25534.647 | M20: =L20*J20 -> 1467.815 | N20: 7.5% pieaugums | O20: 0.0699 | P20: =O20*K20 -> 37.117622 | Q20: =ROUND(L20*O20,0) -> 1785 | R20: =ROUND(M20*O20, 0) -> 103 | S20: =Q20+R20 -> 1888
A21: Psihiatrisko slimnieku ārstēšana psihiatriskā profila dienas stacionārā | B21: 57431 | C21: 3274139 | D21: 401462 | E21: 803251.43 | F21: =E21-(C21/12*3) -> -15283.32 | G21: =E21/3*12 -> 3213005.7 | H21: =G21-C21 -> -61133.28 | I21: =C21/B21 -> 57.00996 | J21: =D21/C21 -> 0.12261605 | K21: =L21/I21 -> 563.58674 | L21: =IF(H21>0,(G21-C21)+((G21-C21)*0.075),(G21*0.01)) -> 32130.057 | M21: =L21*J21 -> 3939.6608 | N21: 1% pieaugums | O21: 0.1036 | P21: =O21*K21 -> 58.387586 | Q21: =ROUND(L21*O21,0) -> 3329 | R21: =ROUND(M21*O21, 0) -> 408 | S21: =Q21+R21 -> 3737
A22: Rehabilitācija dienas stacionārā bērniem | B22: 40259 | C22: 4131658 | D22: 282274 | E22: 915243.25 | F22: =E22-(C22/12*3) -> -117671.25 | G22: =E22/3*12 -> 3660973 | H22: =G22-C22 -> -470685 | I22: =C22/B22 -> 102.62694 | J22: =D22/C22 -> 0.068319788 | K22: =L22/I22 -> 356.72631 | L22: =IF(H22>0,(G22-C22)+((G22-C22)*0.075),(G22*0.01)) -> 36609.73 | M22: =L22*J22 -> 2501.169 | N22: 1% pieaugums | O22: 1 | P22: =O22*K22 -> 356.72631 | Q22: =ROUND(L22*O22,0) -> 36610 | R22: =ROUND(M22*O22, 0) -> 2501 | S22: =Q22+R22 -> 39111
A23: Otolaringoloģija bērniem dienas stacionārā | B23: 3138 | C23: 1409167 | D23: 47459 | E23: 291732.98 | F23: =E23-(C23/12*3) -> -60558.77 | G23: =E23/3*12 -> 1166931.9 | H23: =G23-C23 -> -242235.08 | I23: =C23/B23 -> 449.06533 | J23: =D23/C23 -> 0.033678762 | K23: =L23/I23 -> 25.985794 | L23: =IF(H23>0,(G23-C23)+((G23-C23)*0.075),(G23*0.01)) -> 11669.319 | M23: =L23*J23 -> 393.00822 | N23: 1% pieaugums | O23: 1 | P23: =O23*K23 -> 25.985794 | Q23: =ROUND(L23*O23,0) -> 11669 | R23: =ROUND(M23*O23, 0) -> 393 | S23: =Q23+R23 -> 12062
A25: * Atbilstoši 2024. gada faktiski veiktajam darbam, izteikts koeficients, cik % izpilde summu sastāda bērni un grūtnieces
A26: ** Atbilstoši faktiski veiktajam darbam (2023. gads septembris-decembris, 2024.gads janvāris-augusts), izteikts koeficients, cik % ir vidēja izpilde

Sheet 3.1.1.6.
K1: Pielikums Nr.3.1.1.6.
B2: Bērnu ķirurģija - tarifu piemaksu pārrēķins vienreizlietojamiem bipolāriem/ultraskaņas instrumentiem
B4: Apakšprogrammas nosaukums | C4: Papildus nepieciešamais finansējums 2027.gadam | D4: Papildus nepieciešamais finansējums 2028.gadam | E4: Papildus nepieciešamais finansējums turpmāk ik gadu (ja pasākums nav terminēts)
B5: 33.18.00 Plānveida stacionāro veselības aprūpes pakalpojumu nodrošināšana | C5: =H32 -> 55419 | D5: =C5 -> 55419 | E5: =C5 -> 55419
B6: 33.16.00 Pārējo ambulatoro veselības aprūpes pakalpojumu nodrošināšana | C6: =J32 -> -2104 | D6: =C6 -> -2104 | E6: =C6 -> -2104
C7: =C5+C6 -> 53315 | D7: =D5+D6 -> 53315 | E7: =E5+E6 -> 53315
F9: Ārsts | G9: Māsa | H9: Palīgpersonāls | I9: Soc.nodoklis | N9: Pieskaitāmās un netiešās ražošanas izmaksas | O9: Administratīvās izmaksas | P9: Pārējo pamatlīdzekļu amortizācija
E10: Mēneša darba samaksa | F10: 2304 | G10: 1388 | H10: 925
E11: 1 minūtes vērtība darba samaksai | F11: =ROUND(F10/9600,4) -> 0.24 | G11: =ROUND(G10/9600,4) -> 0.1446 | H11: =ROUND(H10/9600,4) -> 0.0964 | I11: 0.2359 | M11: Koeficienti | N11: 0.2857 | O11: 0.0202 | P11: 0.0322
A13: Manipulācijas kods | B13: Manipulācijas nosaukums | C13: Mainīgās izmaksas | Q13: Kopējās izmaksas, euro | R13: Pacienta līdzmaksājums, euro | S13: Tarifs, euro
C14: Darba laiks (minūtes) | F14: Darba samaksa D, euro | I14: Valsts sociālās adrošināšanas obligātās iemaksas S, euro | J14: Ārstniecības līdzekļi M, euro | M14: Iekārtu amortizācija N, euro | N14: Pieskaitāmās un netiešās ražošanas izmaksas U, euro | O14: Administratīvās izmaksas A, euro | P14: Pārējo pamatlīdzekļu amortizācija n, euro
C15: ārstam | D15: māsai | E15: jaunākajam personālām | F15: ārstam | G15: māsai | H15: jaunākajam personālam | I15: ārstam, māsai un jaunākajam personālām kopā | J15: M kopā | K15: Medikamenti | L15: Materiāli | T15: D | U15: S | V15: M | W15: E | X15: U | Y15: A | Z15: N | AA15: P | AB15: Kopējās izmaksas | AC15: Pacienta līdzmaksājums | AD15: Tarifs
A16: 1 | B16: 2 | C16: 3 | D16: 4 | E16: 5 | F16: 6 | G16: 7 | H16: 8 | I16: 9 | J16: 10 = 11 + 12 | K16: 11 | L16: 12 | M16: 13 | N16: 14 | O16: 15 | P16: 16 | Q16: 17 | R16: 18 | S16: 19 | T16: 20 | U16: 21 | V16: 22 | W16: 23 | X16: 24 | Y16: 25 | Z16: 26 | AA16: 27 | AB16: 28 | AC16: 29 | AD16: 30
A17: 27050 | B17: Piemaksa par vienreizlietojamu advancētas (bipolāras) enerģijas instrumentu konvencionālai vai vaļējai operācijai | C17: 0 | D17: 0 | E17: 0 | F17: =ROUND((C17*$F$6),2) -> 0 | G17: =ROUND((D17*$G$6),2) -> 0 | H17: =ROUND((E17*$H$6),2) -> 0 | I17: =ROUND(((F17+G17+H17)*$I$6),2) -> 0 | J17: =K17+L17 -> 531.48 | K17: 0 | L17: 531.48 | M17: 0 | N17: =ROUND((F17+G17+H17)*$N$6,2) -> 0 | O17: =ROUND((F17+G17+H17)*$O$6,2) -> 0 | P17: =ROUND((F17+G17+H17)*$P$6,2) -> 0 | Q17: =ROUND((F17+G17+H17+I17+J17+M17+N17+O17+P17),2) -> 531.48 | R17: 0 | S17: =Q17-R17 -> 531.48 | T17: =F17+G17+H17 -> 0 | U17: =I17 -> 0 | V17: =J17 -> 531.48 | X17: =N17 -> 0 | Y17: =O17 -> 0 | Z17: =M17+P17 -> 0 | AB17: =SUM(T17:AA17) -> 531.48 | AC17: =R17 -> 0 | AD17: =AB17-AC17 -> 531.48
A18: 27051 | B18: Piemaksa par vienreizlietojamu advancētas (ultraskaņas) enerģijas instrumentu minimāli invazīvai operācijai | C18: 0 | D18: 0 | E18: 0 | F18: =ROUND((C18*$F$6),2) -> 0 | G18: =ROUND((D18*$G$6),2) -> 0 | H18: =ROUND((E18*$H$6),2) -> 0 | I18: =ROUND(((F18+G18+H18)*$I$6),2) -> 0 | J18: =K18+L18 -> 520.3 | K18: 0 | L18: 520.3 | M18: 45.22 | N18: =ROUND((F18+G18+H18)*$N$6,2) -> 0 | O18: =ROUND((F18+G18+H18)*$O$6,2) -> 0 | P18: =ROUND((F18+G18+H18)*$P$6,2) -> 0 | Q18: =ROUND((F18+G18+H18+I18+J18+M18+N18+O18+P18),2) -> 565.52 | R18: 0 | S18: =Q18-R18 -> 565.52 | T18: =F18+G18+H18 -> 0 | U18: =I18 -> 0 | V18: =J18 -> 520.3 | X18: =N18 -> 0 | Y18: =O18 -> 0 | Z18: =M18+P18 -> 45.22 | AB18: =SUM(T18:AA18) -> 565.52 | AC18: =R18 -> 0 | AD18: =AB18-AC18 -> 565.52
A19: JAUNS | B19: Piemaksa par vienreizlietojamu advancētas (bipolāras) enerģijas instrumentu minimāli invazīvai operācijai | C19: 0 | D19: 0 | E19: 0 | F19: =ROUND((C19*$F$6),2) -> 0 | G19: =ROUND((D19*$G$6),2) -> 0 | H19: =ROUND((E19*$H$6),2) -> 0 | I19: =ROUND(((F19+G19+H19)*$I$6),2) -> 0 | J19: =K19+L19 -> 501.28 | K19: 0 | L19: 501.28 | M19: 0 | N19: =ROUND((F19+G19+H19)*$N$6,2) -> 0 | O19: =ROUND((F19+G19+H19)*$O$6,2) -> 0 | P19: =ROUND((F19+G19+H19)*$P$6,2) -> 0 | Q19: =ROUND((F19+G19+H19+I19+J19+M19+N19+O19+P19),2) -> 501.28 | R19: 0 | S19: =Q19-R19 -> 501.28 | T19: =F19+G19+H19 -> 0 | U19: =I19 -> 0 | V19: =J19 -> 501.28 | X19: =N19 -> 0 | Y19: =O19 -> 0 | Z19: =M19+P19 -> 0 | AB19: =SUM(T19:AA19) -> 501.28 | AC19: =R19 -> 0 | AD19: =AB19-AC19 -> 501.28
B22: Manipulācijas kods | C22: Manipulācijas nosaukums | D22: Spēkā esošais manipulācijas tarifs, EUR | E22: Pārrēķinātais manipulācijas tarifs, EUR | F22: Pacienta līdzmaksājums, EUR | G22: Papildus manip.tarifam nepieciešamais finansējums, EUR | H22: Plānotais pacientu skaits gadā | I22: Plānotais manipulāciju skaits vienam pacientam gadā | J22: Nepieciešamais finansējums gadā, EUR | K22: Papildu informācija par finanšu ietekmes aprēķināšanu | L22: Plānotie apmaksas nosacījumi
L23: Ambulatori | M23: Dienas stacionārā | N23: Stacionārā | O23: Zvaigznītes (* vai **) | P23: Lielā ķirurģiskā operācija | Q23: Citi apmaksas nosacījumi
B24: 27050 | C24: Piemaksa par vienreizlietojamu advancētas (bipolāras) enerģijas instrumentu konvencionālai vai vaļējai operācijai | D24: 453.86 | E24: =S17 -> 531.48 | F24: 0 | G24: =E24-F24-D24 -> 77.62 | H24: =L24+M24+N24 -> 745 | I24: 1 | J24: =G24*H24 -> 57826.9 | K24: - | L24: 7 | M24: 0 | N24: 738 | O24: *
B25: 27051 | C25: Piemaksa par vienreizlietojamu advancētas (ultraskaņas) enerģijas instrumentu minimāli invazīvai operācijai | D25: 531.25 | E25: =S18 -> 565.52 | F25: 0 | G25: =E25-F25-D25 -> 34.27 | H25: =L25+M25+N25 -> 1453 | I25: 1 | J25: =G25*H25 -> 49794.31 | K25: - | L25: 632 | M25: 0 | N25: 821 | O25: *
B26: JAUNS* | C26: Piemaksa par vienreizlietojamu advancētas (bipolāras) enerģijas instrumentu minimāli invazīvai operācijai | D26: 531.25 | E26: =S19 -> 501.28 | F26: 0 | G26: =E26-F26-D26 -> -29.97 | H26: =L26+M26+N26 -> 1812 | I26: 1 | J26: =G26*H26 -> -54305.64 | K26: - | L26: 811 | M26: 0 | N26: 1001 | O26: *
H27: =SUM(H24:H26) -> 4010
B29: Nr. p.k. | C29: Prioritāra pasākuma nosaukums | D29: Pasākuma doma īsumā (pieejamības uzlabošana, jauns pasākums, tarifa izmaiņas, no plāna pasākumiem izrietošs u.c.) | E29: Manip. kods | F29: Manipulācijas nosaukums | G29: Papildus nepieciešamais valsts budžeta finansējums KOPĀ, euro | H29: Papildus nepieciešamais valsts budžeta finansējums, euro
H30: 33.18.00 | I30: 33.17.00 | J30: 33.16.00 | K30: 33.15.00 | L30: 33.14.00 | M30: 33.18.00 | N30: 33.17.00 | O30: 33.16.00 | P30: 33.15.00 | Q30: 33.14.00 | R30: 33.18.00 | S30: 33.17.00 | T30: 33.16.00 | U30: 33.15.00 | V30: 33.14.00
H31: 2027.gadam | M31: 2028.gadam | R31: Turpmāk ik gadu (ja pasākums nav terminēts)
B32: KOPĀ: | H32: =ROUND(SUM(H33:H102),0) -> 55419 | I32: =ROUND(SUM(I33:I102),0) -> 0 | J32: =ROUND(SUM(J33:J102),0) -> -2104 | K32: =ROUND(SUM(K33:K102),0) -> 0 | L32: =ROUND(SUM(L33:L102),0) -> 0 | M32: =ROUND(SUM(M33:M102),0) -> 55419 | N32: =ROUND(SUM(N33:N102),0) -> 0 | O32: =ROUND(SUM(O33:O102),0) -> -2104 | ... V32: =ROUND(SUM(V33:V102),0) -> 0
B33: 1 | D33: Tarifa pārrēķins | E33: 27050 | F33: Piemaksa par vienreizlietojamu advancētas (bipolāras) enerģijas instrumentu konvencionālai vai vaļējai operācijai | H33: =G24*N24 -> 57283.56 | I33: 0 | J33: =G24*L24 -> 543.34 | K33: 0 | L33: 0 | M33: =H33 -> 57283.56 | N33: =I33 -> 0 | O33: =J33 -> 543.34 | P33: =K33 -> 0 | Q33: =L33 -> 0 | R33: =H33 -> 57283.56 | S33: =I33 -> 0 | T33: =J33 -> 543.34 | U33: =K33 -> 0 | V33: =L33 -> 0
B34: 2 | D34: Tarifa pārrēķins | E34: 27051 | F34: Piemaksa par vienreizlietojamu advancētas (ultraskaņas) enerģijas instrumentu minimāli invazīvai operācijai | H34: =G25*N25 -> 28135.67 | I34: 0 | J34: =G25*L25 -> 21658.64 | K34: 0 | L34: 0 | M34: =H34 -> 28135.67 | N34: =I34 -> 0 | O34: =J34 -> 21658.64 | P34: =K34 -> 0 | Q34: =L34 -> 0 | R34: =H34 -> 28135.67 | S34: =I34 -> 0 | T34: =J34 -> 21658.64 | U34: =K34 -> 0 | V34: =L34 -> 0
B35: 3 | D35: Jauns tarifs | E35: JAUNS* | F35: Piemaksa par vienreizlietojamu advancētas (bipolāras) enerģijas instrumentu minimāli invazīvai operācijai | H35: =G26*N26 -> -29999.97 | I35: 0 | J35: =G26*L26 -> -24305.67 | K35: 0 | L35: 0 | M35: =H35 -> -29999.97 | N35: =I35 -> 0 | O35: =J35 -> -24305.67 | P35: =K35 -> 0 | Q35: =L35 -> 0 | R35: =H35 -> -29999.97 | S35: =I35 -> 0 | T35: =J35 -> -24305.67 | U35: =K35 -> 0 | V35: =L35 -> 0
E37: * - manipulācija 27051 tiek sadalīta divās manipulācijās

Sheet 3.1.1.7.
H1: Pielikums Nr.3.1.1.7.
A2: Stacionāro veselības aprūpes pakalpojumu nodrošināšana bērniem - uzņemto pacientu skaita palielināšana
A4: Apakšprogrammas nosaukums | B4: Papildus nepieciešamais finansējums 2026.gadam, euro | C4: Papildus nepieciešamais finansējums 2027.gadam, euro | D4: Papildus nepieciešamais finansējums 2028.gadam, euro | E4: Papildus nepieciešamais finansējums turpmāk ik gadu, euro (ja pasākums nav terminēts)
A5: 33.21.00 “Stacionāro veselības aprūpes pakalpojumu nodrošināšana” | B5: =H10 -> 4640815.2 | C5: =H10 -> 4640815.2 | D5: =H10 -> 4640815.2 | E5: =H10 -> 4640815.2
A8: Pasākums | B8: Programmas | C8: 2023.g.* | E8: 2024.g.** | G8: Nepieciešamā summa, euro
C9: Pacientu skaits | D9: Summa, euro | E9: Pacientu skaits | F9: Summa, euro | G9: Pacientu skaits | H9: Papildus nepieciešamais finansējums 2026. gadam un turpmāk ik gadu, euro
A10: Stacionārie pakalpojumi bērniem - lielāks pacientu skaits, tajā skaitā: | C10: =C11+C13+C19+C27+C50+C57+C60+C63+C67+C70+C78+C80 -> 43532 | D10: =D11+D13+D19+D27+D50+D57+D60+D63+D67+D70+D78+D80 -> 17594501 | E10: =E11+E13+E19+E27+E50+E57+E60+E63+E67+E70+E78+E80 -> 76156 | F10: =F11+F13+F19+F27+F50+F57+F60+F63+F67+F70+F78+F80 -> 22235313 | G10: =G11+G13+G19+G27+G50+G57+G60+G63+G67+G70+G78+G80 -> 32624 | H10: =H11+H13+H19+H27+H50+H57+H60+H63+H67+H70+H78+H80 -> 4640815.2
A11: Infekcijas | C11: =C12 -> 1 | D11: =D12 -> 1886 | E11: =E12 -> 2 | F11: =F12 -> 3773 | G11: 1 | H11: =H12 -> 1887
A12: Sifiliss, gonoreja bērniem | B12: NN003 | C12: 1 | D12: =1886 -> 1886 | E12: 2 | F12: 3773 | G12: =E12-C12 -> 1 | H12: =F12-D12 -> 1887
A13: Jaudzimušo ārstēšana | C13: =SUM(C14:C18) -> 711 | D13: =SUM(D14:D18) -> 1289670.8 | E13: =SUM(E14:E18) -> 899 | F13: =SUM(F14:F18) -> 1650461 | G13: =SUM(G14:G18) -> 188 | H13: =SUM(H14:H18) -> 360790.19
A14: Jaundzimušo intensīvā terapija un reanimācija | B14: BN143.1 | C14: 354 | D14: 720321.01 | E14: 499 | F14: 1008868 | G14: =E14-C14 -> 145 | H14: =F14-D14 -> 288546.99
A15: Terciāra līmeņa pakalpojumi- zems dzimšanas svars, neiznēsātība | B15: BN145.0 | C15: 10 | D15: 17278 | E15: 15 | F15: 25917 | G15: =E15-C15 -> 5 | H15: =F15-D15 -> 8639
A16: Terciāra līmeņa pakalpojumi- jaundzimušo intensīvā terapija un reanimācija | B16: BN146.0 | C16: 206 | D16: 355926.8 | E16: 225 | F16: 388755 | G16: =E16-C16 -> 19 | H16: =F16-D16 -> 32828.2
A17: Smaga neiznēsātība. Specifiski perinatālā perioda elpošanas sistēmas bojājumi | B17: BN141.1 | C17: 7 | D17: 7055 | E17: 13 | F17: 13074 | G17: =E17-C17 -> 6 | H17: =F17-D17 -> 6019
A18: Zems dzimšanas svars, neiznēsātība | B18: BN142.1 | C18: 134 | D18: 189090 | E18: 147 | F18: 213847 | G18: =E18-C18 -> 13 | H18: =F18-D18 -> 24757
A19: Kardioloģija (kopā) | C19: =C20+C23 -> 51 | D19: =D20+D23 -> 88118 | E19: =E20+E23 -> 79 | F19: =F20+F23 -> 137514 | G19: =G20+G23 -> 28 | H19: =H20+H23 -> 49397
A20: Kardioloģija | C20: =C21+C22 -> 11 | D20: =D21+D22 -> 19006 | E20: =E21+E22 -> 18 | F20: =F21+F22 -> 31100 | G20: =G21+G22 -> 7 | H20: =H21+H22 -> 12095
A21: Kardioķirurģija bērniem | B21: BN151.1 | C21: 7 | D21: 12095 | E21: 9 | F21: 15550 | G21: =E21-C21 -> 2 | H21: =(F21-D21)+1 -> 3456
A22: Iedzimtu un iegūtu sirds defektu korekcija ar invazīvās kardioloģijas metodi bērniem | B22: BN132.1 | C22: 4 | D22: 6911 | E22: 9 | F22: 15550 | G22: =E22-C22 -> 5 | H22: =F22-D22 -> 8639
A23: Kardioloģija | C23: =C24+C25+C26 -> 40 | D23: =D24+D25+D26 -> 69112 | E23: =E24+E25+E26 -> 61 | F23: =F24+F25+F26 -> 106414 | G23: =G24+G25+G26 -> 21 | H23: =H24+H25+H26 -> 37302
A24: Elektrokardiostimulācija, EKS implantācija, ICD (intrakardiālā defibrilatora) implantācija, CRT, CRTD implantācija resinhronizācijai, radiofrekventā katetra ablācija | B24: BP090.1 | C24: 0 | D24: 0 | E24: 2 | F24: 4135 | G24: =E24-C24 -> 2 | H24: =F24 -> 4135
A25: Iedzimtu un iegūtu sirds defektu korekcija ar invazīvās kardioloģijas metodi pieaugušajiem | B25: BP131.1 | C25: 0 | D25: 0 | E25: 1 | F25: 2067 | G25: =E25-C25 -> 1 | H25: =F25 -> 2067
A26: Iedzimtu un iegūtu sirds defektu korekcija ar invazīvās kardioloģijas metodi bērniem | B26: BP132.1 | C26: 40 | D26: 69112 | E26: 58 | F26: 100212 | G26: =E26-C26 -> 18 | H26: =F26-D26 -> 31100
A27: Ķirurģija (kopā) | C27: =C28+C32 -> 241 | D27: =D28+D32 -> 794708 | E27: =E28+E32 -> 752 | F27: =F28+F32 -> 1938240 | G27: =G28+G32 -> 511 | H27: =H28+H32 -> 1143533
A28: Ķirurģija | C28: =C29+C30+C31 -> 90 | D28: =D29+D30+D31 -> 105399 | E28: =E29+E30+E31 -> 135 | F28: =F29+F30+F31 -> 159543 | G28: =G29+G30+G31 -> 45 | H28: =H29+H30+H31 -> 54144
A29: Pakalpojuma minimums. Pārējie ķirurģiskie pakalpojumi | B29: BN001.2 | C29: 77 | D29: 85442 | E29: 117 | F29: 131379 | G29: =E29-C29 -> 40 | H29: =F29-D29 -> 45937
A30: Mikroķirurģijas bāzes programma | B30: BN191.1 | C30: 13 | D30: 19957 | E30: 17 | F30: 26097 | G30: =E30-C30 -> 4 | H30: =F30-D30 -> 6140
A31: Smaga galvas smadzeņu trauma | B31: BN520.1 | C31: 0 | D31: 0 | E31: 1 | F31: 2067 | G31: =E31-C31 -> 1 | H31: =F31 -> 2067
A32: Ķirurģija | C32: =SUM(C33:C49) -> 151 | D32: =SUM(D33:D49) -> 689309 | E32: =SUM(E33:E49) -> 617 | F32: =SUM(F33:F49) -> 1778697 | G32: =SUM(G33:G49) -> 466 | H32: =SUM(H33:H49) -> 1089389
A33: Piemaksa par kaulu trausluma ķirurģiju | B33: PN102 (20198, 20199) | C33: 0 | D33: - | E33: 21 | F33: 40828 | G33: =E33-C33 -> 21 | H33: =F33 -> 40828
A34: Pakalpojuma minimums. Pārējie ķirurģiskie pakalpojumi | B34: BP001.2 | C34: 109 | D34: 198707 | E34: 201 | F34: 317542 | G34: =E34-C34 -> 92 | H34: =F34-D34 -> 118835
A35: Mugurkaulāja saslimšanu un traumu ķirurģiska ārstēšana | B35: BP390.1 | C35: 0 | D35: - | E35: 1 | F35: 1196 | G35: 1 | H35: =F35 -> 1196
A36: Plānveida īslaicīgā ķirurģija. Ginekoloģija | B36: BP620.2 | C36: 0 | D36: - | E36: 5 | F36: 7289 | G36: =E36-C36 -> 5 | H36: =F36 -> 7289
A37: Plānveida īslaicīgā ķirurģija. Oftalmoloģija | B37: BP620.4 | C37: 0 | D37: - | E37: 15 | F37: 25917 | G37: =E37-C37 -> 15 | H37: =F37 -> 25917
A38: Plānveida īslaicīgā ķirurģija. Otolaringoloģija | B38: BP620.5 | C38: 0 | D38: - | E38: 108 | F38: 173854 | G38: =E38-C38 -> 108 | H38: =F38 -> 173854
A39: Plānveida īslaicīgā ķirurģija. Traumatoloģija, ortopēdija, rokas rekonstruktīvā mikroķirurģija, plastiskā ķirurģija | B39: BP620.6 | C39: 0 | D39: - | E39: 133 | F39: 207893 | G39: =E39-C39 -> 133 | H39: =F39 -> 207893
A40: Plānveida īslaicīgā ķirurģija. Uroloģija | B40: BP620.7 | C40: 0 | D40: - | E40: 23 | F40: 38978 | G40: =E40-C40 -> 23 | H40: =F40 -> 38978
A41: Plānveida īslaicīgā ķirurģija. Vispārējā ķirurģija | B41: BP620.8 | C41: 0 | D41: - | E41: 22 | F41: 28532 | G41: =E41-C41 -> 22 | H41: =F41 -> 28532
A42: Piemaksa par retraktora sistēmas lietošanu bērniem | B42: PN174 (24027) | C42: 0 | D42: - | E42: 13 | F42: 2590 | G42: =E42-C42 -> 13 | H42: =F42 -> 2590
A43: Mikroķirurģijas bāzes programma | B43: BP191.1 | C43: 0 | D43: - | E43: 1 | F43: 1535 | G43: =E43-C43 -> 1 | H43: =F43 -> 1535
A44: Specializētā mutes, sejas un žokļu slimību ārstēšana iedzimtu patoloģiju un jaunveidojumu gadījumos | B44: BP300.1 | C44: 2 | D44: 4135 | E44: 6 | F44: 12404 | G44: =E44-C44 -> 4 | H44: =(F44-D44)+1 -> 8270
A45: Iedzimtu aukslēju, lūpas un sejas šķeltņu stacionārā ārstēšana | B45: BP111.1 | C45: 23 | D45: 47550 | E45: 29 | F45: 59954 | G45: =E45-C45 -> 6 | H45: =F45-D45 -> 12404
A46: Smagu sakodiena anomāliju stacionārā ārstēšana | B46: BP112.1 | C46: 0 | D46: - | E46: 2 | F46: 4135 | G46: =E46-C46 -> 2 | H46: =F46 -> 4135
A47: Klejotājnerva stimulācijas sistēmas implantācija | B47: PN140 (24113, 24117, 24115, 24116, 24114) | C47: 0 | D47: - | E47: 5 | F47: 3550 | G47: =E47-C47 -> 5 | H47: =F47 -> 3550
A48: Kohleārā implanta implantācija bērniem | B48: PK202 | C48: 9 | D48: 246906 | E48: 21 | F48: 576114 | G48: =E48-C48 -> 12 | H48: =F48-D48 -> 329208
A49: Otrā kohleārā implanta ievietošana | B49: PN146 (18169) | C49: 8 | D49: 192011 | E49: 11 | F49: 276386 | G49: =E49-C49 -> 3 | H49: =F49-D49 -> 84375
A50: Onkoloģija (kopā) | C50: =C51+C53 -> 451 | D50: =D51+D53 -> 2383069 | E50: =E51+E53 -> 519 | F50: =F51+F53 -> 2687585 | G50: =G51+G53 -> 68 | H50: =H51+H53 -> 304517
A51: Onkoloģija | C51: =C52 -> 8 | D51: =D52 -> 9755 | E51: =E52 -> 16 | F51: =F52 -> 18638 | G51: =G52 -> 8 | H51: =H52 -> 8883
A52: Diagnostiskā un neatliekamā ķirurģiskā palīdzība onkoloģijā | B52: BN353.1 | C52: 8 | D52: 9755 | E52: 16 | F52: 18638 | G52: =E52-C52 -> 8 | H52: =F52-D52 -> 8883
A53: Onkoloģija | C53: =C54+C55+C56 -> 443 | D53: =D54+D55+D56 -> 2373314 | E53: =E54+E55+E56 -> 503 | F53: =F54+F55+F56 -> 2668947 | G53: =G54+G55+G56 -> 60 | H53: =H54+H55+H56 -> 295634
A54: Ķīmijterapija bērniem | B54: PN004 | C54: 435 | D54: 2357839 | E54: 487 | F54: 2639696 | G54: =E54-C54 -> 52 | H54: =F54-D54 -> 281857
A55: Diagnostiskā un plānveida ķirurģiskā palīdzība onkoloģijā | B55: BP353.1 | C55: 8 | D55: 15475 | E55: 15 | F55: 27184 | G55: =E55-C55 -> 7 | H55: =(F55-D55)+1 -> 11710
A56: Neiroonkoloģija | B56: BP250.1 | C56: 0 | D56: 0 | E56: 1 | F56: 2067 | G56: =E56-C56 -> 1 | H56: =F56 -> 2067
A57: Hematoloģija | C57: =C58+C59 -> 117 | D57: =D58+D59 -> 129532 | E57: =E58+E59 -> 141 | F57: =F58+F59 -> 156194 | G57: =G58+G59 -> 24 | H57: =H58+H59 -> 26662
A58: Stacionārā palīdzība hematoloģijā | B58: BN354.1 | C58: 117 | D58: 129532 | E58: 135 | F58: 149187 | G58: =E58-C58 -> 18 | H58: =F58-D58 -> 19655
A59: Stacionārā palīdzība hematoloģijā | B59: BP354.1 | C59: 0 | D59: 0 | E59: 6 | F59: 7007 | G59: =E59-C59 -> 6 | H59: =F59 -> 7007
A60: Terapija | C60: =C61+C62 -> 9533 | D60: =D61+D62 -> 9868115 | E60: =E61+E62 -> 11187 | F60: =F61+F62 -> 11919160 | G60: =G61+G62 -> 1654 | H60: =H61+H62 -> 2051045
A61: Pakalpojuma minimums. Pārējie terapeitiskie pakalpojumi | B61: BN001.3 | C61: 9487 | D61: 9811460 | E61: 11055 | F61: 11775469 | G61: =E61-C61 -> 1568 | H61: =F61-D61 -> 1964009
A62: Pakalpojuma minimums. Pārējie terapeitiskie pakalpojumi | B62: BP001.3 | C62: 46 | D62: 56655 | E62: 132 | F62: 143691 | G62: =E62-C62 -> 86 | H62: =F62-D62 -> 87036
A63: Izmeklējumi | C63: =C64+C65+C66 -> 3712 | D63: =D64+D65+D66 -> 54682 | E63: =E64+E65+E66 -> 27669 | F63: =F64+F65+F66 -> 230595 | G63: =G64+G65+G66 -> 23957 | H63: =H64+H65+H66 -> 175913
A64: Ultrasonogrāfija, dupleksskenēšana pacientiem līdz 18 gadu vecumam | B64: PN167 (50745) | C64: 3706 | D64: 52780 | E64: 12867 | F64: 186999 | G64: =E64-C64 -> 9161 | H64: =F64-D64 -> 134219
A65: Jaundzimušo skrīnings | B65: PN162 (49102) | C65: 0 | D65: 0 | E65: 14765 | F65: 32303 | G65: =E65-C65 -> 14765 | H65: =F65 -> 32303
A66: Multiplais miega latentuma tests | B66: PN139 (02127) | C66: 6 | D66: 1902 | E66: 37 | F66: 11293 | G66: =E66-C66 -> 31 | H66: =F66-D66 -> 9391
A67: Psihiatrija | C67: =C68+C69 -> 624 | D67: =D68+D69 -> 2049205 | E67: =E68+E69 -> 747 | F67: =F68+F69 -> 2381273 | G67: =G68+G69 -> 123 | H67: =H68+H69 -> 332068
A68: Psihiatriskā palīdzība bērniem | B68: NK209 | C68: 209 | D68: 510501 | E68: 307 | F68: 749876 | G68: =E68-C68 -> 98 | H68: =F68-D68 -> 239375
A69: Stacionārā psihiatriskā palīdzība bērniem | B69: NN004 | C69: 415 | D69: 1538704 | E69: 440 | F69: 1631397 | G69: =E69-C69 -> 25 | H69: =F69-D69 -> 92693
A70: Specializētā palīdzība (kopā) | C70: =C71+C73 -> 216 | D70: =D71+D73 -> 501212 | E70: =E71+E73 -> 250 | F70: =F71+F73 -> 595490 | G70: =G71+G73 -> 34 | H70: =H71+H73 -> 94278
A71: Specializētā palīdzība | C71: =C72 -> 3 | D71: =D72 -> 5183 | E71: =E72 -> 5 | F71: =F72 -> 8639 | G71: =G72 -> 2 | H71: =H72 -> 3456
A72: Cistiskā fibroze | B72: BN070.1 | C72: 3 | D72: 5183 | E72: 5 | F72: 8639 | G72: =E72-C72 -> 2 | H72: =F72-D72 -> 3456
A73: Specializētā palīdzība | C73: =C74+C75+C76+C77 -> 213 | D73: =D74+D75+D76+D77 -> 496029 | E73: =E74+E75+E76+E77 -> 245 | F73: =F74+F75+F76+F77 -> 586851 | G73: =G74+G75+G76+G77 -> 32 | H73: =H74+H75+H76+H77 -> 90822
A74: iNO ( slāpekļa monoksīds) | C74: 0 | D74: 68457 | E74: 0 | F74: 88807 | G74: =E74-C74 -> 0 | H74: =F74-D74 -> 20350
A75: Bērnu surdoloģija (pārejoši vai pastāvīgu dzirdes un valodas traucējumi). Stacionārā palīdzība. Rehabilitācija | B75: PK250 | C75: 204 | D75: 359424 | E75: 226 | F75: 396244 | G75: =E75-C75 -> 22 | H75: =F75-D75 -> 36820
A76: Tehniskie palīglīdzekļi | C76: 0 | D76: 52598 | E76: 0 | F76: 68972 | G76: =E76-C76 -> 0 | H76: =F76-D76 -> 16374
A77: Cistiskā fibroze | B77: BP070.1 | C77: 9 | D77: 15550 | E77: 19 | F77: 32828 | G77: =E77-C77 -> 10 | H77: =F77-D77 -> 17278
A78: Pavadonis | C78: =C79 -> 27830 | D78: =D79 -> 300829 | E78: =E79 -> 33854 | F78: =F79 -> 365960 | G78: =G79 -> 6024 | H78: =H79 -> 65131
A79: Pavadošās personas atrašanās pie pacienta | B79: PN105 (60107) | C79: 27830 | D79: 300829 | E79: 33854 | F79: 365960 | G79: =E79-C79 -> 6024 | H79: =F79-D79 -> 65131
A80: Narkoloģija | C80: =C81+C82 -> 45 | D80: =D81+D82 -> 133474 | E80: =E81+E82 -> 57 | F80: =F81+F82 -> 169068 | G80: =G81+G82 -> 12 | H80: =H81+H82 -> 35594
A81: Obligātā narkoloģiskā palīdzība bērniem pēc bāriņtiesas lēmuma | B81: NK205 | C81: 4 | D81: 11864 | E81: 6 | F81: 17797 | G81: =E81-C81 -> 2 | H81: =F81-D81 -> 5933
A82: Narkomānu rehabilitācija stacionārā bērniem | B82: PK223 | C82: 41 | D82: 121610 | E82: 51 | F82: 151271 | G82: =E82-C82 -> 10 | H82: =F82-D82 -> 29661
A84: *2023. gada faktiski veiktais darbs
A85: **2024. gada faktiski veiktais darbs

Sheet 3.1.1.8.
F1: Pielikums Nr.3.1.1.8.
A2: Pakalpojumu pieejamības uzlabošana pacientiem ar asinsvadu saslimšanām
A3: (VSIA "Bērnu klīniskā universitātes slimnīca")
A4: Apakšprogrammas nosaukums | B4: Papildus nepieciešamais finansējums 2026,gadam, euro | C4: Papildus nepieciešamais finansējums 2027,gadam, euro | D4: Papildus nepieciešamais finansējums 2028,gadam, euro | E4: Papildus nepieciešamais finansējums turpmāk ik gadu, euro (ja pasākums nav terminēts)
A5: 33.16.00 “Pārējo ambulatoro veselības aprūpes pakalpojumu nodrošināšana“ | B5: =D11 -> 37477 | C5: =E11 -> 37477 | D5: =E11 -> 37477 | E5: =F11 -> 37477
A6: 33.21.00 “Stacionāro veselības aprūpes pakalpojumu nodrošināšana“ | B6: =D12 -> 254843 | C6: =E12 -> 254843 | D6: =F12 -> 254843 | E6: =F12 -> 254843
A7: Kopā, euro | B7: =SUM(B5:B6) -> 292320 | C7: =SUM(C5:C6) -> 292320 | D7: =SUM(D5:D6) -> 292320 | E7: =SUM(E5:E6) -> 292320
A10: Pakalpojuma nodrošinājuma veids | B10: Plānotais pacientu skaits | C10: Izmaksas vienam pacientam, euro | D10: Papildus nepieciešamais finansējums 2026.gadā, euro | E10: Papildus nepieciešamais finansējums 2027.gadā, euro | F10: Papildus nepieciešamais finansējums 2028.gadā, euro
A11: Ambulatori | B11: 100 | C11: 374.769 | D11: =ROUND(C11*B11,0) -> 37477 | E11: =ROUND(B11*C11,0) -> 37477 | F11: =ROUND(B11*C11,0) -> 37477
A12: Stacionāri | B12: 680 | C12: 374.769 | D12: =ROUND(B12*C12,) -> 254843 | E12: =ROUND(B12*C12,0) -> 254843 | F12: =ROUND(B12*C12,0) -> 254843
A13: KOPĀ | B13: =B11+B12 -> 780 | D13: =D11+D12 -> 292320 | E13: =E11+E12 -> 292320 | F13: =F11+F12 -> 292320
H36: 3.1.1.8.

Sheet 3.1.1.9.
Q1: Pielikums 3.1.1.9.
B2: Frakcionēta slāpekļa oksīda (NO) noteikšana izelpojamā gaisā degunā
B4: Apakšprogrammas nosaukums | C4: Papildus nepieciešamais finansējums 2027.gadam | D4: Papildus nepieciešamais finansējums 2028.gadam | E4: Papildus nepieciešamais finansējums turpmāk ik gadu (ja pasākums nav terminēts)
B5: 33.18.00 Plānveida stacionāro veselības aprūpes pakalpojumu nodrošināšana | C5: 2499 | D5: 2499 | E5: 2499
B6: 33.16.00 Pārējo ambulatoro veselības aprūpes pakalpojumu nodrošināšana | C6: 2499 | D6: 2499 | E6: 2499
B8: Manipulācijas kods | C8: Manipulācijas nosaukums | D8: Manip. tarifs, EUR | E8: Aprēķinātais tarifs, EUR | F8: Pacienta līdzmaksājums, EUR | G8: Papildus manip.tarifam nepieciešamais finansējums, EUR | H8: Plānotais pacientu skaits gadā | I8: Plānotais manipulāciju skaits vienam pacientam gadā | J8: Nepieciešamais finansējums gadā, EUR | K8: Papildu informācija par finanšu ietekmes aprēķināšanu | L8: Plānotie apmaksas nosacījumi
L9: Ambulatori | M9: Dienas stacionārā | N9: Stacionārā | O9: Zvaigznītes (* vai **) | P9: Lielā ķirurģiskā operācija | Q9: Citi apmaksas nosacījumi | S9: Primārās ciliārās diskinēzijas (PCD) gadījumā slāpekļa oksīda koncentrācija degunā ir ļoti zema, un šīs gāzes mērīšana degunā ir ieteicama kā PCD diagnostikas tests pacientiem vecumā no 5 gadiem. Mērķis savlaicīgi un precīzi diagnosticēt PCD, jo agrīna diagnostika palīdzētu savlaicīgi uzsākt piemērotu ārstēšanu, kas turpmāk ļautu novērst komplikāciju attīstību un nākotnē samazinātu papildus izmaksas sarežģījumu ārstēšanā.
B10: JAUNS | C10: Frakcionēta slāpekļa oksīda (NO) noteikšana izelpojamā gaisā degunā | D10: 0.00 | E10: 16.66 | F10: 0.00 | G10: 16.66 | H10: 300 | I10: 1 | J10: =G10*H10 -> 4998 | K10: Mērķgrupa - pacienti ar aizdomām par primāri ciliāro diskinēziju (PCD). Telpas, kur sniegs pakalpojumu - BKUS “Torņakalns” ambulatorā daļa un funkcionālā diagnostika stacionārā. | L10: 150 | M10: 0 | N10: 150 | O10: * | Q10: Manipulāciju apmaksā VSIA "Bērnu klīniskā universitātes slimnīca". Manipulāciju norāda pacientiem ar diagnozes kodiem: Z03.8, J47, Q34.8.
B13: Nr. p.k. | C13: Prioritāra pasākuma nosaukums | D13: Pasākuma doma īsumā (pieejamības uzlabošana, jauns pasākums, tarifa izmaiņas, no plāna pasākumiem izrietošs u.c.) | E13: Manip. kods | F13: Manipulācijas nosaukums | G13: Papildus nepieciešamais valsts budžeta finansējums KOPĀ, euro | H13: Papildus nepieciešamais valsts budžeta finansējums, euro
H14: 33.18.00 | I14: 33.17.00 | J14: 33.16.00 | K14: 33.15.00 | L14: 33.14.00 | M14: 33.18.00 | N14: 33.17.00 | O14: 33.16.00 | P14: 33.15.00 | Q14: 33.14.00 | R14: 33.18.00 | S14: 33.17.00 | T14: 33.16.00 | U14: 33.15.00 | V14: 33.14.00
H15: 2027. gadam | M15: 2028 .gadam | R15: Turpmāk ik gadu (ja pasākums nav terminēts)
B16: KOPĀ: | H16: 2499 | I16: 0 | J16: 2499 | K16: 0 | L16: 0 | M16: 2499 | N16: 0 | O16: 2499 | P16: 0 | Q16: 0 | R16: 2499 | S16: 0 | T16: 2499 | U16: 0 | V16: 0
B17: 1 | D17: Jauns tarifs | E17: JAUNS | F17: Frakcionēta slāpekļa oksīda (NO) noteikšana izelpojamā gaisā degunā | H17: 2 499.00 | I17: 0.00 | J17: 2 499.00 | K17: 0.00 | L17: 0.00 | M17: 2 499.00 | N17: 0.00 | O17: 2 499.00 | P17: 0.00 | Q17: 0.00 | R17: 2499 | S17: 0.00 | T17: 2499 | U17: 0.00 | V17: 0.00
B21: Latvijas vai Eiropas Savienības valstu nozares specialitātes profesionālo personu apvienību apstiprinātās vadlīnijas, kuras izmanto Pakalpojuma sniegšanā: | C21: Shapiro AJ, Davis SD, Polineni D, Manion M, Rosenfeld M, Dell SD, et al. American Thoracic Society Assembly on Pediatrics. Diagnosis of primary ciliary dyskinesia: an official American Thoracic Society clinical practice guideline. Am J Respir Crit Care Med. 2018;197:e24–e39. https://www.ncbi.nlm.nih.gov/pmc/articles/PMC6006411/
C22: Nasal Nitric Oxide Measurement in Primary Ciliary Dyskinesia. A Technical Paper on Standardized Testing Protocols. Ann Am Thorac Soc. 2020 Feb; 17(2): e1–e12.
C23: https://www.atsjournals.org/doi/10.1513/AnnalsATS.201904-347OT
B25: Premium medical klīnikā maksas cenrādis 49.30EUR
B27: https://premiummedical.lv/lv/diagnostika/plausu-slimibu-izmeklejumi/feno/

Sheet 3.1.1.10.
F1: Pielikums Nr.3.1.1.10.
A2: Nodrošināts ārstniecības iestāžu pieprasījums pēc asins komponentiem bērnu un jaunpiedzimušo sekmīgai ārstēšanai
A3: Apakšprogrammas nosaukums | B3: Papildus nepieciešamais finansējums 2026.gadam, euro | C3: Papildus nepieciešamais finansējums 2027.gadam, euro | D3: Papildus nepieciešamais finansējums 2028.gadam, euro | E3: Papildus nepieciešamais finansējums turpmāk ik gadu, euro (ja pasākums nav terminēts)
A4: 39.03.00 “Asins un asins komponentu nodrošināšana” | B4: =G29 -> 203698 | C4: =G29 -> 203698 | D4: =G29 -> 203698 | E4: =G29 -> 203698
A6: Lai nodrošinātu asins komponentu sagatavošanu bērniem, nepieciešams sagatavot pilnu asins devu, kuru pēc tām sadala un modificē
A7: 1.Pilnas asins devas sagatavošanas papildus izdevumi
A8: Nr. | B8: Kods | C8: Nosaukums | D8: Deva (ml) | E8: Uzkaites cena (euro) | F8: Devu skaits | G8: Kopā papildus nepieciešamais finansējums, euro
A9: 1 | B9: E4689 E4693 E4697 E4701 | C9: Svaigi saldēta plazma (SSP) sagatavota plazmaferēzes procedūrā-4 devas | D9: =4*200 -> 800 | E9: 179.03 | F9: 50 | G9: =E9*F9 -> 8951.5
A10: 2 | B10: E5259 | C10: Eritrocītu masa filtrēta | D10: 250 | E10: 58.03 | F10: 381 | G10: =E10*F10 -> 22109.43
A11: 3 | B11: E5261 | C11: Eritrocītu masa filtrēta, apstarota | D11: 250 | E11: 62.67 | F11: 165 | G11: =E11*F11 -> 10340.55
A12: 4 | B12: E4403 | C12: Trombocītu masa iegūta no leikocītu-trombocītu slāņa | D12: 320 | E12: 64.8 | F12: 133 | G12: =E12*F12 -> 8618.4
A13: 5 | B13: E4404 | C13: Trombocītu masa iegūta no leikocītu-trombocītu slāņa, apstarota | D13: 320 | E13: 69.44 | F13: 121 | G13: 8402.24
A14: 6 | B14: E4077 E4078 | C14: Trombocītu masa iegūta aferēzē, filtrēta, apstarota (1 kont.), (2 kont.) | D14: 180 | E14: 101.07 | F14: 26 | G14: =E14*F14 -> 2627.82
A15: 7 | B15: E4080 E4081 | C15: Trombocītu masa iegūta aferēzē, filtrēta, sadalīta mazākās devās (1kont.); (2kont.) | D15: 180 | E15: 54.34 | F15: 89 | G15: =E15*F15 -> 4836.26
B16: 1 | C16: Kopā papildus izdevumi pamatdevas sagatavošanai | F16: =SUM(F9:F15) -> 965 | G16: =SUM(G9:G15) -> 65886.2
A18: 2.bērnu un jaundzimušo specifiskās devas sagatavošanas papildus izdevumi
A19: Nr. | B19: Kods | C19: Nosaukums | D19: Deva (ml) | E19: Uzkaites cena (euro) | F19: Devu skaits | G19: Kopā papildus nepieciešamais finansējums, euro
A20: 1 | B20: E4689 E4693 E4697 E4701 m.d. | C20: Svaigi saldēta plazma (SSP) sagatavota plazmaferēzes procedūrā, sadalīta mazākās devās | D20: 50 | E20: 34.43 | F20: 205 | G20: =E20*F20 -> 7058.15
A21: 2 | B21: E5259 m.d. | C21: Eritrocītu masa filtrēta sadalīta mazākās devās | D21: 50 | E21: 23.63 | F21: 1524 | G21: =E21*F21 -> 36012.12
A22: 3 | B22: E5261m.d. | C22: Eritrocītu masa filtrēta, sadalīta mazākās devās, apstarota | D22: 50 | E22: 28.27 | F22: 655 | G22: =E22*F22 -> 18516.85
A23: 4 | B23: E4403 m.d. | C23: Trombocītu masa iegūta no leikocītu-trombocītu slāņa, sadalīta mazākās devās | D23: 50 | E23: 47.58 | F23: 533 | G23: =E23*F23 -> 25360.14
A24: 5 | B24: E4404 m.d. | C24: Trombocītu masa no leikocītu-trombocītu slāņa sadalītas mazākās devās, apstarota | D24: 50 | E24: 52.22 | F24: 485 | G24: =E24*F24 -> 25326.7
A25: 6 | B25: E4077 E4078 m.d. | C25: Trombocītu masa iegūta aferēzē, filtrēta, apstarota, sadalīta mazākās devās (1 kont.), (2 kont.) | D25: 90 | E25: 58.98 | F25: 105 | G25: =E25*F25 -> 6192.9
A26: 7 | B26: E4080 E4081 m.d. | C26: Trombocītu masa iegūta aferēzē, filtrēta, sadalīta mazākās devās (1kont.); (2kont.) | D26: 90 | E26: 54.34 | F26: 356 | G26: =E26*F26 -> 19345.04
B28: 2 | C28: Kopā papildus izdevumi bērnu devas (m.d.) sadalīšanai | F28: =SUM(F20:F26) -> 3863 | G28: =SUM(G20:G26) -> 137811.9
B29: 1.+2. | C29: Kopā papildus izdevumi bērnu devas (m.d.) sagatavošanai | G29: =ROUND(G16+G28,0) -> 203698

Sheet 3.1.1.11.
H1: Pielikums Nr.3.1.1.11.
A2: KZS bērniem deficīta segšanai hronisko slimību ārstēšanai, lai nodrošinātu uzsākto terapijas turpināšanu
A4: Apakšprogrammas nosaukums | B4: Papildus nepieciešamais finansējums 2026.gadam, euro | C4: Papildus nepieciešamais finansējums 2027.gadam, euro | D4: Papildus nepieciešamais finansējums 2028.gadam, euro | E4: Papildus nepieciešamais finansējums turpmāk ik gadu, euro (ja pasākums nav terminēts)
A5: 33.03.00 Kompensējamo medikamentu un materiālu apmaksāšana | B5: =G10 -> 291520 | C5: =H10 -> 145760 | D5: =I10 -> 0 | E5: =D5 -> 0
A9: Pasākums | B9: Viena pacienta vid. izmaksas 2026.gadā, euro | C9: Pacientu skaits 2026.g. | D9: Viena pacienta vid. izmaksas 2027. gadā, euro | E9: Pacientu skaits 2027.gadā | F9: Pacientu skaits 2028.gadā | G9: Papildus nepieciešamais finansējums 2026. gadā, euro | H9: Papildus nepieciešamais finansējums 2027. gadā, euro | I9: Papildus nepieciešamais finansējums 2028. gadā, euro
A10: KZS bērniem deficīta segšanai hronisko slimību ārstēšanai, lai nodrošinātu uzsākto terapijas turpināšanu | B10: 207.34 | C10: 1406 | D10: 207.34 | E10: 703 | F10: 0 | G10: =ROUND(B10*C10,0) -> 291520 | H10: =ROUND(D10*E10,0) -> 145760 | I10: 0

Sheet 3.1.2.
P1: Pielikums Nr. 3.1.2.
B2: Pasākums mērķa grupas paplašināšanai D (25-OH) vitamīna kopējā līmeņa noteikšanai, insulīnam līdzīgā augšanas faktora – 1(IGF – 1) noteikšanai, 17-OHPg (17-hidroksiprogesterons) noteikšanai bērniem ar priekšlaicīgas pubertātes pazīmēm, norovīrusa, rota- un adenovīrusa antigēnu noteikšanai neatliekamās medicīniskās palīdzības etapā
B5: Apakšprogrammas nosaukums | C5: Papildus nepieciešamais finansējums 2027.gadam | D5: Papildus nepieciešamais finansējums 2028.gadam | E5: Papildus nepieciešamais finansējums turpmāk ik gadu (ja pasākums nav terminēts)
B6: 33.15.00 Laboratorisko izmeklējumu nodrošināšana ambulatorajā aprūpē | C6: =J27+J28+(E29*F29*(G29+H29)) -> 40529.6 | D6: =C6 -> 40529.6 | E6: =D6 -> 40529.6
B7: 33.18.00 Plānveida stacionāro veselības aprūpes pakalpojumu nodrošināšana | C7: =(E29*F29*I29)+(E30*F30*ROUND(I30*0.65,0))+(E31*F31*ROUND(I31*0.65,0)) -> 27155.03 | D7: =C7 -> 27155.03 | E7: =C7 -> 27155.03
B8: 33.17.00 Neatliekamās medicīniskās palīdzības nodrošināšana stacionārās ārstniecības iestādēs | C8: =(E30*F30*ROUND(I30*0.35,0))+(E31*F31*ROUND(I31*0.35,0)) -> 13916.45 | D8: =C8 -> 13916.45 | E8: =C8 -> 13916.45
C9: =C6+C7+C8 -> 81601.08 | D9: 81601.08 | E9: 81601.08
G11: Ārsts | H11: Māsa | I11: Māsas palīgs | J11: Soc. nodoklis, darba devēja daļa | O11: Pieskaitāmās un netiešās ražošanas izmaksas | P11: Administratīvās izmaksas | Q11: Pārējo pamatlīdzekļu amortizācija
F12: Vidējā darba samaksa mēnesī | G12: 2304 | H12: 1388 | I12: 925
F13: Darba samaksas 1 minūtes vērtība | G13: =ROUND(G12/9600,4) -> 0.24 | H13: =ROUND(H12/9600,4) -> 0.1446 | I13: =ROUND(I12/9600,4) -> 0.0964 | J13: 0.2359 | N13: Koeficienti | O13: 0.2857 | P13: 0.0202 | Q13: 0.0322
D15: Mainīgās izmaksas | N15: Pastāvīgās izmaksas
B16: Manipulācijas kods | C16: Manipulācijas nosaukums | D16: Ārsta darba laiks, minūtes | E16: Māsas darba laiks, minūtes | F16: Māsas palīga darba laiks, minūtes | G16: Ārsta darba samaksa (D), euro | H16: Māsas darba samaksa (D), euro | I16: Māsas palīga darba samaksa (D), euro | J16: Soc. nodoklis, darba devēja daļa (S), euro | K16: Ārstniecības līdzekļi (M) kopā, euro | L16: Medikamenti, euro | M16: Materiāli, euro | N16: Iekārtu amortizācija (N), euro | O16: Pieskaitāmās un netiešās ražošanas izmaksas (U), euro | P16: Administratīvās izmaksas (A), euro | Q16: Pārējo pamatlīdzekļu amortizācija (n), euro | R16: Kopējās izmaksas, euro | S16: Pacienta līdzmaksājums, euro | T16: Tarifs, euro
B17: 1 | C17: 2 | D17: 3 | E17: 4 | F17: 5 | G17: 6 | H17: 7 | I17: 8 | J17: 9 | K17: 10 = 11 + 12 | L17: 11 | M17: 12 | N17: 13 | O17: 14 | P17: 15 | Q17: 16 | R17: 17 | S17: 18 | T17: 19
B18: JAUNS | C18: Insulīnam līdzīgais augšanas faktors - 1 (IGF - 1) | D18: 3 | E18: 10 | F18: 0 | G18: =ROUND((D18*G13),2) -> 0.72 | H18: =ROUND((E18*H13),2) -> 1.45 | I18: =ROUND((F18*I13),2) -> 0 | J18: =ROUND(((G18+H18+I18)*J13),2) -> 0.51 | K18: =L18+M18 -> 6.21 | L18: 0 | M18: 6.21 | N18: 0.02 | O18: =ROUND((G18+H18+I18)*O13,2) -> 0.62 | P18: =ROUND((G18+H18+I18)*P13,2) -> 0.04 | Q18: =ROUND((G18+H18+I18)*Q13,2) -> 0.07 | R18: =ROUND((G18+H18+I18+J18+K18+N18+O18+P18+Q18),2) -> 9.64 | S18: 0 | T18: =R18-S18 -> 9.64
B19: JAUNS | C19: 17OH-Progesterons kvantitatīvi | D19: 4 | E19: 10 | F19: 0 | G19: =ROUND((D19*G13),2) -> 0.96 | H19: =ROUND((E19*H13),2) -> 1.45 | I19: =ROUND((F19*I13),2) -> 0 | J19: =ROUND(((G19+H19+I19)*J13),2) -> 0.57 | K19: =L19+M19 -> 7.1 | L19: 0 | M19: 7.1 | N19: 0.02 | O19: =ROUND((G19+H19+I19)*O13,2) -> 0.69 | P19: =ROUND((G19+H19+I19)*P13,2) -> 0.05 | Q19: =ROUND((G19+H19+I19)*Q13,2) -> 0.08 | R19: =ROUND((G19+H19+I19+J19+K19+N19+O19+P19+Q19),2) -> 10.92 | S19: 0 | T19: =R19-S19 -> 10.92
B20: 46996 | C20: Norovīrusa antigēna noteikšana ātrais tests | D20: 2 | E20: 22 | F20: 0 | G20: =ROUND((D20*G13),2) -> 0.48 | H20: =ROUND((E20*H13),2) -> 3.18 | I20: =ROUND((F20*I13),2) -> 0 | J20: =ROUND(((G20+H20+I20)*J13),2) -> 0.86 | K20: =L20+M20 -> 5.78 | L20: =[20]Ārstn.līdz.!$G$14 -> 0 | M20: =[20]Ārstn.līdz.!$G$9 -> 5.78 | N20: 0 | O20: =ROUND((G20+H20+I20)*O13,2) -> 1.05 | P20: =ROUND((G20+H20+I20)*P13,2) -> 0.07 | Q20: =ROUND((G20+H20+I20)*Q13,2) -> 0.12 | R20: =ROUND((G20+H20+I20+J20+K20+N20+O20+P20+Q20),2) -> 11.54 | S20: 0 | T20: =R20-S20 -> 11.54
B21: 46997 | C21: Rota un adenovīrusa antigēnu noteikšana ātrais tests | D21: 2 | E21: 17 | F21: 0 | G21: =ROUND((D21*G13),2) -> 0.48 | H21: =ROUND((E21*H13),2) -> 2.46 | I21: =ROUND((F21*I13),2) -> 0 | J21: =ROUND(((G21+H21+I21)*J13),2) -> 0.69 | K21: =L21+M21 -> 1.33 | L21: =[21]Ārstn.līdz.!$G$15 -> 0 | M21: =[21]Ārstn.līdz.!$G$10 -> 1.33 | N21: 0 | O21: =ROUND((G21+H21+I21)*O13,2) -> 0.84 | P21: =ROUND((G21+H21+I21)*P13,2) -> 0.06 | Q21: =ROUND((G21+H21+I21)*Q13,2) -> 0.09 | R21: =ROUND((G21+H21+I21+J21+K21+N21+O21+P21+Q21),2) -> 5.95 | S21: 0 | T21: =R21-S21 -> 5.95
B25: Manipulācijas kods | C25: Manipulācijas nosaukums | D25: Manipulācijas tarifs, eiro | E25: Pārrēķinātais manipulācijas tarifs, eiro | F25: Plānotais manipulāciju skaits vienam pacientam gadā | G25: Provizoriskais pacientu skaits | J25: Nepieciešamais finansējums gadā, eiro
G26: Ambulatori | H26: Dienas stacionārā | I26: Stacionārā
B27: 41213 | C27: Vitamīns D (25-OH) kopējais | D27: 9.45 | E27: 9.45 | F27: 1 | G27: 2000 | J27: =E27*F27*G27 -> 18900
B28: JAUNS | C28: Insulīnam līdzīgais augšanas faktors - 1 (IGF - 1) | D28: - | E28: =T18 -> 9.64 | F28: 1 | G28: 1700 | J28: =E28*F28*G28 -> 16388
B29: JAUNS | C29: 17OH-Progesterons kvantitatīvi | D29: - | E29: =T19 -> 10.92 | F29: 4 | G29: 105 | H29: 15 | I29: 30 | J29: =E29*F29*(G29+H29+I29) -> 6552
B30: Pārrēķins 46996 | C30: Norovīrusa antigēna noteikšana ātrais tests | D30: 0 | E30: =T20 -> 11.54 | F30: 1 | I30: 2272 | J30: =E30*F30*I30 -> 26218.88
B31: Pārrēķins 46997 | C31: Rota un adenovīrusa antigēnu noteikšana ātrais tests | D31: 0 | E31: =T21 -> 5.95 | F31: 1 | I31: 2276 | J31: =E31*F31*I31 -> 13542.2
B33: Pacientu skaits saskaņā ar BKUS iesniegto statistiku.
B34: Manipulācijām 46996, 46997 35% pacientu tiks testēti observācijā (33.17.00 programma), 65% stacionārā (33.18.00 programma).

Sheet 3.1.2.1.
P1: Pielikums Nr. 3.1.2.1.
C3: Laktāts, serozo dobumu šķidrumu klīniska izmeklēšana - laboratoriskie izmeklējumi
B5: Apakšprogrammas nosaukums | C5: Papildus nepieciešamais finansējums 2027.gadam | D5: Papildus nepieciešamais finansējums 2028.gadam | E5: Papildus nepieciešamais finansējums turpmāk ik gadu (ja pasākums nav terminēts)
B6: 33.15.00 Laboratorisko izmeklējumu nodrošināšana ambulatorajā aprūpē | C6: =J31 -> 16600 | D6: =C6 -> 16600 | E6: =C6 -> 16600
F8: Ārsts | G8: Māsa | H8: Palīgpersonāls | I8: Soc.nodoklis | N8: Pieskaitāmās un netiešās ražošanas izmaksas | O8: Administratīvās izmaksas | P8: Pārējo pamatlīdzekļu amortizācija
E9: Mēneša darba samaksa | F9: 2304 | G9: 1388 | H9: 925
E10: 1 minūtes vērtība darba samaksai | F10: =ROUND(F9/9600,4) -> 0.24 | G10: =ROUND(G9/9600,4) -> 0.1446 | H10: =ROUND(H9/9600,4) -> 0.0964 | I10: 0.2359 | M10: Koeficienti | N10: 0.2857 | O10: 0.0202 | P10: 0.0322
A12: Manipulācijas kods | B12: Manipulācijas nosaukums | C12: Mainīgās izmaksas | Q12: Kopējās izmaksas, euro | R12: Pacienta līdzmaksājums, euro | S12: Tarifs, euro
C13: Darba laiks (minūtes) | F13: Darba samaksa D, euro | I13: Valsts sociālās adrošināšanas obligātās iemaksas S, euro | J13: Ārstniecības līdzekļi M, euro | M13: Iekārtu amortizācija N, euro | N13: Pieskaitāmās un netiešās ražošanas izmaksas U, euro | O13: Administratīvās izmaksas A, euro | P13: Pārējo pamatlīdzekļu amortizācija n, euro
C14: ārstam | D14: māsai | E14: jaunākajam personālām | F14: ārstam | G14: māsai | H14: jaunākajam personālam | I14: ārstam, māsai un jaunākajam personālām kopā | J14: M kopā | K14: Medikamenti | L14: Materiāli | T14: D | U14: S | V14: M | W14: E | X14: U | Y14: A | Z14: N | AA14: P | AB14: Kopējās izmaksas | AC14: Pacienta līdzmaksājums | AD14: Tarifs
A15: 1 | B15: 2 | C15: 3 | D15: 4 | E15: 5 | F15: 6 | G15: 7 | H15: 8 | I15: 9 | J15: 10 = 11 + 12 | K15: 11 | L15: 12 | M15: 13 | N15: 14 | O15: 15 | P15: 16 | Q15: 17 | R15: 18 | S15: 19 | T15: 20 | U15: 21 | V15: 22 | W15: 23 | X15: 24 | Y15: 25 | Z15: 26 | AA15: 27 | AB15: 28 | AC15: 29 | AD15: 30
A16: JAUNS | B16: Laktāts | C16: 1 | D16: 5 | E16: 0 | F16: =ROUND((C16*$F$10),2) -> 0.24 | G16: =ROUND((D16*$G$10),2) -> 0.72 | H16: =ROUND((E16*$H$6),2) -> 0 | I16: =ROUND(((F16+G16+H16)*$I$10),2) -> 0.23 | J16: =K16+L16 -> 7.84 | K16: 7.25 | L16: 0.59 | M16: 0.26 | N16: =ROUND((F16+G16+H16)*$N$10,2) -> 0.27 | O16: =ROUND((F16+G16+H16)*$O$10,2) -> 0.02 | P16: =ROUND((F16+G16+H16)*$P$10,2) -> 0.03 | Q16: =ROUND((F16+G16+H16+I16+J16+M16+N16+O16+P16),2) -> 9.61 | R16: 0 | S16: =Q16-R16 -> 9.61 | T16: =F16+G16+H16 -> 0.96 | U16: =I16 -> 0.23 | V16: =J16 -> 7.84 | X16: =N10 -> 0.2857 | Y16: =O10 -> 0.0202 | Z16: =M16+P10 -> 0.2922 | AB16: =SUM(T16:AA16) -> 9.6281 | AC16: =R16 -> 0 | AD16: =AB16-AC16 -> 9.6281
A17: JAUNS | B17: Laktāta noteikšana asinīs un likvorā | C17: 3 | D17: 3 | E17: 0 | F17: =ROUND((C17*$F$10),2) -> 0.72 | G17: =ROUND((D17*$G$10),2) -> 0.43 | H17: =ROUND((E17*$H$6),2) -> 0 | I17: =ROUND(((F17+G17+H17)*$I$10),2) -> 0.27 | J17: =K17+L17 -> 0.85 | K17: 0 | L17: 0.85 | M17: 0.3 | N17: =ROUND((F17+G17+H17)*$N$10,2) -> 0.33 | O17: =ROUND((F17+G17+H17)*$O$10,2) -> 0.02 | P17: =ROUND((F17+G17+H17)*$P$10,2) -> 0.04 | Q17: =ROUND((F17+G17+H17+I17+J17+M17+N17+O17+P17),2) -> 2.96 | R17: 0 | S17: =Q17-R17 -> 2.96 | T17: =F17+G17+H17 -> 1.15 | U17: =I17 -> 0.27 | V17: =J17 -> 0.85 | X17: =N11 -> 0 | Y17: =O17 -> 0.02 | Z17: =M17+P17 -> 0.34 | AB17: =SUM(T17:AA17) -> 2.63 | AC17: =R17 -> 0 | AD17: =AB17-AC17 -> 2.63
A18: JAUNS | B18: Serozo dobumu šķidrumu klīniska izmeklēšana | C18: 12 | D18: 17 | E18: 0 | F18: =ROUND((C18*$F$10),2) -> 2.88 | G18: =ROUND((D18*$G$10),2) -> 2.46 | H18: =ROUND((E18*$H$6),2) -> 0 | I18: =ROUND(((F18+G18+H18)*$I$10),2) -> 1.26 | J18: =K18+L18 -> 0.69 | K18: 0.12 | L18: 0.57 | M18: 0.09 | N18: =ROUND((F18+G18+H18)*$N$10,2) -> 1.53 | O18: =ROUND((F18+G18+H18)*$O$10,2) -> 0.11 | P18: =ROUND((F18+G18+H18)*$P$10,2) -> 0.17 | Q18: =ROUND((F18+G18+H18+I18+J18+M18+N18+O18+P18),2) -> 9.19 | R18: 0 | S18: =Q18-R18 -> 9.19 | T18: =F18+G18+H18 -> 5.34 | U18: =I18 -> 1.26 | V18: =J18 -> 0.69 | X18: =N12 -> 0 | Y18: =O18 -> 0.11 | Z18: =M18+P18 -> 0.26 | AB18: =SUM(T18:AA18) -> 7.66 | AC18: =R18 -> 0 | AD18: =AB18-AC18 -> 7.66
B21: Manipulācijas kods | C21: Manipulācijas nosaukums | D21: Spēkā esošais manipulācijas tarifs, EUR | E21: Aprēķinātais manipulācijas tarifs, EUR | F21: Pacienta līdzmaksājums, EUR | G21: Papildus manip.tarifam nepieciešamais finansējums, EUR | H21: Plānotais pacientu skaits gadā | I21: Plānotais manipulāciju skaits vienam pacientam gadā | J21: Nepieciešamais finansējums gadā, EUR | K21: Papildu informācija par finanšu ietekmes aprēķināšanu | L21: Plānotie apmaksas nosacījumi
L22: Ambulatori | M22: Dienas stacionārā | N22: Stacionārā | O22: Zvaigznītes (* vai **) | P22: Lielā ķirurģiskā operācija | Q22: Citi apmaksas nosacījumi
B23: JAUNS | C23: Laktāts | D23: 0 | E23: =S16 -> 9.61 | F23: 0 | G23: =E23-F23-D23 -> 9.61 | H23: =L23+M23+N23 -> 150 | I23: 1 | J23: =G23*H23 -> 1441.5 | K23: - | L23: 150 | M23: 0 | N23: 0
B24: JAUNS | C24: Laktāta noteikšana asinīs un likvorā | D24: 0 | E24: =S17 -> 2.96 | F24: 0 | G24: =E24-F24-D24 -> 2.96 | H24: =L24+M24+N24 -> 1150 | I24: 1 | J24: =G24*H24 -> 3404 | K24: - | L24: 1150 | M24: 0 | N24: 0
B25: JAUNS | C25: Serozo dobumu šķidrumu klīniska izmeklēšana | D25: 0 | E25: =S18 -> 9.19 | F25: 0 | G25: =E25-F25-D25 -> 9.19 | H25: =L25+M25+N25 -> 1279 | I25: 1 | J25: =G25*H25 -> 11754.01 | K25: - | L25: 1279 | M25: 0 | N25: 0
H26: =SUM(H23:H25) -> 2579
B28: Nr. p.k. | C28: Prioritāra pasākuma nosaukums | D28: Pasākuma doma īsumā (pieejamības uzlabošana, jauns pasākums, tarifa izmaiņas, no plāna pasākumiem izrietošs u.c.) | E28: Manip. kods | F28: Manipulācijas nosaukums | G28: Papildus nepieciešamais valsts budžeta finansējums KOPĀ, euro | H28: Papildus nepieciešamais valsts budžeta finansējums, euro
H29: 33.18.00 | I29: 33.17.00 | J29: 33.16.00 | K29: 33.15.00 | L29: 33.14.00 | M29: 33.18.00 | N29: 33.17.00 | O29: 33.16.00 | P29: 33.15.00 | Q29: 33.14.00 | R29: 33.18.00 | S29: 33.17.00 | T29: 33.16.00 | U29: 33.15.00 | V29: 33.14.00
H30: 2027.gadam | M30: 2028.gadam | R30: Turpmāk ik gadu (ja pasākums nav terminēts)
B31: KOPĀ: | H31: =ROUND(SUM(H32:H101),0) -> 0 | I31: =ROUND(SUM(I32:I101),0) -> 0 | J31: =ROUND(SUM(J32:J101),0) -> 16600 | K31: =ROUND(SUM(K32:K101),0) -> 0 | L31: =ROUND(SUM(L32:L101),0) -> 0 | M31: =ROUND(SUM(M32:M101),0) -> 0 | N31: =ROUND(SUM(N32:N101),0) -> 0 | O31: =ROUND(SUM(O32:O101),0) -> 16600 | ... V31: =ROUND(SUM(V32:V101),0) -> 0
B32: 1 | D32: Jauns tarifs | E32: JAUNS | F32: Laktāts | H32: =G23*N23 -> 0 | I32: 0 | J32: =G23*L23 -> 1441.5 | K32: 0 | L32: 0 | M32: =H32 -> 0 | N32: =I32 -> 0 | O32: =J32 -> 1441.5 | P32: =K32 -> 0 | Q32: =L32 -> 0 | R32: =H32 -> 0 | S32: =I32 -> 0 | T32: =J32 -> 1441.5 | U32: =K32 -> 0 | V32: =L32 -> 0
B33: 2 | D33: Jauns tarifs | E33: JAUNS | F33: Laktāta noteikšana asinīs un likvorā | H33: =G24*N24 -> 0 | I33: 0 | J33: =G24*L24 -> 3404 | K33: 0 | L33: 0 | M33: =H33 -> 0 | N33: =I33 -> 0 | O33: =J33 -> 3404 | P33: =K33 -> 0 | Q33: =L33 -> 0 | R33: =H33 -> 0 | S33: =I33 -> 0 | T33: =J33 -> 3404 | U33: =K33 -> 0 | V33: =L33 -> 0
B34: 3 | D34: Jauns tarifs | E34: JAUNS | F34: Serozo dobumu šķidrumu klīniska izmeklēšana | H34: =G25*N25 -> 0 | I34: 0 | J34: =G25*L25 -> 11754.01 | K34: 0 | L34: 0 | M34: =H34 -> 0 | N34: =I34 -> 0 | O34: =J34 -> 11754.01 | P34: =K34 -> 0 | Q34: =L34 -> 0 | R34: =H34 -> 0 | S34: =I34 -> 0 | T34: =J34 -> 11754.01 | U34: =K34 -> 0 | V34: =L34 -> 0

Sheet 3.1.4.1.
B1: Pielikums Nr.3.1.4.1.
A3: Izstrādāti klīniskie algoritmi, pacientu ceļi un kritēriji zobārstniecībā
A5: Pasākums | B5: 2026.gads finansējums, euro*
A6: Izstrādāti klīniskie algoritmi, pacientu ceļi un kritēriji zobārstniecībā | B6: 48400
A7: *Eiropas Sociālā fonda (ESF+) finansējuma projekts Nr. 4.1.2.7/1/24/I/001 “Pilnveidot pacientu drošību un aprūpes kvalitāti”. Finansējums atkarīgs no iepirkuma organizēšanas un rezultāta.

Sheet 3.1.3.
F1: Pielikums Nr. 3.1.3.
B3: Pasākums paplašināt priekšlaikus dzimušo bērnu mērķa grupu Follow up programmas nodrošināšanai
B5: Apakšprogrammas nosaukums | C5: Papildus nepieciešamais finansējums 2027.gadam | D5: Papildus nepieciešamais finansējums 2028.gadam | E5: Papildus nepieciešamais finansējums turpmāk ik gadu (ja pasākums nav terminēts)
B6: 33.16.00 Pārējo ambulatoro veselības aprūpes pakalpojumu nodrošināšana | C6: =C11*D11*F11 -> 17460 | D6: =C6+(C11*E11*F11) -> 23280 | E6: =D6 -> 23280
B9: Aprūpes epizode | C9: Tarifs, eiro | D9: Plānotais manipulāciju skaits vienam pacientam 1.gadā | E9: Plānotais manipulāciju skaits vienam pacientam 2.gadā | F9: Provizoriskais pacientu skaits | I9: Nepieciešamais finansējums gadā, eiro
F10: Ambulatori | G10: Dienas stacionārā | H10: Stacionārā
B11: Neonatologa konsultācija* | C11: 19.4 | D11: 6 | E11: 2 | F11: 150 | G11: 0 | H11: 0 | I11: =ROUND(C11*D11*F11,0) -> 17460
B12: *Tarifs atbilstoši MK 555 4. pielikuma aprūpes epizodē noteiktajam
B13: Pēc MK 555 1.pielikuma neonatologa apskate 6x pirmajā gadā, 2x otrajā gadā.
B14: Pacientu skaits saskaņā ar BKUS iesniegto.

Sheet 3.1.4.2.
J1: Pielikums 3.1.4.
B3: Jauni pakalpojumi ortodontijā ar iedzimtu sejas–žokļu šķeltņu un smagu deformāciju gadījumā un N2O/O2 sedācijas pakalpojuma pieejamība
C5: Papildus nepieciešamais finansējums 2027.gadam | D5: Papildus nepieciešamais finansējums 2028.gadam | E5: Turpmāk ik gadu (ja pasākums nav terminēts) | I5: Ārsts | J5: Māsa | K5: Palīgpersonāls | L5: Soc.nodoklis | O5: Pieskaitāmās un netiešās ražošanas izmaksas | P5: Administratīvās izmaksas | Q5: Pārējo pamatlīdzekļu amortizācija
B6: 33.18.00 Plānveida stacionāro veselības aprūpes pakalpojumu nodrošināšana | C6: =H56 -> 0 | D6: =C6 -> 0 | E6: =C6 -> 0 | G6: Mēneša darba samaksa | I6: 2304 | J6: 1388 | K6: 925
B7: 33.17.00 Neatliekamās medicīniskās palīdzības nodrošināšana stacionārās ārstniecības iestādēs | C7: =I56 -> 0 | D7: =C7 -> 0 | E7: =C7 -> 0 | G7: 1 minūtes vērtība darba samaksai | I7: =ROUND(I6/9600,4) -> 0.24 | J7: =ROUND(J6/9600,4) -> 0.1446 | K7: =ROUND(K6/9600,4) -> 0.0964 | L7: 0.2359 | N7: Koeficienti | O7: 0.2857 | P7: 0.0202 | Q7: 0.0322
B8: 33.16.00 Pārējo ambulatoro veselības aprūpes pakalpojumu nodrošināšana | C8: =J56 -> 0 | D8: =C8 -> 0 | E8: =C8 -> 0
B9: 33.15.00 Laboratorisko izmeklējumu nodrošināšana ambulatorajā aprūpē | C9: =K56 -> 0 | D9: =C9 -> 0 | E9: =C9 -> 0
B10: 33.14.00 Primārās ambulatorās veselības aprūpes nodrošināšana | C10: =L56 -> 202996 | D10: =C10 -> 202996 | E10: =C10 -> 202996
B12: Manipulācijas kods | C12: Manipulācijas nosaukums | D12: Mainīgās izmaksas | R12: Kopējās izmaksas, euro | S12: Pacienta līdzmaksājums, euro | T12: Tarifs, euro
D13: Darba laiks (minūtes) | G13: Darba samaksa D, euro | J13: Valsts sociālās adrošināšanas obligātās iemaksas S, euro | K13: Ārstniecības līdzekļi M, euro | N13: Iekārtu amortizācija N, euro | O13: Pieskaitāmās un netiešās ražošanas izmaksas U, euro | P13: Administratīvās izmaksas A, euro | Q13: Pārējo pamatlīdzekļu amortizācija n, euro
D14: ārstam | E14: māsai | F14: jaunākajam personālām | G14: ārstam | H14: māsai | I14: jaunākajam personālam | J14: ārstam, māsai un jaunākajam personālām kopā | K14: M kopā | L14: Medikamenti | M14: Materiāli | U14: D | V14: S | W14: M | X14: E | Y14: U | Z14: A | AA14: N | AB14: P | AC14: Kopējās izmaksas | AD14: Pacienta līdzmaksājums | AE14: Tarifs
B15: 1 | C15: 2 | D15: 3 | E15: 4 | F15: 5 | G15: 6 | H15: 7 | I15: 8 | J15: 9 | K15: 10 = 11 + 12 | L15: 11 | M15: 12 | N15: 13 | O15: 14 | P15: 15 | Q15: 16 | R15: 17 | S15: 18 | T15: 19 | U15: 20 | V15: 21 | W15: 22 | X15: 23 | Y15: 24 | Z15: 25 | AA15: 26 | AB15: 27 | AC15: 28 | AD15: 29 | AE15: 30
B16: JAUNS_1 | C16: Digitālais diagnostiskais veidulis | D16: 0 | E16: 120 | F16: 0 | G16: =ROUND(D16*I7,2) -> 0 | H16: =ROUND(E16*J7,2) -> 17.35 | I16: =F16*K7 -> 0 | J16: =ROUND((G16+H16)*0.2359,2) -> 4.09 | K16: =L16+M16 -> 9.77 | L16: 0 | M16: 9.77 | N16: 8.02 | O16: =ROUND((G16+H16+I16)*O7,2) -> 4.96 | P16: =ROUND((G16+H16+I16)*P7,2) -> 0.35 | Q16: =ROUND((G16+H16+I16)*Q7,2) -> 0.56 | R16: =G16+H16+I16+J16+K16+N16+O16+P16+Q16 -> 45.1 | S16: 0 | T16: =R16-S16 -> 45.1 | U16: =G16+H16+I16 -> 17.35 | V16: =J16 -> 4.09 | W16: =K16 -> 9.77 | X16: 0 | Y16: =O16 -> 4.96 | Z16: =P16 -> 0.35 | AA16: =Q16+N16 -> 8.58 | AB16: 0 | AC16: =SUM(U16:AB16) -> 45.1 | AD16: =S16 -> 0 | AE16: =AC16-AD16 -> 45.1
B17: JAUNS_2 | C17: Kape uz printēta veiduļa (retensijas kape) | D17: 0 | E17: 120 | F17: 0 | G17: =ROUND(D17*I7,2) -> 0 | H17: =ROUND(E17*J7,2) -> 17.35 | I17: =F17*K7 -> 0 | J17: =ROUND((G17+H17)*0.2359,2) -> 4.09 | K17: =L17+M17 -> 23.32 | L17: 0 | M17: 23.32 | N17: 8.58 | O17: =ROUND((G17+H17+I17)*O7,2) -> 4.96 | P17: =ROUND((G17+H17+I17)*P7,2) -> 0.35 | Q17: =ROUND((G17+H17+I17)*Q7,2) -> 0.56 | R17: =G17+H17+I17+J17+K17+N17+O17+P17+Q17 -> 59.21 | S17: 0 | T17: =R17-S17 -> 59.21 | U17: =G17+H17+I17 -> 17.35 | V17: =J17 -> 4.09 | W17: =K17 -> 23.32 | X17: 0 | Y17: =O17 -> 4.96 | Z17: =P17 -> 0.35 | AA17: =Q17+N17 -> 9.14 | AB17: 0 | AC17: =SUM(U17:AB17) -> 59.21 | AD17: =S17 -> 0 | AE17: =AC17-AD17 -> 59.21
B18: JAUNS_3 | C18: Twin bloks ar skrūvi un pelotēm uz printēta veiduļa | D18: 0 | E18: 240 | F18: 0 | G18: =ROUND(D18*I7,2) -> 0 | H18: =ROUND(E18*J7,2) -> 34.7 | I18: =F18*K7 -> 0 | J18: =ROUND((G18+H18)*0.2359,2) -> 8.19 | K18: =L18+M18 -> 140.97 | L18: 0 | M18: 140.97 | N18: 6.09 | O18: =ROUND((G18+H18+I18)*O7,2) -> 9.91 | P18: =ROUND((G18+H18+I18)*P7,2) -> 0.7 | Q18: =ROUND((G18+H18+I18)*Q7,2) -> 1.12 | R18: =G18+H18+I18+J18+K18+N18+O18+P18+Q18 -> 201.68 | S18: 0 | T18: =R18-S18 -> 201.68 | U18: =G18+H18+I18 -> 34.7 | V18: =J18 -> 8.19 | W18: =K18 -> 140.97 | X18: 0 | Y18: =O18 -> 9.91 | Z18: =P18 -> 0.7 | AA18: =Q18+N18 -> 7.21 | AB18: 0 | AC18: =SUM(U18:AB18) -> 201.68 | AD18: =S18 -> 0 | AE18: =AC18-AD18 -> 201.68
A19: ! | B19: JAUNS_4 | C19: Bāzes plate ar apakšzokļa slīpo valni, skavām un retrakcijas loku uz printēta veiduļa | D19: 0 | E19: 200 | F19: 0 | G19: =ROUND(D19*I7,2) -> 0 | H19: =ROUND(E19*J7,2) -> 28.92 | I19: =F19*K7 -> 0 | J19: =ROUND((G19+H19)*0.2359,2) -> 6.82 | K19: =L19+M19 -> 69.49 | L19: 0 | M19: 69.49 | N19: 3.65 | O19: =ROUND((G19+H19+I19)*O7,2) -> 8.26 | P19: =ROUND((G19+H19+I19)*P7,2) -> 0.58 | Q19: =ROUND((G19+H19+I19)*Q7,2) -> 0.93 | R19: =G19+H19+I19+J19+K19+N19+O19+P19+Q19 -> 118.65 | S19: 0 | T19: =R19-S19 -> 118.65 | U19: =G19+H19+I19 -> 28.92 | V19: =J19 -> 6.82 | W19: =K19 -> 69.49 | X19: 0 | Y19: =O19 -> 8.26 | Z19: =P19 -> 0.58 | AA19: =Q19+N19 -> 4.58 | AB19: 0 | AC19: =SUM(U19:AB19) -> 118.65 | AD19: =S19 -> 0 | AE19: =AC19-AD19 -> 118.65
B20: JAUNS_5 | C20: Distalaizers/Mezilaizers ar metāla printētiem elementiem | D20: 0 | E20: 300 | F20: 0 | G20: =ROUND(D20*I7,2) -> 0 | H20: =ROUND(E20*J7,2) -> 43.38 | I20: =F20*K7 -> 0 | J20: =ROUND((G20+H20)*0.2359,2) -> 10.23 | K20: =L20+M20 -> 359.08 | L20: 0 | M20: 359.08 | N20: 19.16 | O20: =ROUND((G20+H20+I20)*O7,2) -> 12.39 | P20: =ROUND((G20+H20+I20)*P7,2) -> 0.88 | Q20: =ROUND((G20+H20+I20)*Q7,2) -> 1.4 | R20: =G20+H20+I20+J20+K20+N20+O20+P20+Q20 -> 446.52 | S20: 0 | T20: =R20-S20 -> 446.52 | U20: =G20+H20+I20 -> 43.38 | V20: =J20 -> 10.23 | W20: =K20 -> 359.08 | X20: 0 | Y20: =O20 -> 12.39 | Z20: =P20 -> 0.88 | AA20: =Q20+N20 -> 20.56 | AB20: 0 | AC20: =SUM(U20:AB20) -> 446.52 | AD20: =S20 -> 0 | AE20: =AC20-AD20 -> 446.52
B21: JAUNS_6 | C21: Ātrās paplašināšanas skrūve ar mini implantiem ar printētiem elementiem | D21: 0 | E21: 240 | F21: 0 | G21: =ROUND(D21*I7,2) -> 0 | H21: =ROUND(E21*J7,2) -> 34.7 | I21: =F21*K7 -> 0 | J21: =ROUND((G21+H21)*0.2359,2) -> 8.19 | K21: =L21+M21 -> 223.77 | L21: 0 | M21: 223.77 | N21: 16.68 | O21: =ROUND((G21+H21+I21)*O7,2) -> 9.91 | P21: =ROUND((G21+H21+I21)*P7,2) -> 0.7 | Q21: =ROUND((G21+H21+I21)*Q7,2) -> 1.12 | R21: =G21+H21+I21+J21+K21+N21+O21+P21+Q21 -> 295.07 | S21: 0 | T21: =R21-S21 -> 295.07 | U21: =G21+H21+I21 -> 34.7 | V21: =J21 -> 8.19 | W21: =K21 -> 223.77 | X21: 0 | Y21: =O21 -> 9.91 | Z21: =P21 -> 0.7 | AA21: =Q21+N21 -> 17.8 | AB21: 0 | AC21: =SUM(U21:AB21) -> 295.07 | AD21: =S21 -> 0 | AE21: =AC21-AD21 -> 295.07
B22: JAUNS_7 | C22: Ātrās paplašināšanas skrūve ar printētiem elementiem | D22: 0 | E22: 240 | F22: 0 | G22: =ROUND(D22*I7,2) -> 0 | H22: =ROUND(E22*J7,2) -> 34.7 | I22: =F22*K7 -> 0 | J22: =ROUND((G22+H22)*0.2359,2) -> 8.19 | K22: =L22+M22 -> 184.45 | L22: 0 | M22: 184.45 | N22: 12.78 | O22: =ROUND((G22+H22+I22)*O7,2) -> 9.91 | P22: =ROUND((G22+H22+I22)*P7,2) -> 0.7 | Q22: =ROUND((G22+H22+I22)*Q7,2) -> 1.12 | R22: =G22+H22+I22+J22+K22+N22+O22+P22+Q22 -> 251.85 | S22: 0 | T22: =R22-S22 -> 251.85 | U22: =G22+H22+I22 -> 34.7 | V22: =J22 -> 8.19 | W22: =K22 -> 184.45 | X22: 0 | Y22: =O22 -> 9.91 | Z22: =P22 -> 0.7 | AA22: =Q22+N22 -> 13.9 | AB22: 0 | AC22: =SUM(U22:AB22) -> 251.85 | AD22: =S22 -> 0 | AE22: =AC22-AD22 -> 251.85
B23: JAUNS_8 | C23: Herbst aparatūra ar printētiem elementiem | D23: 0 | E23: 300 | F23: 0 | G23: =ROUND(D23*I7,2) -> 0 | H23: =ROUND(E23*J7,2) -> 43.38 | I23: =F23*K7 -> 0 | J23: =ROUND((G23+H23)*0.2359,2) -> 10.23 | K23: =L23+M23 -> 337.71 | L23: 0 | M23: 337.71 | N23: 16.33 | O23: =ROUND((G23+H23+I23)*O7,2) -> 12.39 | P23: =ROUND((G23+H23+I23)*P7,2) -> 0.88 | Q23: =ROUND((G23+H23+I23)*Q7,2) -> 1.4 | R23: =G23+H23+I23+J23+K23+N23+O23+P23+Q23 -> 422.32 | S23: 0 | T23: =R23-S23 -> 422.32 | U23: =G23+H23+I23 -> 43.38 | V23: =J23 -> 10.23 | W23: =K23 -> 337.71 | X23: 0 | Y23: =O23 -> 12.39 | Z23: =P23 -> 0.88 | AA23: =Q23+N23 -> 17.73 | AB23: 0 | AC23: =SUM(U23:AB23) -> 422.32 | AD23: =S23 -> 0 | AE23: =AC23-AD23 -> 422.32
B24: JAUNS_9 | C24: Kape uz printēta veiduļa | D24: 60 | E24: 60 | F24: 0 | G24: =ROUND(D24*I7,2) -> 14.4 | H24: =ROUND(E24*J7,2) -> 8.68 | I24: =F24*K7 -> 0 | J24: =ROUND((G24+H24)*0.2359,2) -> 5.44 | K24: =L24+M24 -> 1.4 | L24: 0 | M24: 1.4 | N24: 1.3 | O24: =ROUND((G24+H24+I24)*O7,2) -> 6.59 | P24: =ROUND((G24+H24+I24)*P7,2) -> 0.47 | Q24: =ROUND((G24+H24+I24)*Q7,2) -> 0.74 | R24: =G24+H24+I24+J24+K24+N24+O24+P24+Q24 -> 39.02 | S24: 0 | T24: =R24-S24 -> 39.02 | U24: =G24+H24+I24 -> 23.08 | V24: =J24 -> 5.44 | W24: =K24 -> 1.4 | X24: 0 | Y24: =O24 -> 6.59 | Z24: =P24 -> 0.47 | AA24: =Q24+N24 -> 2.04 | AB24: 0 | AC24: =SUM(U24:AB24) -> 39.02 | AD24: =S24 -> 0 | AE24: =AC24-AD24 -> 39.02
B25: JAUNS_10 | C25: Uz zobiem balstīta printēta aparatūra ar mikroskrūvēm | D25: 60 | E25: 60 | F25: 0 | G25: =ROUND(D25*I7,2) -> 14.4 | H25: =ROUND(E25*J7,2) -> 8.68 | I25: =F25*K7 -> 0 | J25: =ROUND((G25+H25)*0.2359,2) -> 5.44 | K25: =L25+M25 -> 234.58 | L25: 0 | M25: 234.58 | N25: 17.47 | O25: =ROUND((G25+H25+I25)*O7,2) -> 6.59 | P25: =ROUND((G25+H25+I25)*P7,2) -> 0.47 | Q25: =ROUND((G25+H25+I25)*Q7,2) -> 0.74 | R25: =G25+H25+I25+J25+K25+N25+O25+P25+Q25 -> 288.37 | S25: 0 | T25: =R25-S25 -> 288.37 | U25: =G25+H25+I25 -> 23.08 | V25: =J25 -> 5.44 | W25: =K25 -> 234.58 | X25: 0 | Y25: =O25 -> 6.59 | Z25: =P25 -> 0.47 | AA25: =Q25+N25 -> 18.21 | AB25: 0 | AC25: =SUM(U25:AB25) -> 288.37 | AD25: =S25 -> 0 | AE25: =AC25-AD25 -> 288.37
B26: JAUNS_11 | C26: Uz zobiem balstīta printēta aparatūra | D26: 60 | E26: 60 | F26: 0 | G26: =ROUND(D26*I7,2) -> 14.4 | H26: =ROUND(E26*J7,2) -> 8.68 | I26: =F26*K7 -> 0 | J26: =ROUND((G26+H26)*0.2359,2) -> 5.44 | K26: =L26+M26 -> 67.88 | L26: 0 | M26: 67.88 | N26: 1.51 | O26: =ROUND((G26+H26+I26)*O7,2) -> 6.59 | P26: =ROUND((G26+H26+I26)*P7,2) -> 0.47 | Q26: =ROUND((G26+H26+I26)*Q7,2) -> 0.74 | R26: =G26+H26+I26+J26+K26+N26+O26+P26+Q26 -> 105.71 | S26: 0 | T26: =R26-S26 -> 105.71 | U26: =G26+H26+I26 -> 23.08 | V26: =J26 -> 5.44 | W26: =K26 -> 67.88 | X26: 0 | Y26: =O26 -> 6.59 | Z26: =P26 -> 0.47 | AA26: =Q26+N26 -> 2.25 | AB26: 0 | AC26: =SUM(U26:AB26) -> 105.71 | AD26: =S26 -> 0 | AE26: =AC26-AD26 -> 105.71
A27: ! | B27: JAUNS_12 | C27: 3D fotografēšana | D27: 20 | E27: 0 | F27: 0 | G27: =ROUND(D27*I7,2) -> 4.8 | H27: =ROUND(E27*J7,2) -> 0 | I27: =F27*K7 -> 0 | J27: =ROUND((G27+H27)*0.2359,2) -> 1.13 | K27: =L27+M27 -> 14.07 | L27: 0 | M27: 14.07 | N27: 0.45 | O27: =ROUND((G27+H27+I27)*O7,2) -> 1.37 | P27: =ROUND((G27+H27+I27)*P7,2) -> 0.1 | Q27: =ROUND((G27+H27+I27)*Q7,2) -> 0.15 | R27: =G27+H27+I27+J27+K27+N27+O27+P27+Q27 -> 22.07 | S27: 0 | T27: =R27-S27 -> 22.07 | U27: =G27+H27+I27 -> 4.8 | V27: =J27 -> 1.13 | W27: =K27 -> 14.07 | X27: 0 | Y27: =O27 -> 1.37 | Z27: =P27 -> 0.1 | AA27: =Q27+N27 -> 0.6 | AB27: 0 | AC27: =SUM(U27:AB27) -> 22.07 | AD27: =S27 -> 0 | AE27: =AC27-AD27 -> 22.07
B28: JAUNS_13 | C28: Intraorālā zobu skenēšana | D28: 20 | E28: 0 | F28: 0 | G28: =ROUND(D28*I7,2) -> 4.8 | H28: =ROUND(E28*J7,2) -> 0 | I28: =F28*K7 -> 0 | J28: =ROUND((G28+H28)*0.2359,2) -> 1.13 | K28: =L28+M28 -> 1.31 | L28: 0 | M28: 1.31 | N28: 0.69 | O28: =ROUND((G28+H28+I28)*O7,2) -> 1.37 | P28: =ROUND((G28+H28+I28)*P7,2) -> 0.1 | Q28: =ROUND((G28+H28+I28)*Q7,2) -> 0.15 | R28: =G28+H28+I28+J28+K28+N28+O28+P28+Q28 -> 9.55 | S28: 0 | T28: =R28-S28 -> 9.55 | U28: =G28+H28+I28 -> 4.8 | V28: =J28 -> 1.13 | W28: =K28 -> 1.31 | X28: 0 | Y28: =O28 -> 1.37 | Z28: =P28 -> 0.1 | AA28: =Q28+N28 -> 0.84 | AB28: 0 | AC28: =SUM(U28:AB28) -> 9.55 | AD28: =S28 -> 0 | AE28: =AC28-AD28 -> 9.55
B29: JAUNS_14 | C29: Augšžokļa plate ar skrūvi, kožamajām virsmām, skavām, protrakcijas atsperēm, retrakcijas loku | D29: 0 | E29: 200 | F29: 0 | G29: =ROUND(D29*I7,2) -> 0 | H29: =ROUND(E29*J7,2) -> 28.92 | I29: =F29*K7 -> 0 | J29: =ROUND((G29+H29)*0.2359,2) -> 6.82 | K29: =L29+M29 -> 69.73 | L29: 0 | M29: 69.73 | N29: 6.5 | O29: =ROUND((G29+H29+I29)*O7,2) -> 8.26 | P29: =ROUND((G29+H29+I29)*P7,2) -> 0.58 | Q29: =ROUND((G29+H29+I29)*Q7,2) -> 0.93 | R29: =G29+H29+I29+J29+K29+N29+O29+P29+Q29 -> 121.74 | S29: 0 | T29: =R29-S29 -> 121.74 | U29: =G29+H29+I29 -> 28.92 | V29: =J29 -> 6.82 | W29: =K29 -> 69.73 | X29: 0 | Y29: =O29 -> 8.26 | Z29: =P29 -> 0.58 | AA29: =Q29+N29 -> 7.43 | AB29: 0 | AC29: =SUM(U29:AB29) -> 121.74 | AD29: =S29 -> 0 | AE29: =AC29-AD29 -> 121.74
B30: JAUNS | C30: N2O/O2 sedācija viena stunda | D30: 60 | E30: 60 | F30: 0 | G30: =ROUND(D30*I7,2) -> 14.4 | H30: =ROUND(E30*J7,2) -> 8.68 | I30: =F30*K7 -> 0 | J30: =ROUND((G30+H30)*0.2359,2) -> 5.44 | K30: =L30+M30 -> 4.11 | L30: 0 | M30: 4.11 | N30: 6.82 | O30: =ROUND((G30+H30+I30)*O7,2) -> 6.59 | P30: =ROUND((G30+H30+I30)*P7,2) -> 0.47 | Q30: =ROUND((G30+H30+I30)*Q7,2) -> 0.74 | R30: =G30+H30+I30+J30+K30+N30+O30+P30+Q30 -> 47.25 | S30: 0 | T30: =R30-S30 -> 47.25 | U30: =G30+H30+I30 -> 23.08 | V30: =J30 -> 5.44 | W30: =K30 -> 4.11 | X30: 0 | Y30: =O30 -> 6.59 | Z30: =P30 -> 0.47 | AA30: =Q30+N30 -> 7.56 | AB30: 0 | AC30: =SUM(U30:AB30) -> 47.25 | AD30: =S30 -> 0 | AE30: =AC30-AD30 -> 47.25
B34: Manipulācijas kods | C34: Manipulācijas nosaukums | D34: Manip. tarifs, EUR | E34: Aprēķinātais tarifs, EUR | F34: Pacienta līdzmaksājums, EUR | G34: Papildus manip.tarifam nepieciešamais finansējums, EUR | H34: Plānotais pacientu skaits gadā | I34: Plānotais manipulāciju skaits vienam pacientam gadā | J34: Nepieciešamais finansējums gadā, EUR | K34: Papildu informācija par finanšu ietekmes aprēķināšanu | L34: Plānotie apmaksas nosacījumi
L35: Ambulatori | M35: Dienas stacionārā | N35: Stacionārā | O35: Zvaigznītes (* vai **) | P35: Lielā ķirurģiskā operācija | Q35: Citi apmaksas nosacījumi
B36: JAUNS_1 | C36: Digitālais diagnostiskais veidulis | D36: 0 | E36: =T16 -> 45.1 | F36: =S16 -> 0 | G36: =E36-F36-D36 -> 45.1 | H36: 150 | I36: 1 | J36: =G36*H36*I36 -> 6765 | K36: Informāciju par plānoto pacientu skaitu gadā sniedza Latvijas Zobārstu asociācija. | L36: =H36 -> 150 | M36: 0 | N36: 0 | Q36: Samaksa par šo manipulāciju tiek veikta, ja to norāda par zobārstniecībā sniegtiem veselības aprūpes pakalpojumiem sekojoši speciālisti: zobu tehniķis (n12).
B37: JAUNS_2 | C37: Kape uz printēta veiduļa (retensijas kape) | D37: 0 | E37: =T17 -> 59.21 | F37: =S17 -> 0 | G37: =E37-F37-D37 -> 59.21 | H37: 250 | I37: 1 | J37: =G37*H37*I37 -> 14802.5 | K37: Informāciju par plānoto pacientu skaitu gadā sniedza Latvijas Zobārstu asociācija. | L37: =H37 -> 250 | M37: 0 | N37: 0 | Q37: Samaksa par šo manipulāciju tiek veikta, ja to norāda par zobārstniecībā sniegtiem veselības aprūpes pakalpojumiem sekojoši speciālisti: zobu tehniķis (n12).
B38: JAUNS_3 | C38: Twin bloks ar skrūvi un pelotēm uz printēta veiduļa | D38: 0 | E38: =T18 -> 201.68 | F38: =S18 -> 0 | G38: =E38-F38-D38 -> 201.68 | H38: 100 | I38: 1 | J38: =G38*H38*I38 -> 20168 | K38: Informāciju par plānoto pacientu skaitu gadā sniedza Latvijas Zobārstu asociācija. | L38: =H38 -> 100 | M38: 0 | N38: 0 | Q38: Samaksa par šo manipulāciju tiek veikta, ja to norāda par zobārstniecībā sniegtiem veselības aprūpes pakalpojumiem sekojoši speciālisti: zobu tehniķis (n12).
B39: JAUNS_4 | C39: Bāzes plate ar apakšzokļa slīpo valni, skavām un retrakcijas loku uz printēta veiduļa | D39: 0 | E39: =T19 -> 118.65 | F39: =S19 -> 0 | G39: =E39-F39-D39 -> 118.65 | H39: 30 | I39: 1 | J39: =G39*H39*I39 -> 3559.5 | K39: Informāciju par plānoto pacientu skaitu gadā sniedza Latvijas Zobārstu asociācija. | L39: =H39 -> 30 | M39: 0 | N39: 0 | Q39: Samaksa par šo manipulāciju tiek veikta, ja to norāda par zobārstniecībā sniegtiem veselības aprūpes pakalpojumiem sekojoši speciālisti: zobu tehniķis (n12).
B40: JAUNS_5 | C40: Distalaizers/Mezilaizers ar metāla printētiem elementiem | D40: 0 | E40: =T20 -> 446.52 | F40: =S20 -> 0 | G40: =E40-F40-D40 -> 446.52 | H40: 20 | I40: 1 | J40: =G40*H40*I40 -> 8930.4 | K40: Informāciju par plānoto pacientu skaitu gadā sniedza Latvijas Zobārstu asociācija. | L40: =H40 -> 20 | M40: 0 | N40: 0 | Q40: Samaksa par šo manipulāciju tiek veikta, ja to norāda par zobārstniecībā sniegtiem veselības aprūpes pakalpojumiem sekojoši speciālisti: zobu tehniķis (n12).
B41: JAUNS_6 | C41: Ātrās paplašināšanas skrūve ar mini implantiem ar printētiem elementiem | D41: 0 | E41: =T21 -> 295.07 | F41: =S21 -> 0 | G41: =E41-F41-D41 -> 295.07 | H41: 30 | I41: 1 | J41: =G41*H41*I41 -> 8852.1 | K41: Informāciju par plānoto pacientu skaitu gadā sniedza Latvijas Zobārstu asociācija. | L41: =H41 -> 30 | M41: 0 | N41: 0 | Q41: Samaksa par šo manipulāciju tiek veikta, ja to norāda par zobārstniecībā sniegtiem veselības aprūpes pakalpojumiem sekojoši speciālisti: zobu tehniķis (n12).
B42: JAUNS_7 | C42: Ātrās paplašināšanas skrūve ar printētiem elementiem | D42: 0 | E42: =T22 -> 251.85 | F42: =S22 -> 0 | G42: =E42-F42-D42 -> 251.85 | H42: 90 | I42: 1 | J42: =G42*H42*I42 -> 22666.5 | K42: Informāciju par plānoto pacientu skaitu gadā sniedza Latvijas Zobārstu asociācija. | L42: =H42 -> 90 | M42: 0 | N42: 0 | Q42: Samaksa par šo manipulāciju tiek veikta, ja to norāda par zobārstniecībā sniegtiem veselības aprūpes pakalpojumiem sekojoši speciālisti: zobu tehniķis (n12).
B43: JAUNS_8 | C43: Herbst aparatūra ar printētiem elementiem | D43: 0 | E43: =T23 -> 422.32 | F43: =S23 -> 0 | G43: =E43-F43-D43 -> 422.32 | H43: 20 | I43: 1 | J43: =G43*H43*I43 -> 8446.4 | K43: Informāciju par plānoto pacientu skaitu gadā sniedza Latvijas Zobārstu asociācija. | L43: =H43 -> 20 | M43: 0 | N43: 0 | Q43: Samaksa par šo manipulāciju tiek veikta, ja to norāda par zobārstniecībā sniegtiem veselības aprūpes pakalpojumiem sekojoši speciālisti: zobu tehniķis (n12).
B44: JAUNS_9 | C44: Kape uz printēta veiduļa | D44: 0 | E44: =T24 -> 39.02 | F44: =S24 -> 0 | G44: =E44-F44-D44 -> 39.02 | H44: 300 | I44: 1 | J44: =G44*H44*I44 -> 11706 | K44: Informāciju par plānoto pacientu skaitu gadā sniedza Latvijas Zobārstu asociācija. | L44: =H44 -> 300 | M44: 0 | N44: 0 | Q44: Samaksa par šo manipulāciju tiek veikta, ja to norāda par zobārstniecībā sniegtiem veselības aprūpes pakalpojumiem sekojoši speciālisti: ortodonts (A251).
B45: JAUNS_10 | C45: Uz zobiem balstīta printēta aparatūra ar mikroskrūvēm | D45: 0 | E45: =T25 -> 288.37 | F45: =S25 -> 0 | G45: =E45-F45-D45 -> 288.37 | H45: 50 | I45: 1 | J45: =G45*H45*I45 -> 14418.5 | K45: Informāciju par plānoto pacientu skaitu gadā sniedza Latvijas Zobārstu asociācija. | L45: =H45 -> 50 | M45: 0 | N45: 0 | Q45: Samaksa par šo manipulāciju tiek veikta, ja to norāda par zobārstniecībā sniegtiem veselības aprūpes pakalpojumiem sekojoši speciālisti: ortodonts (A251).
B46: JAUNS_11 | C46: Uz zobiem balstīta printēta aparatūra | D46: 0 | E46: =T26 -> 105.71 | F46: =S26 -> 0 | G46: =E46-F46-D46 -> 105.71 | H46: 240 | I46: 1 | J46: =G46*H46*I46 -> 25370.4 | K46: Informāciju par plānoto pacientu skaitu gadā sniedza Latvijas Zobārstu asociācija. | L46: =H46 -> 240 | M46: 0 | N46: 0 | Q46: Samaksa par šo manipulāciju tiek veikta, ja to norāda par zobārstniecībā sniegtiem veselības aprūpes pakalpojumiem sekojoši speciālisti: ortodonts (A251).
B47: JAUNS_12 | C47: 3D fotografēšana | D47: 0 | E47: =T27 -> 22.07 | F47: =S27 -> 0 | G47: =E47-F47-D47 -> 22.07 | H47: 1020 | I47: 1 | J47: =G47*H47*I47 -> 22511.4 | K47: Informāciju par plānoto pacientu skaitu gadā sniedza Latvijas Zobārstu asociācija. | L47: =H47 -> 1020 | M47: 0 | N47: 0 | Q47: Samaksa par šo manipulāciju tiek veikta, ja to norāda par zobārstniecībā sniegtiem veselības aprūpes pakalpojumiem sekojoši speciālisti: ortodonts (A251).
... B50: JAUNS | C50: N2O/O2 sedācija viena stunda | D50: 0 | E50: =T30 -> 47.25 | F50: =S30 -> 0 | G50: =E50-F50-D50 -> 47.25 | H50: 400 | I50: 1 | J50: =G50*H50*I50 -> 18900 | K50: Plānotais pacientu skaits gadā noteikts, balstoties uz Veselības ministrijas galvenā speciālista zobārstniecībā dr. Sanitas Intleres sniegto informāciju, kura sadarbojas ar Latvijas Zobārstu asociāciju un bērnu zobārsti - docenti Līgu Kroniņu. | L50: =H50 -> 400 | M50: 0 | N50: 0 | Q50: Samaksa par šo manipulāciju tiek veikta, ja to norāda par zobārstniecībā sniegtiem veselības aprūpes pakalpojumiem pacientiem, kuri ir trauksmaini (pēc Venhema skalas no 2 līdz 3); kuriem ir spēcīgs vemšanas reflekss vai paaugstināta zobu jūtība; kuriem nav iespējams iegūt pietiekami dziļu vietējo anestēziju; kuriem tiek veikta ilgstoša zobārstniecības procedūra (endodontiska ārstēšana, traumēta zoba ārstēšana, vairāku zobu vienlaicīga vai secīga ārstēšana); kuriem ir muskuļu tonusa traucējumi, ar noslieci uz nejaušām kustībām. Samaksa par šo manipulāciju tiek veikta, ja to norāda speciālisti: zobārsts (P25), mutes, sejas un žokļu ķirurgs (P26), ortodonts (A251), paradontologs (A252), bērnu zobārsts (A253), zobu protēzists (A254), endodontists (A255). Vienam pacientam norāda ne vairāk kā vienu manipulāciju vienu reizi dienā.
H51: =SUM(H36:H50) -> 3660 | J51: =SUM(J36:J50) -> 202996.1 | L51: =SUM(L36:L50) -> 3660 | M51: =SUM(M36:M50) -> 0 | N51: =SUM(N36:N50) -> 0
B53: Nr. p.k. | C53: Prioritāra pasākuma nosaukums | D53: Pasākuma doma īsumā (pieejamības uzlabošana, jauns pasākums, tarifa izmaiņas, no plāna pasākumiem izrietošs u.c.) | E53: Manip. kods | F53: Manipulācijas nosaukums | G53: Papildus nepieciešamais valsts budžeta finansējums KOPĀ, euro | H53: Papildus nepieciešamais valsts budžeta finansējums, euro
H54: 33.18.00 | I54: 33.17.00 | J54: 33.16.00 | K54: 33.15.00 | L54: 33.14.00 | M54: 33.18.00 | N54: 33.17.00 | O54: 33.16.00 | P54: 33.15.00 | Q54: 33.14.00 | R54: 33.18.00 | S54: 33.17.00 | T54: 33.16.00 | U54: 33.15.00 | V54: 33.14.00
H55: 2027. gadam | M55: 2028. gadam | R55: Turpmāk ik gadu (ja pasākums nav terminēts)
B56: KOPĀ: | H56: =ROUND(SUM(H57:H128),0) -> 0 | I56: =ROUND(SUM(I57:I128),0) -> 0 | J56: =ROUND(SUM(J57:J128),0) -> 0 | K56: =ROUND(SUM(K57:K128),0) -> 0 | L56: =ROUND(SUM(L57:L128),0) -> 202996 | M56: =ROUND(SUM(M57:M128),0) -> 0 | N56: =ROUND(SUM(N57:N128),0) -> 0 | O56: =ROUND(SUM(O57:O128),0) -> 0 | ... V56: =ROUND(SUM(V57:V128),0) -> 202996
B57: 1 | D57: Jauns tarifs | E57: JAUNS_1 | F57: Digitālais diagnostiskais veidulis | H57: 0 | I57: 0 | J57: 0 | K57: 0 | L57: =J36 -> 6765 | M57: 0 | N57: 0 | O57: =J57 -> 0 | P57: 0 | Q57: =L57 -> 6765 | R57: 0 | S57: 0 | T57: =O57 -> 0 | U57: 0 | V57: =L57 -> 6765
B58: 2 | D58: Jauns tarifs | E58: JAUNS_2 | F58: Kape uz printēta veiduļa (retensijas kape) | H58: 0 | I58: 0 | J58: 0 | K58: 0 | L58: =J37 -> 14802.5 | M58: 0 | N58: 0 | O58: =J58 -> 0 | P58: 0 | Q58: =L58 -> 14802.5 | R58: 0 | S58: 0 | T58: =O58 -> 0 | U58: 0 | V58: =L58 -> 14802.5
B59: 3 | D59: Jauns tarifs | E59: JAUNS_3 | F59: Twin bloks ar skrūvi un pelotēm uz printēta veiduļa | H59: 0 | I59: 0 | J59: 0 | K59: 0 | L59: =J38 -> 20168 | M59: 0 | N59: 0 | O59: =J59 -> 0 | P59: 0 | Q59: =L59 -> 20168 | R59: 0 | S59: 0 | T59: =O59 -> 0 | U59: 0 | V59: =L59 -> 20168
B60: 4 | D60: Jauns tarifs | E60: JAUNS_4 | F60: Bāzes plate ar apakšzokļa slīpo valni, skavām un retrakcijas loku uz printēta veiduļa | H60: 0 | I60: 0 | J60: 0 | K60: 0 | L60: =J39 -> 3559.5 | M60: 0 | N60: 0 | O60: =J60 -> 0 | P60: 0 | Q60: =L60 -> 3559.5 | R60: 0 | S60: 0 | T60: =O60 -> 0 | U60: 0 | V60: =L60 -> 3559.5
B61: 5 | D61: Jauns tarifs | E61: JAUNS_5 | F61: Distalaizers/Mezilaizers ar metāla printētiem elementiem | H61: 0 | I61: 0 | J61: 0 | K61: 0 | L61: =J40 -> 8930.4 | M61: 0 | N61: 0 | O61: =J61 -> 0 | P61: 0 | Q61: =L61 -> 8930.4 | R61: 0 | S61: 0 | T61: =O61 -> 0 | U61: 0 | V61: =L61 -> 8930.4
B62: 6 | D62: Jauns tarifs | E62: JAUNS_6 | F62: Ātrās paplašināšanas skrūve ar mini implantiem ar printētiem elementiem | H62: 0 | I62: 0 | J62: 0 | K62: 0 | L62: =J41 -> 8852.1 | M62: 0 | N62: 0 | O62: =J62 -> 0 | P62: 0 | Q62: =L62 -> 8852.1 | R62: 0 | S62: 0 | T62: =O62 -> 0 | U62: 0 | V62: =L62 -> 8852.1
B63: 7 | D63: Jauns tarifs | E63: JAUNS_7 | F63: Ātrās paplašināšanas skrūve ar printētiem elementiem | H63: 0 | I63: 0 | J63: 0 | K63: 0 | L63: =J42 -> 22666.5 | M63: 0 | N63: 0 | O63: =J63 -> 0 | P63: 0 | Q63: =L63 -> 22666.5 | R63: 0 | S63: 0 | T63: =O63 -> 0 | U63: 0 | V63: =L63 -> 22666.5
B64: 8 | D64: Jauns tarifs | E64: JAUNS_8 | F64: Herbst aparatūra ar printētiem elementiem | H64: 0 | I64: 0 | J64: 0 | K64: 0 | L64: =J43 -> 8446.4 | M64: 0 | N64: 0 | O64: =J64 -> 0 | P64: 0 | Q64: =L64 -> 8446.4 | R64: 0 | S64: 0 | T64: =O64 -> 0 | U64: 0 | V64: =L64 -> 8446.4
B65: 9 | D65: Jauns tarifs | E65: JAUNS_9 | F65: Kape uz printēta veiduļa | H65: 0 | I65: 0 | J65: 0 | K65: 0 | L65: =J44 -> 11706 | M65: 0 | N65: 0 | O65: =J65 -> 0 | P65: 0 | Q65: =L65 -> 11706 | R65: 0 | S65: 0 | T65: =O65 -> 0 | U65: 0 | V65: =L65 -> 11706
B66: 10 | D66: Jauns tarifs | E66: JAUNS_10 | F66: Uz zobiem balstīta printēta aparatūra ar mikroskrūvēm | H66: 0 | I66: 0 | J66: 0 | K66: 0 | L66: =J45 -> 14418.5 | M66: 0 | N66: 0 | O66: =J66 -> 0 | P66: 0 | Q66: =L66 -> 14418.5 | R66: 0 | S66: 0 | T66: =O66 -> 0 | U66: 0 | V66: =L66 -> 14418.5
B67: 11 | D67: Jauns tarifs | E67: JAUNS_11 | F67: Uz zobiem balstīta printēta aparatūra | H67: 0 | I67: 0 | J67: 0 | K67: 0 | L67: =J46 -> 25370.4 | M67: 0 | N67: 0 | O67: =J67 -> 0 | P67: 0 | Q67: =L67 -> 25370.4 | R67: 0 | S67: 0 | T67: =O67 -> 0 | U67: 0 | V67: =L67 -> 25370.4
B68: 12 | D68: Jauns tarifs | E68: JAUNS_12 | F68: 3D fotografēšana | H68: 0 | I68: 0 | J68: 0 | K68: 0 | L68: =J47 -> 22511.4 | M68: 0 | N68: 0 | O68: =J68 -> 0 | P68: 0 | Q68: =L68 -> 22511.4 | R68: 0 | S68: 0 | T68: =O68 -> 0 | U68: 0 | V68: =L68 -> 22511.4
... B71: 15 | D71: Jauns tarifs | E71: JAUNS | F71: N2O/O2 sedācija viena stunda | H71: 0 | I71: 0 | J71: 0 | K71: 0 | L71: =J50 -> 18900 | M71: 0 | N71: 0 | O71: =J71 -> 0 | P71: 0 | Q71: =L71 -> 18900 | R71: 0 | S71: 0 | T71: =O71 -> 0 | U71: 0 | V71: =L71 -> 18900

Sheet 3.1.4.4.1.
J1: Pielikums 3.1.4.4.1.
B3: Papildus nepieciešamais finansējums zobārstniecības pakalpojumu pieejamībai bērniem 2026.-2028.gadam
C5: Papildus nepieciešamais finansējums 2027.gadam | D5: Papildus nepieciešamais finansējums 2028.gadam | E5: Papildus nepieciešamais finansējums 2029.gadam | F5: Turpmāk ik gadu (ja pasākums nav terminēts)
B6: 33.14.00 Primārās ambulatorās veselības aprūpes nodrošināšana | C6: =I11 -> 2099100.5 | D6: =J11 -> 4198201 | E6: =D6 -> 4198201 | F6: =E6 -> 4198201
A9: Zobārstniecības pakalpojumu bērniem pieejamība
A10: Ārstniecības iestāžu skaits 2025.gadā (01.01.2025.) | B10: Plānotais finansējums 2025.gadam, euro | C10: Plānotais apmeklējumu skaits 2025.gadam | D10: Veiktais darbs 3M 2025, euro | E10: Apmeklējumu skaits uz periodu 3M 2025 | F10: Prognozējama izpilde 12M 2025, euro | G10: Prognozējamais apmeklējumu skaits 12M 2025 | H10: Vidējas izmaksas ar esošajiem tarifiem, euro | I10: Papildus nepieciešamais finansējums 2027.gadam (50% no prognozētās pārstrādes), euro | J10: Papildus nepieciešamais finansējums 2028.gadam un nākamajiem gadiem (100% no prognozētās pārstrādes), euro
A11: 257 | B11: 34075275 | C11: 560909.88 | D11: 9568369 | E11: 147887 | F11: =ROUND(D11/3*12,0) -> 38273476 | G11: =ROUND(E11/3*12,0) -> 591548 | H11: =D11/E11 -> 64.700542 | I11: =(F11-B11)/2 -> 2099100.5 | J11: =F11-B11 -> 4198201

Sheet 3.1.4.4.2
G1: Pielikums 3.1.4.2.
B3: Jauni zobārstniecības pakalpojumi ar biomateriāliem, darbu ar psiholoģiski sarežģītiem pacientiem un kompozītmateriālu izmantošanu
C5: Papildus nepieciešamais finansējums 2027.gadam | D5: Papildus nepieciešamais finansējums 2028.gadam | E5: Turpmāk ik gadu (ja pasākums nav terminēts) | I5: Ārsts | J5: Māsa | K5: Palīgpersonāls | L5: Soc.nodoklis | O5: Pieskaitāmās un netiešās ražošanas izmaksas | P5: Administratīvās izmaksas | Q5: Pārējo pamatlīdzekļu amortizācija
B6: 33.18.00 Plānveida stacionāro veselības aprūpes pakalpojumu nodrošināšana | C6: =H38 -> 0 | D6: =C6 -> 0 | E6: =C6 -> 0 | G6: Mēneša darba samaksa | I6: 2304 | J6: 1388 | K6: 925
B7: 33.17.00 Neatliekamās medicīniskās palīdzības nodrošināšana stacionārās ārstniecības iestādēs | C7: =I38 -> 0 | D7: =C7 -> 0 | E7: =C7 -> 0 | G7: 1 minūtes vērtība darba samaksai | I7: =ROUND(I6/9600,4) -> 0.24 | J7: =ROUND(J6/9600,4) -> 0.1446 | K7: =ROUND(K6/9600,4) -> 0.0964 | L7: 0.2359 | N7: Koeficienti | O7: 0.2857 | P7: 0.0202 | Q7: 0.0322
B8: 33.16.00 Pārējo ambulatoro veselības aprūpes pakalpojumu nodrošināšana | C8: =J38 -> 0 | D8: =C8 -> 0 | E8: =C8 -> 0
B9: 33.15.00 Laboratorisko izmeklējumu nodrošināšana ambulatorajā aprūpē | C9: =K38 -> 0 | D9: =C9 -> 0 | E9: =C9 -> 0
B10: 33.14.00 Primārās ambulatorās veselības aprūpes nodrošināšana | C10: =L38 -> 7004140 | D10: =C10 -> 7004140 | E10: =C10 -> 7004140
C11: 0.5 | D11: 0.75
B12: Manipulācijas kods | C12: Manipulācijas nosaukums | D12: Mainīgās izmaksas | R12: Kopējās izmaksas, euro | S12: Pacienta līdzmaksājums, euro | T12: Tarifs, euro
D13: Darba laiks (minūtes) | G13: Darba samaksa D, euro | J13: Valsts sociālās adrošināšanas obligātās iemaksas S, euro | K13: Ārstniecības līdzekļi M, euro | N13: Iekārtu amortizācija N, euro | O13: Pieskaitāmās un netiešās ražošanas izmaksas U, euro | P13: Administratīvās izmaksas A, euro | Q13: Pārējo pamatlīdzekļu amortizācija n, euro
D14: ārstam | E14: māsai | F14: jaunākajam personālām | G14: ārstam | H14: māsai | I14: jaunākajam personālam | J14: ārstam, māsai un jaunākajam personālām kopā | K14: M kopā | L14: Medikamenti | M14: Materiāli | U14: D | V14: S | W14: M | X14: E | Y14: U | Z14: A | AA14: N | AB14: P | AC14: Kopējās izmaksas | AD14: Pacienta līdzmaksājums | AE14: Tarifs
B15: 1 | C15: 2 | D15: 3 | E15: 4 | F15: 5 | G15: 6 | H15: 7 | I15: 8 | J15: 9 | K15: 10 = 11 + 12 | L15: 11 | M15: 12 | N15: 13 | O15: 14 | P15: 15 | Q15: 16 | R15: 17 | S15: 18 | T15: 19 | U15: 20 | V15: 21 | W15: 22 | X15: 23 | Y15: 24 | Z15: 25 | AA15: 26 | AB15: 27 | AC15: 28 | AD15: 29 | AE15: 30
B16: JAUNS | C16: Biomateriāla lietošana (MTA vai Biodentīna 1 deva) | D16: 15 | E16: 15 | F16: 0 | G16: =ROUND(D16*I7,2) -> 3.6 | H16: =ROUND(E16*J7,2) -> 2.17 | I16: =F16*K7 -> 0 | J16: =ROUND((G16+H16)*0.2359,2) -> 1.36 | K16: =L16+M16 -> 22.6 | L16: 0 | M16: 22.6 | N16: 0 | O16: =ROUND((G16+H16+I16)*O7,2) -> 1.65 | P16: =ROUND((G16+H16+I16)*P7,2) -> 0.12 | Q16: =ROUND((G16+H16+I16)*Q7,2) -> 0.19 | R16: =G16+H16+I16+J16+K16+N16+O16+P16+Q16 -> 31.69 | S16: 0 | T16: =R16-S16 -> 31.69 | U16: =G16+H16+I16 -> 5.77 | V16: =J16 -> 1.36 | W16: =K16 -> 22.6 | X16: 0 | Y16: =O16 -> 1.65 | Z16: =P16 -> 0.12 | AA16: =Q16+N16 -> 0.19 | AB16: 0 | AC16: =SUM(U16:AB16) -> 31.69 | AD16: =S16 -> 0 | AE16: =AC16-AD16 -> 31.69
B17: JAUNS | C17: Konsultācija ārpus ikgadējās apskates | D17: 20 | E17: 0 | F17: 0 | G17: =ROUND(D17*I7,2) -> 4.8 | H17: =ROUND(E17*J7,2) -> 0 | I17: =F17*K7 -> 0 | J17: =ROUND((G17+H17)*0.2359,2) -> 1.13 | K17: =L17+M17 -> 0 | L17: 0 | M17: 0 | N17: 0 | O17: =ROUND((G17+H17+I17)*O7,2) -> 1.37 | P17: =ROUND((G17+H17+I17)*P7,2) -> 0.1 | Q17: =ROUND((G17+H17+I17)*Q7,2) -> 0.15 | R17: =G17+H17+I17+J17+K17+N17+O17+P17+Q17 -> 7.55 | S17: 0 | T17: =R17-S17 -> 7.55 | U17: =G17+H17+I17 -> 4.8 | V17: =J17 -> 1.13 | W17: =K17 -> 0 | X17: 0 | Y17: =O17 -> 1.37 | Z17: =P17 -> 0.1 | AA17: =Q17+N17 -> 0.15 | AB17: 0 | AC17: =SUM(U17:AB17) -> 7.55 | AD17: =S17 -> 0 | AE17: =AC17-AD17 -> 7.55
B18: JAUNS | C18: Piemaksa par darbu ar pacientiem ar garīgiem un psihiskiem traucējumiem, psiholoģiski sarežģītiem pacientiem un pacientiem narkozē | D18: 20 | E18: 20 | F18: 0 | G18: =ROUND(D18*I7,2) -> 4.8 | H18: =ROUND(E18*J7,2) -> 2.89 | I18: =F18*K7 -> 0 | J18: =ROUND((G18+H18)*0.2359,2) -> 1.81 | K18: =L18+M18 -> 0 | L18: 0 | M18: 0 | N18: 0 | O18: =ROUND((G18+H18+I18)*O7,2) -> 2.2 | P18: =ROUND((G18+H18+I18)*P7,2) -> 0.16 | Q18: =ROUND((G18+H18+I18)*Q7,2) -> 0.25 | R18: =G18+H18+I18+J18+K18+N18+O18+P18+Q18 -> 12.11 | S18: 0 | T18: =R18-S18 -> 12.11 | U18: =G18+H18+I18 -> 7.69 | V18: =J18 -> 1.81 | W18: =K18 -> 0 | X18: 0 | Y18: =O18 -> 2.2 | Z18: =P18 -> 0.16 | AA18: =Q18+N18 -> 0.25 | AB18: 0 | AC18: =SUM(U18:AB18) -> 12.11 | AD18: =S18 -> 0 | AE18: =AC18-AD18 -> 12.11
B19: JAUNS | C19: Biomateriāla lietošana (MTA vai Biodentīna 1 deva) | D19: 15 | E19: 15 | F19: 0 | G19: =ROUND(D19*I7,2) -> 3.6 | H19: =ROUND(E19*J7,2) -> 2.17 | I19: =F19*K7 -> 0 | J19: =ROUND((G19+H19)*0.2359,2) -> 1.36 | K19: =L19+M19 -> 12.1 | L19: 0 | M19: 12.1 | N19: 0 | O19: =ROUND((G19+H19+I19)*O7,2) -> 1.65 | P19: =ROUND((G19+H19+I19)*P7,2) -> 0.12 | Q19: =ROUND((G19+H19+I19)*Q7,2) -> 0.19 | R19: =G19+H19+I19+J19+K19+N19+O19+P19+Q19 -> 21.19 | S19: 0 | T19: =R19-S19 -> 21.19 | U19: =G19+H19+I19 -> 5.77 | V19: =J19 -> 1.36 | W19: =K19 -> 12.1 | X19: 0 | Y19: =O19 -> 1.65 | Z19: =P19 -> 0.12 | AA19: =Q19+N19 -> 0.19 | AB19: 0 | AC19: =SUM(U19:AB19) -> 21.19 | AD19: =S19 -> 0 | AE19: =AC19-AD19 -> 21.19
B20: JAUNS | C20: Stikla šķiedras kompozītmateriāla (piemēram, Everx prosterior) vai dentīta aizstājēja - kompozītmateriāla (piemēram, SDR) lietošana | D20: 5 | E20: 5 | F20: 0 | G20: =ROUND(D20*I7,2) -> 1.2 | H20: =ROUND(E20*J7,2) -> 0.72 | I20: =F20*K7 -> 0 | J20: =ROUND((G20+H20)*0.2359,2) -> 0.45 | K20: =L20+M20 -> 4.97 | L20: 0 | M20: 4.97 | N20: 0 | O20: =ROUND((G20+H20+I20)*O7,2) -> 0.55 | P20: =ROUND((G20+H20+I20)*P7,2) -> 0.04 | Q20: =ROUND((G20+H20+I20)*Q7,2) -> 0.06 | R20: =G20+H20+I20+J20+K20+N20+O20+P20+Q20 -> 7.99 | S20: 0 | T20: =R20-S20 -> 7.99 | U20: =G20+H20+I20 -> 1.92 | V20: =J20 -> 0.45 | W20: =K20 -> 4.97 | X20: 0 | Y20: =O20 -> 0.55 | Z20: =P20 -> 0.04 | AA20: =Q20+N20 -> 0.06 | AB20: 0 | AC20: =SUM(U20:AB20) -> 7.99 | AD20: =S20 -> 0 | AE20: =AC20-AD20 -> 7.99
B21: JAUNS | C21: Gaismā cietējoša materiāla oderēm (piemēram, Septocal vai Vitrebond) lietošana | D21: 3 | E21: 3 | F21: 0 | G21: =ROUND(D21*I7,2) -> 0.72 | H21: =ROUND(E21*J7,2) -> 0.43 | I21: =F21*K7 -> 0 | J21: =ROUND((G21+H21)*0.2359,2) -> 0.27 | K21: =L21+M21 -> 10.96 | L21: 0 | M21: 10.96 | N21: 0 | O21: =ROUND((G21+H21+I21)*O7,2) -> 0.33 | P21: =ROUND((G21+H21+I21)*P7,2) -> 0.02 | Q21: =ROUND((G21+H21+I21)*Q7,2) -> 0.04 | R21: =G21+H21+I21+J21+K21+N21+O21+P21+Q21 -> 12.77 | S21: 0 | T21: =R21-S21 -> 12.77 | U21: =G21+H21+I21 -> 1.15 | V21: =J21 -> 0.27 | W21: =K21 -> 10.96 | X21: 0 | Y21: =O21 -> 0.33 | Z21: =P21 -> 0.02 | AA21: =Q21+N21 -> 0.04 | AB21: 0 | AC21: =SUM(U21:AB21) -> 12.77 | AD21: =S21 -> 0 | AE21: =AC21-AD21 -> 12.77
B25: Manipulācijas kods | C25: Manipulācijas nosaukums | D25: Manip. tarifs, EUR | E25: Aprēķinātais tarifs, EUR | F25: Pacienta līdzmaksājums, EUR | G25: Papildus manip.tarifam nepieciešamais finansējums, EUR | H25: Plānotais pacientu skaits gadā | I25: Plānotais manipulāciju skaits vienam pacientam gadā | J25: Nepieciešamais finansējums gadā, EUR | K25: Papildu informācija par finanšu ietekmes aprēķināšanu | L25: Plānotie apmaksas nosacījumi
L26: Ambulatori | M26: Dienas stacionārā | N26: Stacionārā | O26: Zvaigznītes (* vai **) | P26: Lielā ķirurģiskā operācija | Q26: Citi apmaksas nosacījumi
B27: JAUNS | C27: Biomateriāla lietošana (MTA vai Biodentīna 1 deva) | D27: 0 | E27: =T16 -> 31.69 | F27: =S16 -> 0 | G27: =E27-F27-D27 -> 31.69 | H27: 100000 | I27: 1 | J27: =G27*H27*I27 -> 3169000 | K27: Jaunais pakalpojums no 2024. gada PP saraksta, kuriem netika piešķirts finansējums. | L27: =H27 -> 100000 | M27: 0 | N27: 0 | Q27: Norāda kopā ar manipulāciju 70301 vai 70308.
B28: JAUNS | C28: Konsultācija ārpus ikgadējās apskates | D28: 0 | E28: =T17 -> 7.55 | F28: =S17 -> 0 | G28: =E28-F28-D28 -> 7.55 | H28: 20000 | I28: 1 | J28: =G28*H28*I28 -> 151000 | K28: Jaunais pakalpojums no 2024. gada PP saraksta, kuriem netika piešķirts finansējums. | L28: =H28 -> 20000 | M28: 0 | N28: 0
B29: JAUNS | C29: Piemaksa par darbu ar pacientiem ar garīgiem un psihiskiem traucējumiem, psiholoģiski sarežģītiem pacientiem un pacientiem narkozē | D29: 0 | E29: =T18 -> 12.11 | F29: =S18 -> 0 | G29: =E29-F29-D29 -> 12.11 | H29: 4000 | I29: 1 | J29: =G29*H29*I29 -> 48440 | K29: Jaunais pakalpojums no 2024. gada PP saraksta, kuriem netika piešķirts finansējums. | L29: =H29 -> 4000 | M29: 0 | N29: 0
B30: JAUNS | C30: Biomateriāla lietošana (MTA vai Biodentīna 1 deva) | D30: 0 | E30: =T19 -> 21.19 | F30: =S19 -> 0 | G30: =E30-F30-D30 -> 21.19 | H30: 100000 | I30: 1 | J30: =G30*H30*I30 -> 2119000 | K30: Jaunais pakalpojums no 2024. gada PP saraksta, kuriem netika piešķirts finansējums. | L30: =H30 -> 100000 | M30: 0 | N30: 0 | Q30: Norāda kopā ar manipulāciju 70309.
B31: JAUNS | C31: Stikla šķiedras kompozītmateriāla (piemēram, Everx prosterior) vai dentīta aizstājēja - kompozītmateriāla (piemēram, SDR) lietošana | D31: 0 | E31: =T20 -> 7.99 | F31: =S20 -> 0 | G31: =E31-F31-D31 -> 7.99 | H31: 30000 | I31: 1 | J31: =G31*H31*I31 -> 239700 | K31: Jaunais pakalpojums no 2024. gada PP saraksta, kuriem netika piešķirts finansējums. | L31: =H31 -> 30000 | M31: 0 | N31: 0
B32: JAUNS | C32: Gaismā cietējoša materiāla oderēm (piemēram, Septocal vai Vitrebond) lietošana | D32: 0 | E32: =T21 -> 12.77 | F32: =S21 -> 0 | G32: =E32-F32-D32 -> 12.77 | H32: 100000 | I32: 1 | J32: =G32*H32*I32 -> 1277000 | K32: Jaunais pakalpojums no 2024. gada PP saraksta, kuriem netika piešķirts finansējums. | L32: =H32 -> 100000 | M32: 0 | N32: 0
H33: =SUM(H27:H32) -> 354000 | J33: =SUM(J27:J32) -> 7004140 | L33: =SUM(L27:L32) -> 354000 | M33: =SUM(M27:M32) -> 0 | N33: =SUM(N27:N32) -> 0
B35: Nr. p.k. | C35: Prioritāra pasākuma nosaukums | D35: Pasākuma doma īsumā (pieejamības uzlabošana, jauns pasākums, tarifa izmaiņas, no plāna pasākumiem izrietošs u.c.) | E35: Manip. kods | F35: Manipulācijas nosaukums | G35: Papildus nepieciešamais valsts budžeta finansējums KOPĀ, euro | H35: Papildus nepieciešamais valsts budžeta finansējums, euro
H36: 33.18.00 | I36: 33.17.00 | J36: 33.16.00 | K36: 33.15.00 | L36: 33.14.00 | M36: 33.18.00 | N36: 33.17.00 | O36: 33.16.00 | P36: 33.15.00 | Q36: 33.14.00 | R36: 33.18.00 | S36: 33.17.00 | T36: 33.16.00 | U36: 33.15.00 | V36: 33.14.00
H37: 2027. gadam | M37: 2028. gadam | R37: Turpmāk ik gadu (ja pasākums nav terminēts)
B38: KOPĀ: | H38: =ROUND(SUM(H39:H101),0) -> 0 | I38: =ROUND(SUM(I39:I101),0) -> 0 | J38: =ROUND(SUM(J39:J101),0) -> 0 | K38: =ROUND(SUM(K39:K101),0) -> 0 | L38: =ROUND(SUM(L39:L101),0) -> 7004140 | M38: =ROUND(SUM(M39:M101),0) -> 0 | N38: =ROUND(SUM(N39:N101),0) -> 0 | O38: =ROUND(SUM(O39:O101),0) -> 0 | ... V38: =ROUND(SUM(V39:V101),0) -> 7004140
B39: 16 | D39: Jauns tarifs | E39: JAUNS | F39: Biomateriāla lietošana (MTA vai Biodentīna 1 deva) | H39: 0 | I39: 0 | J39: 0 | K39: 0 | L39: =J27 -> 3169000 | M39: 0 | N39: 0 | O39: =J39 -> 0 | P39: 0 | Q39: =L39 -> 3169000 | R39: 0 | S39: 0 | T39: =O39 -> 0 | U39: 0 | V39: =L39 -> 3169000
B40: 17 | D40: Jauns tarifs | E40: JAUNS | F40: Konsultācija ārpus ikgadējās apskates | H40: 0 | I40: 0 | J40: 0 | K40: 0 | L40: =J28 -> 151000 | M40: 0 | N40: 0 | O40: =J40 -> 0 | P40: 0 | Q40: =L40 -> 151000 | R40: 0 | S40: 0 | T40: =O40 -> 0 | U40: 0 | V40: =L40 -> 151000
B41: 18 | D41: Jauns tarifs | E41: JAUNS | F41: Piemaksa par darbu ar pacientiem ar garīgiem un psihiskiem traucējumiem, psiholoģiski sarežģītiem pacientiem un pacientiem narkozē | H41: 0 | I41: 0 | J41: 0 | K41: 0 | L41: =J29 -> 48440 | M41: 0 | N41: 0 | O41: =J41 -> 0 | P41: 0 | Q41: =L41 -> 48440 | R41: 0 | S41: 0 | T41: =O41 -> 0 | U41: 0 | V41: =L41 -> 48440
B42: 19 | D42: Jauns tarifs | E42: JAUNS | F42: Biomateriāla lietošana (MTA vai Biodentīna 1 deva) | H42: 0 | I42: 0 | J42: 0 | K42: 0 | L42: =J30 -> 2119000 | M42: 0 | N42: 0 | O42: =J42 -> 0 | P42: 0 | Q42: =L42 -> 2119000 | R42: 0 | S42: 0 | T42: =O42 -> 0 | U42: 0 | V42: =L42 -> 2119000
B43: 20 | D43: Jauns tarifs | E43: JAUNS | F43: Stikla šķiedras kompozītmateriāla (piemēram, Everx prosterior) vai dentīta aizstājēja - kompozītmateriāla (piemēram, SDR) lietošana | H43: 0 | I43: 0 | J43: 0 | K43: 0 | L43: =J31 -> 239700 | M43: 0 | N43: 0 | O43: =J43 -> 0 | P43: 0 | Q43: =L43 -> 239700 | R43: 0 | S43: 0 | T43: =O43 -> 0 | U43: 0 | V43: =L43 -> 239700
B44: 21 | D44: Jauns tarifs | E44: JAUNS | F44: Gaismā cietējoša materiāla oderēm (piemēram, Septocal vai Vitrebond) lietošana | H44: 0 | I44: 0 | J44: 0 | K44: 0 | L44: =J32 -> 1277000 | M44: 0 | N44: 0 | O44: =J44 -> 0 | P44: 0 | Q44: =L44 -> 1277000 | R44: 0 | S44: 0 | T44: =O44 -> 0 | U44: 0 | V44: =L44 -> 1277000

Sheet 3.1.5.
P1: Pielikums Nr. 3.1.5.
B3: Pasākums vecmāšu konsultāciju nodrošināšanai meitenēm ar ārējo dzimumorgānu atsevišķu slimību (sinehijas, vulvīts) profilaksei, diagnostikai un ārstēšanai
B6: Apakšprogrammas nosaukums | C6: Papildus nepieciešamais finansējums 2027.gadam | D6: Papildus nepieciešamais finansējums 2028.gadam | E6: Papildus nepieciešamais finansējums turpmāk ik gadu (ja pasākums nav terminēts)
B7: 33.16.00 Pārējo ambulatoro veselības aprūpes pakalpojumu nodrošināšana | C7: =I12 -> 3168 | D7: =C7 -> 3168 | E7: =D7 -> 3168
B10: Manipulācijas kods | C10: Manipulācijas nosaukums | D10: Tarifs, eiro | E10: Plānotais manipulāciju skaits vienam pacientam gadā | F10: Provizoriskais pacientu skaits | I10: Nepieciešamais finansējums gadā, eiro
F11: Ambulatori | G11: Dienas stacionārā | H11: Stacionārā
B12: JAUNS | C12: Vecmātes konsultācija bērniem | D12: =T22 -> 10.56 | E12: 1 | F12: 300 | G12: 0 | H12: 0 | I12: =ROUND(D12*E12*F12,0) -> 3168
G14: Ārsts | H14: Māsa | I14: Palīgpersonāls | J14: Soc.nodoklis | O14: Pieskaitāmās un netiešās ražošanas izmaksas | P14: Administratīvās izmaksas | Q14: Pārējo pamatlīdzekļu amortizācija
F15: Mēneša darba samaksa | G15: 2304 | H15: 1388 | I15: 925
F16: 1 minūtes vērtība darba samaksai | G16: =ROUND(G15/9600,4) -> 0.24 | H16: =ROUND(H15/9600,4) -> 0.1446 | I16: =ROUND(I15/9600,4) -> 0.0964 | J16: 0.2359 | N16: Koeficienti | O16: 0.2857 | P16: 0.0202 | Q16: 0.0322
B18: Manipulācijas kods | C18: Manipulācijas nosaukums | D18: Mainīgās izmaksas | R18: Kopējās izmaksas, euro | S18: Pacienta līdzmaksājums, euro | T18: Tarifs, euro
D19: Darba laiks (minūtes) | G19: Darba samaksa D, euro | J19: Valsts sociālās apdrošināšanas obligātās iemaksas S, euro | K19: Ārstniecības līdzekļi M, euro | N19: Iekārtu amortizācija N, euro | O19: Pieskaitāmās un netiešās ražošanas izmaksas U, euro | P19: Administratīvās izmaksas A, euro | Q19: Pārējo pamatlīdzekļu amortizācija n, euro
D20: ārstam | E20: māsai | F20: jaunākajam personālām | G20: ārstam | H20: māsai | I20: jaunākajam personālam | J20: ārstam, māsai un jaunākajam personālām kopā | K20: M kopā | L20: Medikamenti | M20: Materiāli
B21: 1 | C21: 2 | D21: 3 | E21: 4 | F21: 5 | G21: 6 | H21: 7 | I21: 8 | J21: 9 | K21: 10 = 11 + 12 | L21: 11 | M21: 12 | N21: 13 | O21: 14 | P21: 15 | Q21: 16 | R21: 17 | S21: 18 | T21: 19
B22: JAUNS | C22: Vecmātes konsultācija bērniem | D22: 0 | E22: 45 | F22: 0 | G22: =ROUND((D22*G16),2) -> 0 | H22: =ROUND((E22*H16),2) -> 6.51 | I22: =ROUND((F22*I16),2) -> 0 | J22: =ROUND(((G22+H22+I22)*J16),2) -> 1.54 | K22: =L22+M22 -> 0.26 | L22: 0 | M22: 0.26 | N22: 0.05 | O22: =ROUND((G22+H22+I22)*O16,2) -> 1.86 | P22: =ROUND((G22+H22+I22)*P16,2) -> 0.13 | Q22: =ROUND((G22+H22+I22)*Q16,2) -> 0.21 | R22: =ROUND((G22+H22+I22+J22+K22+N22+O22+P22+Q22),2) -> 10.56 | S22: 0 | T22: =R22-S22 -> 10.56
B24: Pacientu skaits saskaņā ar BKUS iesniegto.

Sheet 3.2.2.
J1: Pielikums Nr.3.2.2.
A3: Izvērtēt iespēju paplašināt pakalpojuma „Agrīnās intervences” psihosociālās rehabilitācijas pakalpojuma pieejamību bērniem ar neirālās attīstības traucējumu (piem., AST) risku aptveri visā Latvijas teritorijā.
A5: Apakšprogrammas nosaukums | B5: Papildus nepieciešamais finansējums 2027.gadam | C5: Papildus nepieciešamais finansējums 2028.gadam | D5: Papildus nepieciešamais finansējums 2029.gadam | E5: Papildus nepieciešamais finansējums turpmāk ik gadu (ja pasākums nav terminēts)
A6: 33.16.00 "Pārējo ambulatoro veselības aprūpes pakalpojumu nodrošināšana" | B6: =I9 -> 474072.4 | C6: =B6 -> 474072.4 | D6: =C6 -> 474072.4 | E6: =D6 -> 474072.4
A8: Pakalpojumu programma | B8: Plānotā līguma summa 2025. gadam | C8: Plānotā līguma summa periodam 2025.gada janvāris -maijs | D8: Veiktais darbs janvāris - maijs | E8: Pārstrāde (+)/ neizpilde (-) | F8: Izpildes % | G8: Unikālo pacientu skaits periodā 2025.gada janvāris-maijs | H8: Vidējā izmaksa uz vienu unikālo pacientu | I8: Prognozētā pārstrāde periodā 2025.gada janvāris- decembris | J8: Rezultatīvais rādītājs papildus nepieciešamajam finansējumam
A9: AP132 - Agrīnās intervences pakalpojumi bērniem ar autiskā spektra traucējumiem | B9: 618074 | C9: 257531 | D9: 455061 | E9: =D9-C9 -> 197530 | F9: 1.7505 | G9: 479 | H9: =D9/G9 -> 950.02296 | I9: =D9/5*12-B9 -> 474072.4 | J9: 499

Sheet 3.2.4.
G1: Pielikums Nr.3.2.4.
A2: Pakalpojumu tarifu pārskatīšana specifiskai alergēnimūnterapijai
A3: Pārskatīts manipulācijas tarifs, lai nodrošinātu valsts apmaksātu specifisku alergēnimūnterapiju visiem pacientiem līdz 18 gadu vecumam, kuriem ir konstatēts anafilakses risks pret bites vai lapsenes indi
A4: Apakšprogrammas nosaukums | B4: Papildus nepieciešamais finansējums 2026.gadam, euro | C4: Papildus nepieciešamais finansējums 2027.gadam, euro | D4: Papildus nepieciešamais finansējums 2028.gadam | E4: Papildus nepieciešamais finansējums turpmāk ik gadu (ja pasākums nav terminēts)
A5: 33.21.00 “Stacionāro veselības aprūpes pakalpojumu nodrošināšana“ | B5: =ROUND(E22*F22*I22,0) -> 1352 | C5: =B5 -> 1352 | D5: =C5 -> 1352 | E5: =D5 -> 1352
A6: 33.16.00 “Pārējo ambulatoro veselības aprūpes pakalpojumu nodrošināšana“ | B6: =ROUND(E22*F22*G22,0) -> 4192 | C6: =B6 -> 4192 | D6: =C6 -> 4192 | E6: =D6 -> 4192
A7: Kopā, euro: | B7: =SUM(B5:B6) -> 5544 | C7: =SUM(C5:C6) -> 5544 | D7: =SUM(D5:D6) -> 5544 | E7: =SUM(E5:E6) -> 5544
H8: Ārsta darba samaksa, euro | I8: Māsas darba samaksa, euro | J8: Palīgpersonāla darba samaksa, euro | K8: Soc.nodoklis % | N8: Pieskaitāmās un netiešās ražošanas izmaksas | O8: Administratīvās izmaksas | P8: Pārējo pamatlīdzekļu amortizācija
G9: Mēneša darba samaksa | H9: 2304 | I9: 1388 | J9: 925
G10: 1 minūtes vērtība darba samaksai | H10: =ROUND(H9/9600,4) -> 0.24 | I10: =ROUND(I9/9600,4) -> 0.1446 | J10: =ROUND(J9/9600,4) -> 0.0964 | K10: 0.2359 | M10: Koeficienti | N10: 0.2857 | O10: 0.0202 | P10: 0.0322
A12: Manipulācijas kods | B12: Manipulācijas nosaukums | C12: Mainīgās izmaksas | Q12: Kopējās izmaksas, euro | R12: Pacienta līdzmaksājums, euro | S12: Tarifs, euro
C13: Darba laiks (minūtes) | F13: Darba samaksa D, euro | I13: Valsts sociālās adrošināšanas obligātās iemaksas S, euro | J13: Ārstniecības līdzekļi M, euro | M13: Iekārtu amortizācija N, euro | N13: Pieskaitāmās un netiešās ražošanas izmaksas U, euro | O13: Administratīvās izmaksas A, euro | P13: Pārējo pamatlīdzekļu amortizācija n, euro
C14: ārstam | D14: māsai | E14: jaunākajam personālām | F14: ārstam | G14: māsai | H14: jaunākajam personālam | I14: ārstam, māsai un jaunākajam personālām kopā | J14: M kopā | K14: Medikamenti | L14: Materiāli
A15: 1 | B15: 2 | C15: 3 | D15: 4 | E15: 5 | F15: 6 | G15: 7 | H15: 8 | I15: 9 | J15: 10 = 11 + 12 | K15: 11 | L15: 12 | M15: 13 | N15: 14 | O15: 15 | P15: 16 | Q15: 17 | R15: 18 | S15: 19
A16: 10026 | B16: Specifiskā imūnterapija ar alergēna injekciju (hiposensibilizācija) ar bišu, lapseņu indi, ieskaitot alergēna vērtību | C16: 25 | D16: 25 | E16: 0 | F16: =ROUND((C16*H10),2) -> 6 | G16: =ROUND((D16*I10),2) -> 3.62 | H16: =ROUND((E16*J10),2) -> 0 | I16: =ROUND(((F16+G16+H16)*K10),2) -> 2.27 | J16: =K16+L16 -> 4.18 | K16: 2.65 | L16: 1.53 | M16: 0 | N16: =ROUND((F16+G16+H16)*N10,2) -> 2.75 | O16: =ROUND((F16+G16+H16)*O10,2) -> 0.19 | P16: =ROUND((F16+G16+H16)*P10,2) -> 0.31 | Q16: =ROUND((F16+G16+H16+I16+J16+M16+N16+O16+P16),2) -> 19.32 | R16: 0 | S16: =Q16-R16 -> 19.32
A17: PĀRRĒĶINS 10026 | B17: Specifiskā imūnterapija ar alergēna injekciju (hiposensibilizācija) ar bišu, lapseņu indi, ieskaitot alergēna vērtību | C17: 25 | D17: 25 | E17: 0 | F17: =ROUND((C17*H10),2) -> 6 | G17: =ROUND((D17*I10),2) -> 3.62 | H17: =ROUND((E17*J10),2) -> 0 | I17: =ROUND(((F17+G17+H17)*K10),2) -> 2.27 | J17: =K17+L17 -> 71.52 | K17: 69.99 | L17: 1.53 | M17: 0.28 | N17: =ROUND((F17+G17+H17)*N10,2) -> 2.75 | O17: =ROUND((F17+G17+H17)*O10,2) -> 0.19 | P17: =ROUND((F17+G17+H17)*P10,2) -> 0.31 | Q17: =ROUND((F17+G17+H17+I17+J17+M17+N17+O17+P17),2) -> 86.94 | R17: 0 | S17: =Q17-R17 -> 86.94
A20: Manipulācijas kods | B20: Manipulācijas nosaukums | C20: Tarifs, euro | D20: Pārrēķinātais tarifs, euro | E20: Papildus nepieciešamais finansējums manipulācijai | F20: Plānotais manipulāciju skaits vienam pacientam gadā | G20: Provizoriskais manipulāciju skaits | J20: Nepieciešamais finansējums gadā, euro
G21: Ambulatori | H21: Dienas stacionārā | I21: Stacionārā
A22: PĀRRĒĶINS 10026 | B22: Specifiskā imūnterapija ar alergēna injekciju (hiposensibilizācija) ar bišu, lapseņu indi, ieskaitot alergēna vērtību | C22: =S16 -> 19.32 | D22: =S17 -> 86.94 | E22: =D22-C22 -> 67.62 | F22: 1 | G22: 62 | H22: 0 | I22: 20 | J22: =E22*F22*(G22+I22) -> 5544.84
A23: Pacientu skaits saskaņā ar 2024. gada statistiku.

Sheet 3.3.1.1.
Q1: Pielikums Nr.3.3.1.1.
B2: Medicīniskās apaugļošanas tarifi (embriju sasaldēšana un atsaldēšana)
C5: Papildus nepieciešamais finansējums 2027.gadam | D5: Papildus nepieciešamais finansējums 2028.gadam | E5: Turpmāk ik gadu (ja pasākums nav terminēts) | I5: Ārsts | J5: Māsa | K5: Palīgpersonāls | L5: Soc.nodoklis | O5: Pieskaitāmās un netiešās ražošanas izmaksas | P5: Administratīvās izmaksas | Q5: Pārējo pamatlīdzekļu amortizācija
B6: 33.18.00 Plānveida stacionāro veselības aprūpes pakalpojumu nodrošināšana | C6: =H34 -> 0 | D6: =C6 -> 0 | E6: =C6 -> 0 | G6: Mēneša darba samaksa | I6: 2304 | J6: 1388 | K6: 925
